BEGIN:VCALENDAR
VERSION:2.0
PRODID:-//EZFacility.com, Inc.//EZL 2.5.5.28621
BEGIN:VEVENT
UID:13091293@ezleagues.ezfacility.com
DTSTAMP:20260426T034839Z
CREATED:20260426T034839Z
DTSTART:20200210T220000Z
DTEND:20200210T224800Z
LOCATION:Harmans Premier Field #4
CONTACT:
SUMMARY:2006 Liverpool VS. 2005 Pasadena SC Predators 
DESCRIPTION:League Name: Youth (WINTER 2) (SD2) (M-F) 2005/2006 Girls GOLD\
 nGame Type: Regular\nGame Status: Complete\nHome Team: 2006 Liverpool\nAwa
 y Team: 2005 Pasadena SC Predators \nHome Score: 7\nAway Score: 2
END:VEVENT
BEGIN:VEVENT
UID:13091309@ezleagues.ezfacility.com
DTSTAMP:20260426T034839Z
CREATED:20260426T034839Z
DTSTART:20200219T220000Z
DTEND:20200219T224800Z
LOCATION:Harmans Premier Field #5
CONTACT:
SUMMARY:2006 Liverpool VS. 2006 PSC Tornadoes 
DESCRIPTION:League Name: Youth (WINTER 2) (SD2) (M-F) 2005/2006 Girls GOLD\
 nGame Type: Regular\nGame Status: Complete\nHome Team: 2006 Liverpool\nAwa
 y Team: 2006 PSC Tornadoes \nHome Score: 6\nAway Score: 2
END:VEVENT
BEGIN:VEVENT
UID:13091324@ezleagues.ezfacility.com
DTSTAMP:20260426T034839Z
CREATED:20260426T034839Z
DTSTART:20200224T230000Z
DTEND:20200224T234800Z
LOCATION:Harmans Premier Field #5
CONTACT:
SUMMARY:2006 SEVP Venom  VS. 2006 Liverpool
DESCRIPTION:League Name: Youth (WINTER 2) (SD2) (M-F) 2005/2006 Girls GOLD\
 nGame Type: Regular\nGame Status: Complete\nHome Team: 2006 SEVP Venom \nA
 way Team: 2006 Liverpool\nHome Score: 1\nAway Score: 7
END:VEVENT
BEGIN:VEVENT
UID:13091338@ezleagues.ezfacility.com
DTSTAMP:20260426T034839Z
CREATED:20260426T034839Z
DTSTART:20200304T230000Z
DTEND:20200304T234800Z
LOCATION:Harmans Premier Field #5
CONTACT:
SUMMARY:2005 ASA Fire VS. 2006 Liverpool
DESCRIPTION:League Name: Youth (WINTER 2) (SD2) (M-F) 2005/2006 Girls GOLD\
 nGame Type: Regular\nGame Status: Complete\nHome Team: 2005 ASA Fire\nAway
  Team: 2006 Liverpool\nHome Score: 2\nAway Score: 1
END:VEVENT
BEGIN:VEVENT
UID:13091352@ezleagues.ezfacility.com
DTSTAMP:20260426T034839Z
CREATED:20260426T034839Z
DTSTART:20200310T220000Z
DTEND:20200310T224800Z
LOCATION:Harmans Premier Field #5
CONTACT:
SUMMARY:2006 HES Black Flames VS. 2006 Liverpool
DESCRIPTION:League Name: Youth (WINTER 2) (SD2) (M-F) 2005/2006 Girls GOLD\
 nGame Type: Regular\nGame Status: Complete\nHome Team: 2006 HES Black Flam
 es\nAway Team: 2006 Liverpool\nHome Score: 2\nAway Score: 8
END:VEVENT
END:VCALENDAR
