BEGIN:VCALENDAR
VERSION:2.0
PRODID:-//EZFacility.com, Inc.//EZL 2.5.5.28621
BEGIN:VEVENT
UID:13091289@ezleagues.ezfacility.com
DTSTAMP:20260426T033842Z
CREATED:20260426T033842Z
DTSTART:20200212T223000Z
DTEND:20200212T231800Z
LOCATION:Harmans Premier Field #4
CONTACT:
SUMMARY:2004 Lady Tigers 2  VS. 2005 Lightning 
DESCRIPTION:League Name: Youth (WINTER 2) (SD2) (M-F) 2005/2006 Girl SILVER
 \nGame Type: Regular\nGame Status: Complete\nHome Team: 2004 Lady Tigers 2
  \nAway Team: 2005 Lightning \nHome Score: 0\nAway Score: 4
END:VEVENT
BEGIN:VEVENT
UID:13091304@ezleagues.ezfacility.com
DTSTAMP:20260426T033842Z
CREATED:20260426T033842Z
DTSTART:20200218T230000Z
DTEND:20200218T234800Z
LOCATION:Harmans Premier Field #5
CONTACT:
SUMMARY:2005 Tiley-Ericka Select  VS. 2005 Lightning 
DESCRIPTION:League Name: Youth (WINTER 2) (SD2) (M-F) 2005/2006 Girl SILVER
 \nGame Type: Regular\nGame Status: Complete\nHome Team: 2005 Tiley-Ericka 
 Select \nAway Team: 2005 Lightning \nHome Score: 3\nAway Score: 4
END:VEVENT
BEGIN:VEVENT
UID:13091318@ezleagues.ezfacility.com
DTSTAMP:20260426T033842Z
CREATED:20260426T033842Z
DTSTART:20200224T220000Z
DTEND:20200224T224800Z
LOCATION:Harmans Premier Field #5
CONTACT:
SUMMARY:2005 Severna Park Fire White  VS. 2005 Lightning 
DESCRIPTION:League Name: Youth (WINTER 2) (SD2) (M-F) 2005/2006 Girl SILVER
 \nGame Type: Regular\nGame Status: Complete\nHome Team: 2005 Severna Park 
 Fire White \nAway Team: 2005 Lightning \nHome Score: 6\nAway Score: 2
END:VEVENT
BEGIN:VEVENT
UID:13091332@ezleagues.ezfacility.com
DTSTAMP:20260426T033842Z
CREATED:20260426T033842Z
DTSTART:20200302T220000Z
DTEND:20200302T224800Z
LOCATION:Harmans Premier Field #5
CONTACT:
SUMMARY:2004 HES Tornadoes  VS. 2005 Lightning 
DESCRIPTION:League Name: Youth (WINTER 2) (SD2) (M-F) 2005/2006 Girl SILVER
 \nGame Type: Regular\nGame Status: Complete\nHome Team: 2004 HES Tornadoes
  \nAway Team: 2005 Lightning \nHome Score: 3\nAway Score: 0
END:VEVENT
BEGIN:VEVENT
UID:13091346@ezleagues.ezfacility.com
DTSTAMP:20260426T033842Z
CREATED:20260426T033842Z
DTSTART:20200309T210000Z
DTEND:20200309T214800Z
LOCATION:Harmans Premier Field #5
CONTACT:
SUMMARY:2005 Lightning  VS. 2006 PSC Twisters
DESCRIPTION:League Name: Youth (WINTER 2) (SD2) (M-F) 2005/2006 Girl SILVER
 \nGame Type: Regular\nGame Status: Complete\nHome Team: 2005 Lightning \nA
 way Team: 2006 PSC Twisters\nHome Score: 1\nAway Score: 10
END:VEVENT
END:VCALENDAR
