BEGIN:VCALENDAR
VERSION:2.0
PRODID:-//EZFacility.com, Inc.//EZL 2.5.5.28621
BEGIN:VEVENT
UID:13091289@ezleagues.ezfacility.com
DTSTAMP:20260426T034958Z
CREATED:20260426T034958Z
DTSTART:20200212T223000Z
DTEND:20200212T231800Z
LOCATION:Harmans Premier Field #4
CONTACT:
SUMMARY:2004 Lady Tigers 2  VS. 2005 Lightning 
DESCRIPTION:League Name: Youth (WINTER 2) (SD2) (M-F) 2005/2006 Girl SILVER
 \nGame Type: Regular\nGame Status: Complete\nHome Team: 2004 Lady Tigers 2
  \nAway Team: 2005 Lightning \nHome Score: 0\nAway Score: 4
END:VEVENT
BEGIN:VEVENT
UID:13091303@ezleagues.ezfacility.com
DTSTAMP:20260426T034958Z
CREATED:20260426T034958Z
DTSTART:20200217T220000Z
DTEND:20200217T224800Z
LOCATION:Harmans Premier Field #5
CONTACT:
SUMMARY:2006 HES Angels VS. 2004 Lady Tigers 2 
DESCRIPTION:League Name: Youth (WINTER 2) (SD2) (M-F) 2005/2006 Girl SILVER
 \nGame Type: Regular\nGame Status: Complete\nHome Team: 2006 HES Angels\nA
 way Team: 2004 Lady Tigers 2 \nHome Score: 1\nAway Score: 1
END:VEVENT
BEGIN:VEVENT
UID:13091317@ezleagues.ezfacility.com
DTSTAMP:20260426T034958Z
CREATED:20260426T034958Z
DTSTART:20200228T230000Z
DTEND:20200228T234800Z
LOCATION:Harmans Premier Field #4
CONTACT:
SUMMARY:2005 Blue Lightning  VS. 2004 Lady Tigers 2 
DESCRIPTION:League Name: Youth (WINTER 2) (SD2) (M-F) 2005/2006 Girl SILVER
 \nGame Type: Regular\nGame Status: Complete\nHome Team: 2005 Blue Lightnin
 g \nAway Team: 2004 Lady Tigers 2 \nHome Score: 3\nAway Score: 1
END:VEVENT
BEGIN:VEVENT
UID:13091331@ezleagues.ezfacility.com
DTSTAMP:20260426T034958Z
CREATED:20260426T034958Z
DTSTART:20200306T230000Z
DTEND:20200306T234800Z
LOCATION:Harmans Premier Field #4
CONTACT:
SUMMARY:2006 PSC Twisters VS. 2004 Lady Tigers 2 
DESCRIPTION:League Name: Youth (WINTER 2) (SD2) (M-F) 2005/2006 Girl SILVER
 \nGame Type: Regular\nGame Status: Complete\nHome Team: 2006 PSC Twisters\
 nAway Team: 2004 Lady Tigers 2 \nHome Score: 7\nAway Score: 0
END:VEVENT
BEGIN:VEVENT
UID:13091347@ezleagues.ezfacility.com
DTSTAMP:20260426T034958Z
CREATED:20260426T034958Z
DTSTART:20200310T210000Z
DTEND:20200310T214800Z
LOCATION:Harmans Premier Field #5
CONTACT:
SUMMARY:2004 Lady Tigers 2  VS. 2005 Tiley-Ericka Select 
DESCRIPTION:League Name: Youth (WINTER 2) (SD2) (M-F) 2005/2006 Girl SILVER
 \nGame Type: Regular\nGame Status: Complete\nHome Team: 2004 Lady Tigers 2
  \nAway Team: 2005 Tiley-Ericka Select \nHome Score: 0\nAway Score: 4
END:VEVENT
END:VCALENDAR
