BEGIN:VCALENDAR
VERSION:2.0
PRODID:-//EZFacility.com, Inc.//EZL 2.5.5.28621
BEGIN:VEVENT
UID:13092596@ezleagues.ezfacility.com
DTSTAMP:20260424T044420Z
CREATED:20260424T044420Z
DTSTART:20200127T011500Z
DTEND:20200127T021000Z
LOCATION:PFFC Field House - A
CONTACT:
SUMMARY:Babylon 2 VS. The Barber
DESCRIPTION:League Name: MSL Soccer - Sunday Men's Open -  Division 4 West\
 nGame Type: Regular\nGame Status: Complete\nHome Team: Babylon 2\nAway Tea
 m: The Barber\nHome Score: 8\nAway Score: 5
END:VEVENT
BEGIN:VEVENT
UID:13092597@ezleagues.ezfacility.com
DTSTAMP:20260424T044420Z
CREATED:20260424T044420Z
DTSTART:20200203T002000Z
DTEND:20200203T011500Z
LOCATION:PFFC Field House - A
CONTACT:
SUMMARY:Babylon 2 VS. Misfits FC
DESCRIPTION:League Name: MSL Soccer - Sunday Men's Open -  Division 4 West\
 nGame Type: Regular\nGame Status: Complete\nHome Team: Babylon 2\nAway Tea
 m: Misfits FC\nHome Score: 4\nAway Score: 2
END:VEVENT
BEGIN:VEVENT
UID:13093215@ezleagues.ezfacility.com
DTSTAMP:20260424T044420Z
CREATED:20260424T044420Z
DTSTART:20200210T040000Z
DTEND:20200210T045500Z
LOCATION:PFFC Field House - B
CONTACT:
SUMMARY:Renegades VS. Babylon 2
DESCRIPTION:League Name: MSL Soccer - Sunday Men's Open -  Division 4 West\
 nGame Type: Regular\nGame Status: Complete\nHome Team: Renegades\nAway Tea
 m: Babylon 2\nHome Score: 3\nAway Score: 2
END:VEVENT
BEGIN:VEVENT
UID:13093255@ezleagues.ezfacility.com
DTSTAMP:20260424T044420Z
CREATED:20260424T044420Z
DTSTART:20200217T040000Z
DTEND:20200217T045500Z
LOCATION:PFFC Field House - C
CONTACT:
SUMMARY:Cocolocos FC VS. Babylon 2
DESCRIPTION:League Name: MSL Soccer - Sunday Men's Open -  Division 4 West\
 nGame Type: Regular\nGame Status: Complete\nHome Team: Cocolocos FC\nAway 
 Team: Babylon 2\nHome Score: 0\nAway Score: 9
END:VEVENT
BEGIN:VEVENT
UID:13093294@ezleagues.ezfacility.com
DTSTAMP:20260424T044420Z
CREATED:20260424T044420Z
DTSTART:20200224T030500Z
DTEND:20200224T040000Z
LOCATION:PFFC Field House - D
CONTACT:
SUMMARY:Babylon 2 VS. Tonianka
DESCRIPTION:League Name: MSL Soccer - Sunday Men's Open -  Division 4 West\
 nGame Type: Regular\nGame Status: Complete\nHome Team: Babylon 2\nAway Tea
 m: Tonianka\nHome Score: 7\nAway Score: 8
END:VEVENT
BEGIN:VEVENT
UID:13093333@ezleagues.ezfacility.com
DTSTAMP:20260424T044420Z
CREATED:20260424T044420Z
DTSTART:20200302T011500Z
DTEND:20200302T021000Z
LOCATION:PFFC Field House - C
CONTACT:
SUMMARY:Etobicoke Old Boys VS. Babylon 2
DESCRIPTION:League Name: MSL Soccer - Sunday Men's Open -  Division 4 West\
 nGame Type: Regular\nGame Status: Complete\nHome Team: Etobicoke Old Boys\
 nAway Team: Babylon 2\nHome Score: 1\nAway Score: 3
END:VEVENT
BEGIN:VEVENT
UID:13093372@ezleagues.ezfacility.com
DTSTAMP:20260424T044420Z
CREATED:20260424T044420Z
DTSTART:20200308T232000Z
DTEND:20200309T001500Z
LOCATION:PFFC Dome - 4
CONTACT:
SUMMARY:3rd Line Kings VS. Babylon 2
DESCRIPTION:League Name: MSL Soccer - Sunday Men's Open -  Division 4 West\
 nGame Type: Regular\nGame Status: Complete\nHome Team: 3rd Line Kings\nAwa
 y Team: Babylon 2\nHome Score: 1\nAway Score: 2
END:VEVENT
BEGIN:VEVENT
UID:13093413@ezleagues.ezfacility.com
DTSTAMP:20260424T044420Z
CREATED:20260424T044420Z
DTSTART:20200316T001500Z
DTEND:20200316T011000Z
LOCATION:PFFC Field House - A
CONTACT:
SUMMARY:Babylon 2 VS. Alright Guys
DESCRIPTION:League Name: MSL Soccer - Sunday Men's Open -  Division 4 West\
 nGame Type: Regular\nGame Status: Pending\nHome Team: Babylon 2\nAway Team
 : Alright Guys\n
END:VEVENT
BEGIN:VEVENT
UID:13093454@ezleagues.ezfacility.com
DTSTAMP:20260424T044420Z
CREATED:20260424T044420Z
DTSTART:20200323T001500Z
DTEND:20200323T011000Z
LOCATION:PFFC Dome - 1
CONTACT:
SUMMARY:Renegades VS. Babylon 2
DESCRIPTION:League Name: MSL Soccer - Sunday Men's Open -  Division 4 West\
 nGame Type: Regular\nGame Status: Pending\nHome Team: Renegades\nAway Team
 : Babylon 2\n
END:VEVENT
BEGIN:VEVENT
UID:13093495@ezleagues.ezfacility.com
DTSTAMP:20260424T044420Z
CREATED:20260424T044420Z
DTSTART:20200330T011000Z
DTEND:20200330T020500Z
LOCATION:PFFC Field House - C
CONTACT:
SUMMARY:Babylon 2 VS. The Barber
DESCRIPTION:League Name: MSL Soccer - Sunday Men's Open -  Division 4 West\
 nGame Type: Regular\nGame Status: Postponed\nHome Team: Babylon 2\nAway Te
 am: The Barber\n
END:VEVENT
BEGIN:VEVENT
UID:13093535@ezleagues.ezfacility.com
DTSTAMP:20260424T044420Z
CREATED:20260424T044420Z
DTSTART:20200406T011000Z
DTEND:20200406T020500Z
LOCATION:PFFC Field House - D
CONTACT:
SUMMARY:Babylon 2 VS. Inter Exit
DESCRIPTION:League Name: MSL Soccer - Sunday Men's Open -  Division 4 West\
 nGame Type: Regular\nGame Status: Postponed\nHome Team: Babylon 2\nAway Te
 am: Inter Exit\n
END:VEVENT
BEGIN:VEVENT
UID:13093574@ezleagues.ezfacility.com
DTSTAMP:20260424T044420Z
CREATED:20260424T044420Z
DTSTART:20200416T005000Z
DTEND:20200416T014500Z
LOCATION:PFFC Field House - D
CONTACT:
SUMMARY:Tonianka VS. Babylon 2
DESCRIPTION:League Name: MSL Soccer - Sunday Men's Open -  Division 4 West\
 nGame Type: Regular\nGame Status: Pending\nHome Team: Tonianka\nAway Team:
  Babylon 2\n
END:VEVENT
BEGIN:VEVENT
UID:13093613@ezleagues.ezfacility.com
DTSTAMP:20260424T044420Z
CREATED:20260424T044420Z
DTSTART:20200420T001500Z
DTEND:20200420T011000Z
LOCATION:PFFC Field House - C
CONTACT:
SUMMARY:Babylon 2 VS. Etobicoke Old Boys
DESCRIPTION:League Name: MSL Soccer - Sunday Men's Open -  Division 4 West\
 nGame Type: Regular\nGame Status: Pending\nHome Team: Babylon 2\nAway Team
 : Etobicoke Old Boys\n
END:VEVENT
BEGIN:VEVENT
UID:13093652@ezleagues.ezfacility.com
DTSTAMP:20260424T044420Z
CREATED:20260424T044420Z
DTSTART:20200426T232000Z
DTEND:20200427T001500Z
LOCATION:PFFC Dome - 1
CONTACT:
SUMMARY:Babylon 2 VS. 3rd Line Kings
DESCRIPTION:League Name: MSL Soccer - Sunday Men's Open -  Division 4 West\
 nGame Type: Regular\nGame Status: Pending\nHome Team: Babylon 2\nAway Team
 : 3rd Line Kings\n
END:VEVENT
END:VCALENDAR
