BEGIN:VCALENDAR
VERSION:2.0
PRODID:-//EZFacility.com, Inc.//EZL 2.5.5.28621
BEGIN:VEVENT
UID:13124766@ezleagues.ezfacility.com
DTSTAMP:20260422T062622Z
CREATED:20260422T062622Z
DTSTART:20200226T000000Z
DTEND:20200226T004500Z
LOCATION:North Court
CONTACT:Glissmann
SUMMARY:Disappearing Cows VS. Charlie's Angels
DESCRIPTION:League Name: Volleyball (Intermediate)\nGame Type: Regular\nGam
 e Status: Complete\nHome Team: Disappearing Cows\nAway Team: Charlie's Ang
 els\nHome Score: 1\nAway Score: 2
END:VEVENT
BEGIN:VEVENT
UID:13148457@ezleagues.ezfacility.com
DTSTAMP:20260422T062622Z
CREATED:20260422T062622Z
DTSTART:20200304T013000Z
DTEND:20200304T021500Z
LOCATION:South Court
CONTACT:Gautam
SUMMARY:Charlie's Angels VS. Free Agents
DESCRIPTION:League Name: Volleyball (Intermediate)\nGame Type: Regular\nGam
 e Status: Complete\nHome Team: Charlie's Angels\nAway Team: Free Agents\nH
 ome Score: 2\nAway Score: 0
END:VEVENT
BEGIN:VEVENT
UID:13163505@ezleagues.ezfacility.com
DTSTAMP:20260422T062622Z
CREATED:20260422T062622Z
DTSTART:20200310T234500Z
DTEND:20200311T003000Z
LOCATION:South Court
CONTACT:Gautam
SUMMARY:Path/Micro VS. Charlie's Angels
DESCRIPTION:League Name: Volleyball (Intermediate)\nGame Type: Regular\nGam
 e Status: Complete\nHome Team: Path/Micro\nAway Team: Charlie's Angels\nHo
 me Score: 1\nAway Score: 2
END:VEVENT
BEGIN:VEVENT
UID:13164045@ezleagues.ezfacility.com
DTSTAMP:20260422T062622Z
CREATED:20260422T062622Z
DTSTART:20200317T230000Z
DTEND:20200317T234500Z
LOCATION:North Court
CONTACT:Glissmann
SUMMARY:Charlie's Angels VS. Setters of Catan
DESCRIPTION:League Name: Volleyball (Intermediate)\nGame Type: Regular\nGam
 e Status: Cancelled\nHome Team: Charlie's Angels\nAway Team: Setters of Ca
 tan\n
END:VEVENT
BEGIN:VEVENT
UID:13164144@ezleagues.ezfacility.com
DTSTAMP:20260422T062622Z
CREATED:20260422T062622Z
DTSTART:20200401T011500Z
DTEND:20200401T020000Z
LOCATION:North Court
CONTACT:Glissmann
SUMMARY:5 kids & an old lady VS. Charlie's Angels
DESCRIPTION:League Name: Volleyball (Intermediate)\nGame Type: Regular\nGam
 e Status: Cancelled\nHome Team: 5 kids & an old lady\nAway Team: Charlie's
  Angels\n
END:VEVENT
BEGIN:VEVENT
UID:13164148@ezleagues.ezfacility.com
DTSTAMP:20260422T062622Z
CREATED:20260422T062622Z
DTSTART:20200407T180000Z
DTEND:20200407T184500Z
LOCATION:TBA
CONTACT:
SUMMARY:Charlie's Angels VS. TBA
DESCRIPTION:League Name: Volleyball (Intermediate)\nGame Type: Postseason\n
 Game Status: Cancelled\nHome Team: Charlie's Angels\nAway Team: TBA\n
END:VEVENT
BEGIN:VEVENT
UID:13164160@ezleagues.ezfacility.com
DTSTAMP:20260422T062622Z
CREATED:20260422T062622Z
DTSTART:20200414T180000Z
DTEND:20200414T184500Z
LOCATION:TBA
CONTACT:
SUMMARY:Charlie's Angels VS. TBA
DESCRIPTION:League Name: Volleyball (Intermediate)\nGame Type: Postseason\n
 Game Status: Cancelled\nHome Team: Charlie's Angels\nAway Team: TBA\n
END:VEVENT
END:VCALENDAR
