BEGIN:VCALENDAR
VERSION:2.0
PRODID:-//EZFacility.com, Inc.//EZL 2.5.5.28621
BEGIN:VEVENT
UID:13092986@ezleagues.ezfacility.com
DTSTAMP:20260424T044323Z
CREATED:20260424T044323Z
DTSTART:20200127T030500Z
DTEND:20200127T040000Z
LOCATION:PFFC Field House - C
CONTACT:
SUMMARY:Les Bleus VS. Willian Dolla Baby
DESCRIPTION:League Name: MSL Soccer - Sunday Men's Open -  Division 6 West\
 nGame Type: Regular\nGame Status: Complete\nHome Team: Les Bleus\nAway Tea
 m: Willian Dolla Baby\nHome Score: 2\nAway Score: 4
END:VEVENT
BEGIN:VEVENT
UID:13092932@ezleagues.ezfacility.com
DTSTAMP:20260424T044323Z
CREATED:20260424T044323Z
DTSTART:20200203T021000Z
DTEND:20200203T030500Z
LOCATION:PFFC Field House - C
CONTACT:
SUMMARY:Les Bleus VS. Man United 2020
DESCRIPTION:League Name: MSL Soccer - Sunday Men's Open -  Division 6 West\
 nGame Type: Regular\nGame Status: Complete\nHome Team: Les Bleus\nAway Tea
 m: Man United 2020\nHome Score: 1\nAway Score: 5
END:VEVENT
BEGIN:VEVENT
UID:13093230@ezleagues.ezfacility.com
DTSTAMP:20260424T044323Z
CREATED:20260424T044323Z
DTSTART:20200210T002000Z
DTEND:20200210T011500Z
LOCATION:PFFC Field House - D
CONTACT:
SUMMARY:Tacc FC VS. Les Bleus
DESCRIPTION:League Name: MSL Soccer - Sunday Men's Open -  Division 6 West\
 nGame Type: Regular\nGame Status: Complete\nHome Team: Tacc FC\nAway Team:
  Les Bleus\nHome Score: 1\nAway Score: 3
END:VEVENT
BEGIN:VEVENT
UID:13093231@ezleagues.ezfacility.com
DTSTAMP:20260424T044323Z
CREATED:20260424T044323Z
DTSTART:20200210T021000Z
DTEND:20200210T030500Z
LOCATION:PFFC Field House - D
CONTACT:
SUMMARY:Nspire FC VS. Les Bleus
DESCRIPTION:League Name: MSL Soccer - Sunday Men's Open -  Division 6 West\
 nGame Type: Regular\nGame Status: Complete\nHome Team: Nspire FC\nAway Tea
 m: Les Bleus\nHome Score: 4\nAway Score: 1
END:VEVENT
BEGIN:VEVENT
UID:13093269@ezleagues.ezfacility.com
DTSTAMP:20260424T044323Z
CREATED:20260424T044323Z
DTSTART:20200217T040000Z
DTEND:20200217T045500Z
LOCATION:PFFC Field House - B
CONTACT:
SUMMARY:Les Bleus VS. Dixie Normous
DESCRIPTION:League Name: MSL Soccer - Sunday Men's Open -  Division 6 West\
 nGame Type: Regular\nGame Status: Complete\nHome Team: Les Bleus\nAway Tea
 m: Dixie Normous\nHome Score: 1\nAway Score: 10
END:VEVENT
BEGIN:VEVENT
UID:13093308@ezleagues.ezfacility.com
DTSTAMP:20260424T044323Z
CREATED:20260424T044323Z
DTSTART:20200224T030500Z
DTEND:20200224T040000Z
LOCATION:PFFC Dome - 4
CONTACT:
SUMMARY:Corner Taken Quickly VS. Les Bleus
DESCRIPTION:League Name: MSL Soccer - Sunday Men's Open -  Division 6 West\
 nGame Type: Regular\nGame Status: Complete\nHome Team: Corner Taken Quickl
 y\nAway Team: Les Bleus\nHome Score: 4\nAway Score: 9
END:VEVENT
BEGIN:VEVENT
UID:13093347@ezleagues.ezfacility.com
DTSTAMP:20260424T044323Z
CREATED:20260424T044323Z
DTSTART:20200302T013000Z
DTEND:20200302T022500Z
LOCATION:PFFC Dome - 2
CONTACT:
SUMMARY:Les Bleus VS. Schooners
DESCRIPTION:League Name: MSL Soccer - Sunday Men's Open -  Division 6 West\
 nGame Type: Regular\nGame Status: Complete\nHome Team: Les Bleus\nAway Tea
 m: Schooners\nHome Score: 3\nAway Score: 0
END:VEVENT
BEGIN:VEVENT
UID:13093386@ezleagues.ezfacility.com
DTSTAMP:20260424T044323Z
CREATED:20260424T044323Z
DTSTART:20200308T232000Z
DTEND:20200309T001500Z
LOCATION:PFFC Field House - C
CONTACT:
SUMMARY:Les Bleus VS. Chak FC
DESCRIPTION:League Name: MSL Soccer - Sunday Men's Open -  Division 6 West\
 nGame Type: Regular\nGame Status: Complete\nHome Team: Les Bleus\nAway Tea
 m: Chak FC\nHome Score: 3\nAway Score: 5
END:VEVENT
BEGIN:VEVENT
UID:13093427@ezleagues.ezfacility.com
DTSTAMP:20260424T044323Z
CREATED:20260424T044323Z
DTSTART:20200315T232000Z
DTEND:20200316T001500Z
LOCATION:PFFC Dome - 4
CONTACT:
SUMMARY:Nspire FC VS. Les Bleus
DESCRIPTION:League Name: MSL Soccer - Sunday Men's Open -  Division 6 West\
 nGame Type: Regular\nGame Status: Pending\nHome Team: Nspire FC\nAway Team
 : Les Bleus\n
END:VEVENT
BEGIN:VEVENT
UID:13093468@ezleagues.ezfacility.com
DTSTAMP:20260424T044323Z
CREATED:20260424T044323Z
DTSTART:20200322T222500Z
DTEND:20200322T232000Z
LOCATION:PFFC Field House - A
CONTACT:
SUMMARY:Les Bleus VS. Samba FC
DESCRIPTION:League Name: MSL Soccer - Sunday Men's Open -  Division 6 West\
 nGame Type: Regular\nGame Status: Pending\nHome Team: Les Bleus\nAway Team
 : Samba FC\n
END:VEVENT
BEGIN:VEVENT
UID:13093509@ezleagues.ezfacility.com
DTSTAMP:20260424T044323Z
CREATED:20260424T044323Z
DTSTART:20200330T001500Z
DTEND:20200330T011000Z
LOCATION:PFFC Dome - 1
CONTACT:
SUMMARY:Man United 2020 VS. Les Bleus
DESCRIPTION:League Name: MSL Soccer - Sunday Men's Open -  Division 6 West\
 nGame Type: Regular\nGame Status: Postponed\nHome Team: Man United 2020\nA
 way Team: Les Bleus\n
END:VEVENT
BEGIN:VEVENT
UID:13093550@ezleagues.ezfacility.com
DTSTAMP:20260424T044323Z
CREATED:20260424T044323Z
DTSTART:20200406T030000Z
DTEND:20200406T035500Z
LOCATION:PFFC Field House - C
CONTACT:
SUMMARY:Les Bleus VS. Jam Makers
DESCRIPTION:League Name: MSL Soccer - Sunday Men's Open -  Division 6 West\
 nGame Type: Regular\nGame Status: Postponed\nHome Team: Les Bleus\nAway Te
 am: Jam Makers\n
END:VEVENT
BEGIN:VEVENT
UID:13093631@ezleagues.ezfacility.com
DTSTAMP:20260424T044323Z
CREATED:20260424T044323Z
DTSTART:20200420T011000Z
DTEND:20200420T020500Z
LOCATION:PFFC Field House - A
CONTACT:
SUMMARY:Chak FC VS. Les Bleus
DESCRIPTION:League Name: MSL Soccer - Sunday Men's Open -  Division 6 West\
 nGame Type: Regular\nGame Status: Pending\nHome Team: Chak FC\nAway Team: 
 Les Bleus\n
END:VEVENT
BEGIN:VEVENT
UID:13093591@ezleagues.ezfacility.com
DTSTAMP:20260424T044323Z
CREATED:20260424T044323Z
DTSTART:20200426T232000Z
DTEND:20200427T001500Z
LOCATION:PFFC Dome - 4
CONTACT:
SUMMARY:Sons of Pitches VS. Les Bleus
DESCRIPTION:League Name: MSL Soccer - Sunday Men's Open -  Division 6 West\
 nGame Type: Regular\nGame Status: Pending\nHome Team: Sons of Pitches\nAwa
 y Team: Les Bleus\n
END:VEVENT
END:VCALENDAR
