BEGIN:VCALENDAR
VERSION:2.0
PRODID:-//EZFacility.com, Inc.//EZL 2.5.5.28621
BEGIN:VEVENT
UID:13094462@ezleagues.ezfacility.com
DTSTAMP:20260421T031327Z
CREATED:20260421T031327Z
DTSTART:20200214T230000Z
DTEND:20200215T000000Z
LOCATION:Jessup Premier Field #1
CONTACT:
SUMMARY:2003 SDFC RealBarza VS. 2004 SAC United White
DESCRIPTION:League Name: Youth (WINTER 2) (SD1) (M-F) HS Boys D2 GOLD\nGame
  Type: Regular\nGame Status: Complete\nHome Team: 2003 SDFC RealBarza\nAwa
 y Team: 2004 SAC United White\nHome Score: 9\nAway Score: 1
END:VEVENT
BEGIN:VEVENT
UID:13094476@ezleagues.ezfacility.com
DTSTAMP:20260421T031327Z
CREATED:20260421T031327Z
DTSTART:20200218T220000Z
DTEND:20200218T230000Z
LOCATION:Jessup Premier Field #1
CONTACT:
SUMMARY:2004 SAC United White VS. 2003 Academia GB Falcons
DESCRIPTION:League Name: Youth (WINTER 2) (SD1) (M-F) HS Boys D2 GOLD\nGame
  Type: Regular\nGame Status: Complete\nHome Team: 2004 SAC United White\nA
 way Team: 2003 Academia GB Falcons\nHome Score: 3\nAway Score: 5
END:VEVENT
BEGIN:VEVENT
UID:13094490@ezleagues.ezfacility.com
DTSTAMP:20260421T031327Z
CREATED:20260421T031327Z
DTSTART:20200228T220000Z
DTEND:20200228T230000Z
LOCATION:Jessup Premier Field #1
CONTACT:
SUMMARY:2004 SAC United White VS. 2004 ASA Alliance Blue
DESCRIPTION:League Name: Youth (WINTER 2) (SD1) (M-F) HS Boys D2 GOLD\nGame
  Type: Regular\nGame Status: Complete\nHome Team: 2004 SAC United White\nA
 way Team: 2004 ASA Alliance Blue\nHome Score: 4\nAway Score: 3
END:VEVENT
BEGIN:VEVENT
UID:13094503@ezleagues.ezfacility.com
DTSTAMP:20260421T031327Z
CREATED:20260421T031327Z
DTSTART:20200306T220000Z
DTEND:20200306T230000Z
LOCATION:Jessup Premier Field #1
CONTACT:
SUMMARY:2002 HES Chaos Red VS. 2004 SAC United White
DESCRIPTION:League Name: Youth (WINTER 2) (SD1) (M-F) HS Boys D2 GOLD\nGame
  Type: Regular\nGame Status: Complete\nHome Team: 2002 HES Chaos Red\nAway
  Team: 2004 SAC United White\nHome Score: 7\nAway Score: 1
END:VEVENT
BEGIN:VEVENT
UID:13094515@ezleagues.ezfacility.com
DTSTAMP:20260421T031327Z
CREATED:20260421T031327Z
DTSTART:20200309T220000Z
DTEND:20200309T230000Z
LOCATION:Jessup Premier Field #2
CONTACT:
SUMMARY:2004 GH Surge  VS. 2004 SAC United White
DESCRIPTION:League Name: Youth (WINTER 2) (SD1) (M-F) HS Boys D2 GOLD\nGame
  Type: Regular\nGame Status: Complete\nHome Team: 2004 GH Surge \nAway Tea
 m: 2004 SAC United White\nHome Score: 4\nAway Score: 2
END:VEVENT
END:VCALENDAR
