BEGIN:VCALENDAR
VERSION:2.0
PRODID:-//EZFacility.com, Inc.//EZL 2.5.5.28621
BEGIN:VEVENT
UID:13094460@ezleagues.ezfacility.com
DTSTAMP:20260426T033820Z
CREATED:20260426T033820Z
DTSTART:20200210T230000Z
DTEND:20200211T000000Z
LOCATION:Jessup Premier Field #1
CONTACT:
SUMMARY:2006/07 Baltimore Rangers  VS. 2006 HES Sting
DESCRIPTION:League Name: Youth (WINTER 2) (SD1) (M-F) 2006 Boys (U14)\nGame
  Type: Regular\nGame Status: Complete\nHome Team: 2006/07 Baltimore Ranger
 s \nAway Team: 2006 HES Sting\nHome Score: 6\nAway Score: 5
END:VEVENT
BEGIN:VEVENT
UID:13094472@ezleagues.ezfacility.com
DTSTAMP:20260426T033820Z
CREATED:20260426T033820Z
DTSTART:20200219T230000Z
DTEND:20200220T000000Z
LOCATION:Jessup Premier Field #1
CONTACT:
SUMMARY:2006 United Rangers White VS. 2006/07 Baltimore Rangers 
DESCRIPTION:League Name: Youth (WINTER 2) (SD1) (M-F) 2006 Boys (U14)\nGame
  Type: Regular\nGame Status: Complete\nHome Team: 2006 United Rangers Whit
 e\nAway Team: 2006/07 Baltimore Rangers \nHome Score: 2\nAway Score: 3
END:VEVENT
BEGIN:VEVENT
UID:13094484@ezleagues.ezfacility.com
DTSTAMP:20260426T033820Z
CREATED:20260426T033820Z
DTSTART:20200224T230000Z
DTEND:20200225T000000Z
LOCATION:Jessup Premier Field #2
CONTACT:
SUMMARY:2006 SDFC  VS. 2006/07 Baltimore Rangers 
DESCRIPTION:League Name: Youth (WINTER 2) (SD1) (M-F) 2006 Boys (U14)\nGame
  Type: Regular\nGame Status: Complete\nHome Team: 2006 SDFC \nAway Team: 2
 006/07 Baltimore Rangers \nHome Score: 5\nAway Score: 3
END:VEVENT
BEGIN:VEVENT
UID:13094498@ezleagues.ezfacility.com
DTSTAMP:20260426T033820Z
CREATED:20260426T033820Z
DTSTART:20200303T230000Z
DTEND:20200304T000000Z
LOCATION:Jessup Premier Field #1
CONTACT:
SUMMARY:2006/07 Baltimore Rangers  VS. 2006 SP Lightning United 
DESCRIPTION:League Name: Youth (WINTER 2) (SD1) (M-F) 2006 Boys (U14)\nGame
  Type: Regular\nGame Status: Complete\nHome Team: 2006/07 Baltimore Ranger
 s \nAway Team: 2006 SP Lightning United \nHome Score: 11\nAway Score: 2
END:VEVENT
BEGIN:VEVENT
UID:13094511@ezleagues.ezfacility.com
DTSTAMP:20260426T033820Z
CREATED:20260426T033820Z
DTSTART:20200309T210000Z
DTEND:20200309T220000Z
LOCATION:Jessup Premier Field #1
CONTACT:
SUMMARY:2006 PSC Dynasty VS. 2006/07 Baltimore Rangers 
DESCRIPTION:League Name: Youth (WINTER 2) (SD1) (M-F) 2006 Boys (U14)\nGame
  Type: Regular\nGame Status: Complete\nHome Team: 2006 PSC Dynasty\nAway T
 eam: 2006/07 Baltimore Rangers \nHome Score: 2\nAway Score: 5
END:VEVENT
END:VCALENDAR
