BEGIN:VCALENDAR
VERSION:2.0
PRODID:-//EZFacility.com, Inc.//EZL 2.5.5.28621
BEGIN:VEVENT
UID:13094317@ezleagues.ezfacility.com
DTSTAMP:20260420T002500Z
CREATED:20260420T002500Z
DTSTART:20200129T040000Z
DTEND:20200129T050000Z
LOCATION:Field 2
CONTACT:
SUMMARY:Fake Madrid VS. ---------
DESCRIPTION:League Name: Mon/Tues/Wed/Thurs - Men's League (Winter 2)-Divis
 ion 3-WEST DIVISION\nGame Type: Regular\nGame Status: Complete\nHome Team:
  Fake Madrid\nAway Team: ---------\nHome Score: 10\nAway Score: 5
END:VEVENT
BEGIN:VEVENT
UID:13094319@ezleagues.ezfacility.com
DTSTAMP:20260420T002500Z
CREATED:20260420T002500Z
DTSTART:20200204T030000Z
DTEND:20200204T040000Z
LOCATION:Field 2
CONTACT:
SUMMARY:Fake Madrid VS. Piratas FC
DESCRIPTION:League Name: Mon/Tues/Wed/Thurs - Men's League (Winter 2)-Divis
 ion 3-WEST DIVISION\nGame Type: Regular\nGame Status: Complete\nHome Team:
  Fake Madrid\nAway Team: Piratas FC\nHome Score: 3\nAway Score: 5
END:VEVENT
BEGIN:VEVENT
UID:13094323@ezleagues.ezfacility.com
DTSTAMP:20260420T002500Z
CREATED:20260420T002500Z
DTSTART:20200211T010000Z
DTEND:20200211T020000Z
LOCATION:Field 1
CONTACT:
SUMMARY:All Blacks  VS. Fake Madrid
DESCRIPTION:League Name: Mon/Tues/Wed/Thurs - Men's League (Winter 2)-Divis
 ion 3-WEST DIVISION\nGame Type: Regular\nGame Status: Complete\nHome Team:
  All Blacks \nAway Team: Fake Madrid\nHome Score: 2\nAway Score: 3
END:VEVENT
BEGIN:VEVENT
UID:13094336@ezleagues.ezfacility.com
DTSTAMP:20260420T002500Z
CREATED:20260420T002500Z
DTSTART:20200303T003000Z
DTEND:20200303T013000Z
LOCATION:Field 2
CONTACT:
SUMMARY:Precision Electric  VS. Fake Madrid
DESCRIPTION:League Name: Mon/Tues/Wed/Thurs - Men's League (Winter 2)-Divis
 ion 3-WEST DIVISION\nGame Type: Regular\nGame Status: Complete\nHome Team:
  Precision Electric \nAway Team: Fake Madrid\nHome Score: 10\nAway Score: 
 4
END:VEVENT
BEGIN:VEVENT
UID:13094333@ezleagues.ezfacility.com
DTSTAMP:20260420T002500Z
CREATED:20260420T002500Z
DTSTART:20200310T023000Z
DTEND:20200310T033000Z
LOCATION:Field 1
CONTACT:
SUMMARY:---------- VS. Fake Madrid
DESCRIPTION:League Name: Mon/Tues/Wed/Thurs - Men's League (Winter 2)-Divis
 ion 3-WEST DIVISION\nGame Type: Regular\nGame Status: Complete\nHome Team:
  ----------\nAway Team: Fake Madrid\nHome Score: 7\nAway Score: 1
END:VEVENT
BEGIN:VEVENT
UID:13094330@ezleagues.ezfacility.com
DTSTAMP:20260420T002500Z
CREATED:20260420T002500Z
DTSTART:20200709T000000Z
DTEND:20200709T010000Z
LOCATION:Field 2
CONTACT:
SUMMARY:Spinners FC AGENTS VS. Fake Madrid
DESCRIPTION:League Name: Mon/Tues/Wed/Thurs - Men's League (Winter 2)-Divis
 ion 3-WEST DIVISION\nGame Type: Regular\nGame Status: Complete\nHome Team:
  Spinners FC AGENTS\nAway Team: Fake Madrid\nHome Score: 4\nAway Score: 8
END:VEVENT
BEGIN:VEVENT
UID:13167538@ezleagues.ezfacility.com
DTSTAMP:20260420T002500Z
CREATED:20260420T002500Z
DTSTART:20200715T000000Z
DTEND:20200715T010000Z
LOCATION:Field 2
CONTACT:
SUMMARY:Parcas FC VS. Fake Madrid
DESCRIPTION:League Name: Mon/Tues/Wed/Thurs - Men's League (Winter 2)-Divis
 ion 3-WEST DIVISION\nGame Type: Regular\nGame Status: Complete\nHome Team:
  Parcas FC\nAway Team: Fake Madrid\nHome Score: 5\nAway Score: 4
END:VEVENT
BEGIN:VEVENT
UID:13167539@ezleagues.ezfacility.com
DTSTAMP:20260420T002500Z
CREATED:20260420T002500Z
DTSTART:20200721T000000Z
DTEND:20200721T010000Z
LOCATION:Field 2
CONTACT:
SUMMARY:Precision Electric  VS. Fake Madrid
DESCRIPTION:League Name: Mon/Tues/Wed/Thurs - Men's League (Winter 2)-Divis
 ion 3-WEST DIVISION\nGame Type: Regular\nGame Status: Complete\nHome Team:
  Precision Electric \nAway Team: Fake Madrid\nHome Score: 4\nAway Score: 5
END:VEVENT
BEGIN:VEVENT
UID:13237518@ezleagues.ezfacility.com
DTSTAMP:20260420T002500Z
CREATED:20260420T002500Z
DTSTART:20200728T000000Z
DTEND:20200728T010000Z
LOCATION:Field 1
CONTACT:
SUMMARY:Fake Madrid VS. Spinners FC AGENTS
DESCRIPTION:League Name: Mon/Tues/Wed/Thurs - Men's League (Winter 2)-Divis
 ion 3-WEST DIVISION\nGame Type: Postseason\nGame Status: Complete\nHome Te
 am: Fake Madrid\nAway Team: Spinners FC AGENTS\nHome Score: 5\nAway Score:
  4
END:VEVENT
BEGIN:VEVENT
UID:13237511@ezleagues.ezfacility.com
DTSTAMP:20260420T002500Z
CREATED:20260420T002500Z
DTSTART:20200804T000000Z
DTEND:20200804T010000Z
LOCATION:Field 2
CONTACT:Haugh
SUMMARY:Precision Electric  VS. Fake Madrid
DESCRIPTION:League Name: Mon/Tues/Wed/Thurs - Men's League (Winter 2)-Divis
 ion 3-WEST DIVISION\nGame Type: Postseason\nGame Status: Complete\nHome Te
 am: Precision Electric \nAway Team: Fake Madrid\nHome Score: 3\nAway Score
 : 6
END:VEVENT
BEGIN:VEVENT
UID:13237525@ezleagues.ezfacility.com
DTSTAMP:20260420T002500Z
CREATED:20260420T002500Z
DTSTART:20200812T000000Z
DTEND:20200812T010000Z
LOCATION:Field 1
CONTACT:
SUMMARY:Parcas FC VS. Fake Madrid
DESCRIPTION:League Name: Mon/Tues/Wed/Thurs - Men's League (Winter 2)-Divis
 ion 3-WEST DIVISION\nGame Type: Postseason\nGame Status: Complete\nHome Te
 am: Parcas FC\nAway Team: Fake Madrid\nHome Score: 5\nAway Score: 3
END:VEVENT
END:VCALENDAR
