BEGIN:VCALENDAR
VERSION:2.0
PRODID:-//EZFacility.com, Inc.//EZL 2.5.5.28621
BEGIN:VEVENT
UID:13100307@ezleagues.ezfacility.com
DTSTAMP:20260426T034828Z
CREATED:20260426T034828Z
DTSTART:20200130T030500Z
DTEND:20200130T040000Z
LOCATION:PFFC Dome - 3
CONTACT:
SUMMARY:SMG FC VS. Iron Hammered
DESCRIPTION:League Name: MSL Soccer - Wed/Thurs Men's Open - Division 5\nGa
 me Type: Regular\nGame Status: Complete\nHome Team: SMG FC\nAway Team: Iro
 n Hammered\nHome Score: 4\nAway Score: 5
END:VEVENT
BEGIN:VEVENT
UID:13100308@ezleagues.ezfacility.com
DTSTAMP:20260426T034828Z
CREATED:20260426T034828Z
DTSTART:20200206T030500Z
DTEND:20200206T040000Z
LOCATION:PFFC Dome - 2
CONTACT:
SUMMARY:Gol FC VS. SMG FC
DESCRIPTION:League Name: MSL Soccer - Wed/Thurs Men's Open - Division 5\nGa
 me Type: Regular\nGame Status: Complete\nHome Team: Gol FC\nAway Team: SMG
  FC\nHome Score: 1\nAway Score: 10
END:VEVENT
BEGIN:VEVENT
UID:13100442@ezleagues.ezfacility.com
DTSTAMP:20260426T034828Z
CREATED:20260426T034828Z
DTSTART:20200214T040000Z
DTEND:20200214T050000Z
LOCATION:PFFC Field House - C
CONTACT:
SUMMARY:SimPaulo FC VS. SMG FC
DESCRIPTION:League Name: MSL Soccer - Wed/Thurs Men's Open - Division 5\nGa
 me Type: Regular\nGame Status: Complete\nHome Team: SimPaulo FC\nAway Team
 : SMG FC\nHome Score: 2\nAway Score: 6
END:VEVENT
BEGIN:VEVENT
UID:13100462@ezleagues.ezfacility.com
DTSTAMP:20260426T034828Z
CREATED:20260426T034828Z
DTSTART:20200221T020000Z
DTEND:20200221T030000Z
LOCATION:PFFC Field House - A
CONTACT:
SUMMARY:SMG FC VS. FC Gowad
DESCRIPTION:League Name: MSL Soccer - Wed/Thurs Men's Open - Division 5\nGa
 me Type: Regular\nGame Status: Complete\nHome Team: SMG FC\nAway Team: FC 
 Gowad\nHome Score: 9\nAway Score: 1
END:VEVENT
BEGIN:VEVENT
UID:13100481@ezleagues.ezfacility.com
DTSTAMP:20260426T034828Z
CREATED:20260426T034828Z
DTSTART:20200228T030000Z
DTEND:20200228T040000Z
LOCATION:PFFC Field House - A
CONTACT:
SUMMARY:Los Lobos VS. SMG FC
DESCRIPTION:League Name: MSL Soccer - Wed/Thurs Men's Open - Division 5\nGa
 me Type: Regular\nGame Status: Complete\nHome Team: Los Lobos\nAway Team: 
 SMG FC\nHome Score: 2\nAway Score: 10
END:VEVENT
BEGIN:VEVENT
UID:13100500@ezleagues.ezfacility.com
DTSTAMP:20260426T034828Z
CREATED:20260426T034828Z
DTSTART:20200305T030000Z
DTEND:20200305T040000Z
LOCATION:PFFC Dome - 2
CONTACT:
SUMMARY:SMG FC VS. NoShow FC
DESCRIPTION:League Name: MSL Soccer - Wed/Thurs Men's Open - Division 5\nGa
 me Type: Regular\nGame Status: Complete\nHome Team: SMG FC\nAway Team: NoS
 how FC\nHome Score: 14\nAway Score: 1
END:VEVENT
BEGIN:VEVENT
UID:13100519@ezleagues.ezfacility.com
DTSTAMP:20260426T034828Z
CREATED:20260426T034828Z
DTSTART:20200313T020000Z
DTEND:20200313T030000Z
LOCATION:PFFC Field House - B
CONTACT:
SUMMARY:FC Gowad VS. SMG FC
DESCRIPTION:League Name: MSL Soccer - Wed/Thurs Men's Open - Division 5\nGa
 me Type: Regular\nGame Status: Complete\nHome Team: FC Gowad\nAway Team: S
 MG FC\nHome Score: 4\nAway Score: 7
END:VEVENT
BEGIN:VEVENT
UID:13100540@ezleagues.ezfacility.com
DTSTAMP:20260426T034828Z
CREATED:20260426T034828Z
DTSTART:20200319T010000Z
DTEND:20200319T020000Z
LOCATION:PFFC Dome - 1
CONTACT:
SUMMARY:SMG FC VS. Ball Ups United
DESCRIPTION:League Name: MSL Soccer - Wed/Thurs Men's Open - Division 5\nGa
 me Type: Regular\nGame Status: Postponed\nHome Team: SMG FC\nAway Team: Ba
 ll Ups United\n
END:VEVENT
BEGIN:VEVENT
UID:13100561@ezleagues.ezfacility.com
DTSTAMP:20260426T034828Z
CREATED:20260426T034828Z
DTSTART:20200326T010000Z
DTEND:20200326T020000Z
LOCATION:PFFC Field House - D
CONTACT:
SUMMARY:SMG FC VS. Banter FC
DESCRIPTION:League Name: MSL Soccer - Wed/Thurs Men's Open - Division 5\nGa
 me Type: Regular\nGame Status: Postponed\nHome Team: SMG FC\nAway Team: Ba
 nter FC\n
END:VEVENT
BEGIN:VEVENT
UID:13100582@ezleagues.ezfacility.com
DTSTAMP:20260426T034828Z
CREATED:20260426T034828Z
DTSTART:20200403T030000Z
DTEND:20200403T040000Z
LOCATION:PFFC Field House - C
CONTACT:
SUMMARY:SMG FC VS. Storm FC
DESCRIPTION:League Name: MSL Soccer - Wed/Thurs Men's Open - Division 5\nGa
 me Type: Regular\nGame Status: Postponed\nHome Team: SMG FC\nAway Team: St
 orm FC\n
END:VEVENT
BEGIN:VEVENT
UID:13100602@ezleagues.ezfacility.com
DTSTAMP:20260426T034828Z
CREATED:20260426T034828Z
DTSTART:20200409T030000Z
DTEND:20200409T040000Z
LOCATION:PFFC Dome - 2
CONTACT:
SUMMARY:FC Gowad VS. SMG FC
DESCRIPTION:League Name: MSL Soccer - Wed/Thurs Men's Open - Division 5\nGa
 me Type: Regular\nGame Status: Postponed\nHome Team: FC Gowad\nAway Team: 
 SMG FC\n
END:VEVENT
BEGIN:VEVENT
UID:13100621@ezleagues.ezfacility.com
DTSTAMP:20260426T034828Z
CREATED:20260426T034828Z
DTSTART:20200417T010000Z
DTEND:20200417T020000Z
LOCATION:PFFC Field House - D
CONTACT:
SUMMARY:Los Lobos VS. SMG FC
DESCRIPTION:League Name: MSL Soccer - Wed/Thurs Men's Open - Division 5\nGa
 me Type: Regular\nGame Status: Pending\nHome Team: Los Lobos\nAway Team: S
 MG FC\n
END:VEVENT
BEGIN:VEVENT
UID:13100640@ezleagues.ezfacility.com
DTSTAMP:20260426T034828Z
CREATED:20260426T034828Z
DTSTART:20200422T230000Z
DTEND:20200423T000000Z
LOCATION:PFFC Field House - D
CONTACT:
SUMMARY:NoShow FC VS. SMG FC
DESCRIPTION:League Name: MSL Soccer - Wed/Thurs Men's Open - Division 5\nGa
 me Type: Regular\nGame Status: Pending\nHome Team: NoShow FC\nAway Team: S
 MG FC\n
END:VEVENT
BEGIN:VEVENT
UID:13100659@ezleagues.ezfacility.com
DTSTAMP:20260426T034828Z
CREATED:20260426T034828Z
DTSTART:20200430T230000Z
DTEND:20200501T000000Z
LOCATION:PFFC Field House - B
CONTACT:
SUMMARY:SMG FC VS. FCA
DESCRIPTION:League Name: MSL Soccer - Wed/Thurs Men's Open - Division 5\nGa
 me Type: Regular\nGame Status: Pending\nHome Team: SMG FC\nAway Team: FCA\
 n
END:VEVENT
END:VCALENDAR
