BEGIN:VCALENDAR
VERSION:2.0
PRODID:-//EZFacility.com, Inc.//EZL 2.5.5.28621
BEGIN:VEVENT
UID:13100351@ezleagues.ezfacility.com
DTSTAMP:20260420T160410Z
CREATED:20260420T160410Z
DTSTART:20200131T030000Z
DTEND:20200131T040000Z
LOCATION:Field 1
CONTACT:
SUMMARY:----------- VS. Avengers
DESCRIPTION:League Name: Women's Thursday League (Winter 2)-Division 1\nGam
 e Type: Regular\nGame Status: Complete\nHome Team: -----------\nAway Team:
  Avengers\nHome Score: 1\nAway Score: 7
END:VEVENT
BEGIN:VEVENT
UID:13100355@ezleagues.ezfacility.com
DTSTAMP:20260420T160410Z
CREATED:20260420T160410Z
DTSTART:20200207T030000Z
DTEND:20200207T040000Z
LOCATION:Field 1
CONTACT:
SUMMARY:Avengers VS. ------
DESCRIPTION:League Name: Women's Thursday League (Winter 2)-Division 1\nGam
 e Type: Regular\nGame Status: Complete\nHome Team: Avengers\nAway Team: --
 ----\nHome Score: 4\nAway Score: 3
END:VEVENT
BEGIN:VEVENT
UID:13100365@ezleagues.ezfacility.com
DTSTAMP:20260420T160410Z
CREATED:20260420T160410Z
DTSTART:20200214T040000Z
DTEND:20200214T050000Z
LOCATION:Field 1
CONTACT:
SUMMARY:Avengers VS. Alianza
DESCRIPTION:League Name: Women's Thursday League (Winter 2)-Division 1\nGam
 e Type: Regular\nGame Status: Complete\nHome Team: Avengers\nAway Team: Al
 ianza\nHome Score: 9\nAway Score: 9
END:VEVENT
BEGIN:VEVENT
UID:13100364@ezleagues.ezfacility.com
DTSTAMP:20260420T160410Z
CREATED:20260420T160410Z
DTSTART:20200221T030000Z
DTEND:20200221T040000Z
LOCATION:Field 2
CONTACT:
SUMMARY:------ VS. Avengers
DESCRIPTION:League Name: Women's Thursday League (Winter 2)-Division 1\nGam
 e Type: Regular\nGame Status: Complete\nHome Team: ------\nAway Team: Aven
 gers\nHome Score: 8\nAway Score: 5
END:VEVENT
BEGIN:VEVENT
UID:13100360@ezleagues.ezfacility.com
DTSTAMP:20260420T160410Z
CREATED:20260420T160410Z
DTSTART:20200228T020000Z
DTEND:20200228T030000Z
LOCATION:Field 2
CONTACT:
SUMMARY:Forza FC VS. Avengers
DESCRIPTION:League Name: Women's Thursday League (Winter 2)-Division 1\nGam
 e Type: Regular\nGame Status: Complete\nHome Team: Forza FC\nAway Team: Av
 engers\nHome Score: 4\nAway Score: 5
END:VEVENT
BEGIN:VEVENT
UID:13100366@ezleagues.ezfacility.com
DTSTAMP:20260420T160410Z
CREATED:20260420T160410Z
DTSTART:20200306T020000Z
DTEND:20200306T030000Z
LOCATION:Field 1
CONTACT:
SUMMARY:Avengers VS. Alianza
DESCRIPTION:League Name: Women's Thursday League (Winter 2)-Division 1\nGam
 e Type: Regular\nGame Status: Complete\nHome Team: Avengers\nAway Team: Al
 ianza\nHome Score: 5\nAway Score: 3
END:VEVENT
BEGIN:VEVENT
UID:13158857@ezleagues.ezfacility.com
DTSTAMP:20260420T160410Z
CREATED:20260420T160410Z
DTSTART:20200708T230000Z
DTEND:20200709T000000Z
LOCATION:Field 1
CONTACT:
SUMMARY:Avengers VS. Forza FC
DESCRIPTION:League Name: Women's Thursday League (Winter 2)-Division 1\nGam
 e Type: Regular\nGame Status: Complete\nHome Team: Avengers\nAway Team: Fo
 rza FC\nHome Score: 3\nAway Score: 6
END:VEVENT
BEGIN:VEVENT
UID:13220609@ezleagues.ezfacility.com
DTSTAMP:20260420T160410Z
CREATED:20260420T160410Z
DTSTART:20200717T000000Z
DTEND:20200717T010000Z
LOCATION:Field 1
CONTACT:
SUMMARY:Avengers VS. Orange Crush
DESCRIPTION:League Name: Women's Thursday League (Winter 2)-Division 1\nGam
 e Type: Regular\nGame Status: Complete\nHome Team: Avengers\nAway Team: Or
 ange Crush\nHome Score: 7\nAway Score: 4
END:VEVENT
BEGIN:VEVENT
UID:13167540@ezleagues.ezfacility.com
DTSTAMP:20260420T160410Z
CREATED:20260420T160410Z
DTSTART:20200724T000000Z
DTEND:20200724T010000Z
LOCATION:Field 1
CONTACT:Haugh
SUMMARY:Avengers VS. Orange Crush
DESCRIPTION:League Name: Women's Thursday League (Winter 2)-Division 1\nGam
 e Type: Postseason\nGame Status: Complete\nHome Team: Avengers\nAway Team:
  Orange Crush\nHome Score: 5\nAway Score: 2
END:VEVENT
BEGIN:VEVENT
UID:13234477@ezleagues.ezfacility.com
DTSTAMP:20260420T160410Z
CREATED:20260420T160410Z
DTSTART:20200731T000000Z
DTEND:20200731T010000Z
LOCATION:Field 1
CONTACT:
SUMMARY:Avengers VS. Alianza
DESCRIPTION:League Name: Women's Thursday League (Winter 2)-Division 1\nGam
 e Type: Postseason\nGame Status: Complete\nHome Team: Avengers\nAway Team:
  Alianza\nHome Score: 3\nAway Score: 2
END:VEVENT
END:VCALENDAR
