BEGIN:VCALENDAR
VERSION:2.0
PRODID:-//EZFacility.com, Inc.//EZL 2.5.5.28621
BEGIN:VEVENT
UID:13134505@ezleagues.ezfacility.com
DTSTAMP:20260424T165818Z
CREATED:20260424T165818Z
DTSTART:20200227T013000Z
DTEND:20200227T023000Z
LOCATION:North Court
CONTACT:Carstens\, Glissmann\, McGruder\, Reiling
SUMMARY:Washington Boolets VS. Feed me the rock
DESCRIPTION:League Name: Basketball\nGame Type: Regular\nGame Status: Compl
 ete\nHome Team: Washington Boolets\nAway Team: Feed me the rock\nHome Scor
 e: 69\nAway Score: 23
END:VEVENT
BEGIN:VEVENT
UID:13149633@ezleagues.ezfacility.com
DTSTAMP:20260424T165818Z
CREATED:20260424T165818Z
DTSTART:20200305T013000Z
DTEND:20200305T023000Z
LOCATION:North Court
CONTACT:Glissmann\, Ellis\, Reiling
SUMMARY:Mamba VS. Washington Boolets
DESCRIPTION:League Name: Basketball\nGame Type: Regular\nGame Status: Compl
 ete\nHome Team: Mamba\nAway Team: Washington Boolets\nHome Score: 74\nAway
  Score: 46
END:VEVENT
BEGIN:VEVENT
UID:13168005@ezleagues.ezfacility.com
DTSTAMP:20260424T165818Z
CREATED:20260424T165818Z
DTSTART:20200318T230000Z
DTEND:20200319T000000Z
LOCATION:North Court
CONTACT:Glissmann\, McGruder\, Reiling
SUMMARY:Hospital Medicine VS. Washington Boolets
DESCRIPTION:League Name: Basketball\nGame Type: Regular\nGame Status: Cance
 lled\nHome Team: Hospital Medicine\nAway Team: Washington Boolets\n
END:VEVENT
BEGIN:VEVENT
UID:13168009@ezleagues.ezfacility.com
DTSTAMP:20260424T165818Z
CREATED:20260424T165818Z
DTSTART:20200326T003000Z
DTEND:20200326T013000Z
LOCATION:North Court
CONTACT:Glissmann\, Ellis\, Reiling
SUMMARY:Washington Boolets VS. PharmAssists
DESCRIPTION:League Name: Basketball\nGame Type: Regular\nGame Status: Cance
 lled\nHome Team: Washington Boolets\nAway Team: PharmAssists\n
END:VEVENT
BEGIN:VEVENT
UID:13168011@ezleagues.ezfacility.com
DTSTAMP:20260424T165818Z
CREATED:20260424T165818Z
DTSTART:20200401T233000Z
DTEND:20200402T003000Z
LOCATION:North Court
CONTACT:Glissmann\, Ellis\, McGruder
SUMMARY:SCLSU Mud Dogs VS. Washington Boolets
DESCRIPTION:League Name: Basketball\nGame Type: Regular\nGame Status: Cance
 lled\nHome Team: SCLSU Mud Dogs\nAway Team: Washington Boolets\n
END:VEVENT
BEGIN:VEVENT
UID:13168016@ezleagues.ezfacility.com
DTSTAMP:20260424T165818Z
CREATED:20260424T165818Z
DTSTART:20200408T180000Z
DTEND:20200408T190000Z
LOCATION:North Court
CONTACT:
SUMMARY:Washington Boolets VS. TBA
DESCRIPTION:League Name: Basketball\nGame Type: Postseason\nGame Status: Ca
 ncelled\nHome Team: Washington Boolets\nAway Team: TBA\n
END:VEVENT
BEGIN:VEVENT
UID:13168027@ezleagues.ezfacility.com
DTSTAMP:20260424T165818Z
CREATED:20260424T165818Z
DTSTART:20200415T180000Z
DTEND:20200415T190000Z
LOCATION:North Court
CONTACT:
SUMMARY:Washington Boolets VS. TBA
DESCRIPTION:League Name: Basketball\nGame Type: Postseason\nGame Status: Ca
 ncelled\nHome Team: Washington Boolets\nAway Team: TBA\n
END:VEVENT
END:VCALENDAR
