BEGIN:VCALENDAR
VERSION:2.0
PRODID:-//EZFacility.com, Inc.//EZL 2.5.5.28621
BEGIN:VEVENT
UID:13102249@ezleagues.ezfacility.com
DTSTAMP:20260426T035104Z
CREATED:20260426T035104Z
DTSTART:20200211T005000Z
DTEND:20200211T014000Z
LOCATION:Harmans Premier Field #5
CONTACT:
SUMMARY:DC VS. Reality Kings
DESCRIPTION:League Name: Mon Mens Open 2nd div \nGame Type: Regular\nGame S
 tatus: Complete\nHome Team: DC\nAway Team: Reality Kings\nHome Score: 2\nA
 way Score: 10
END:VEVENT
BEGIN:VEVENT
UID:13102261@ezleagues.ezfacility.com
DTSTAMP:20260426T035104Z
CREATED:20260426T035104Z
DTSTART:20200218T000000Z
DTEND:20200218T005000Z
LOCATION:Harmans Premier Field #5
CONTACT:
SUMMARY:Bayer VS. DC
DESCRIPTION:League Name: Mon Mens Open 2nd div \nGame Type: Regular\nGame S
 tatus: Complete\nHome Team: Bayer\nAway Team: DC\nHome Score: 6\nAway Scor
 e: 5
END:VEVENT
BEGIN:VEVENT
UID:13102272@ezleagues.ezfacility.com
DTSTAMP:20260426T035104Z
CREATED:20260426T035104Z
DTSTART:20200225T000000Z
DTEND:20200225T005000Z
LOCATION:Harmans Premier Field #4
CONTACT:
SUMMARY:Leon VS. DC
DESCRIPTION:League Name: Mon Mens Open 2nd div \nGame Type: Regular\nGame S
 tatus: Complete\nHome Team: Leon\nAway Team: DC\nHome Score: 4\nAway Score
 : 4
END:VEVENT
BEGIN:VEVENT
UID:13102283@ezleagues.ezfacility.com
DTSTAMP:20260426T035104Z
CREATED:20260426T035104Z
DTSTART:20200303T000000Z
DTEND:20200303T005000Z
LOCATION:Harmans Premier Field #5
CONTACT:
SUMMARY:Belen FC VS. DC
DESCRIPTION:League Name: Mon Mens Open 2nd div \nGame Type: Regular\nGame S
 tatus: Complete\nHome Team: Belen FC\nAway Team: DC\nHome Score: 8\nAway S
 core: 8
END:VEVENT
BEGIN:VEVENT
UID:13102294@ezleagues.ezfacility.com
DTSTAMP:20260426T035104Z
CREATED:20260426T035104Z
DTSTART:20200309T230000Z
DTEND:20200309T235000Z
LOCATION:Harmans Premier Field #4
CONTACT:
SUMMARY:DC VS. Saints FC
DESCRIPTION:League Name: Mon Mens Open 2nd div \nGame Type: Regular\nGame S
 tatus: Complete\nHome Team: DC\nAway Team: Saints FC\nHome Score: 4\nAway 
 Score: 4
END:VEVENT
BEGIN:VEVENT
UID:13102307@ezleagues.ezfacility.com
DTSTAMP:20260426T035104Z
CREATED:20260426T035104Z
DTSTART:20200316T230000Z
DTEND:20200316T235000Z
LOCATION:Harmans Premier Field #4
CONTACT:
SUMMARY:DC VS. Chivas USA
DESCRIPTION:League Name: Mon Mens Open 2nd div \nGame Type: Regular\nGame S
 tatus: Complete\nHome Team: DC\nAway Team: Chivas USA\nHome Score: 0\nAway
  Score: 3
END:VEVENT
BEGIN:VEVENT
UID:13102320@ezleagues.ezfacility.com
DTSTAMP:20260426T035104Z
CREATED:20260426T035104Z
DTSTART:20200622T230000Z
DTEND:20200622T235000Z
LOCATION:Harmans Premier Field #4
CONTACT:
SUMMARY:DC VS. Lobos
DESCRIPTION:League Name: Mon Mens Open 2nd div \nGame Type: Regular\nGame S
 tatus: Complete\nHome Team: DC\nAway Team: Lobos\nHome Score: 0\nAway Scor
 e: 0
END:VEVENT
END:VCALENDAR
