BEGIN:VCALENDAR
VERSION:2.0
PRODID:-//EZFacility.com, Inc.//EZL 2.5.5.28621
BEGIN:VEVENT
UID:13102255@ezleagues.ezfacility.com
DTSTAMP:20260426T034805Z
CREATED:20260426T034805Z
DTSTART:20200211T005000Z
DTEND:20200211T014000Z
LOCATION:Harmans Premier Field #4
CONTACT:
SUMMARY:S.O.L VS. Mexico
DESCRIPTION:League Name: Mon Mens Open 3rd div\nGame Type: Regular\nGame St
 atus: Complete\nHome Team: S.O.L\nAway Team: Mexico\nHome Score: 3\nAway S
 core: 12
END:VEVENT
BEGIN:VEVENT
UID:13102266@ezleagues.ezfacility.com
DTSTAMP:20260426T034805Z
CREATED:20260426T034805Z
DTSTART:20200218T014000Z
DTEND:20200218T023000Z
LOCATION:Harmans Premier Field #4
CONTACT:
SUMMARY:Mexico VS. Necaxa
DESCRIPTION:League Name: Mon Mens Open 3rd div\nGame Type: Regular\nGame St
 atus: Complete\nHome Team: Mexico\nAway Team: Necaxa\nHome Score: 6\nAway 
 Score: 7
END:VEVENT
BEGIN:VEVENT
UID:13102279@ezleagues.ezfacility.com
DTSTAMP:20260426T034805Z
CREATED:20260426T034805Z
DTSTART:20200225T005000Z
DTEND:20200225T014000Z
LOCATION:Harmans Premier Field #5
CONTACT:
SUMMARY:Mexico VS. Bowie Bulldogs
DESCRIPTION:League Name: Mon Mens Open 3rd div\nGame Type: Regular\nGame St
 atus: Complete\nHome Team: Mexico\nAway Team: Bowie Bulldogs\nHome Score: 
 6\nAway Score: 9
END:VEVENT
BEGIN:VEVENT
UID:13102292@ezleagues.ezfacility.com
DTSTAMP:20260426T034805Z
CREATED:20260426T034805Z
DTSTART:20200303T000000Z
DTEND:20200303T005000Z
LOCATION:Harmans Premier Field #4
CONTACT:
SUMMARY:Mexico VS. Desk Jockeys
DESCRIPTION:League Name: Mon Mens Open 3rd div\nGame Type: Regular\nGame St
 atus: Complete\nHome Team: Mexico\nAway Team: Desk Jockeys\nHome Score: 8\
 nAway Score: 2
END:VEVENT
BEGIN:VEVENT
UID:13102305@ezleagues.ezfacility.com
DTSTAMP:20260426T034805Z
CREATED:20260426T034805Z
DTSTART:20200310T022000Z
DTEND:20200310T031000Z
LOCATION:Harmans Premier Field #5
CONTACT:
SUMMARY:Mexico VS. Sal's Team
DESCRIPTION:League Name: Mon Mens Open 3rd div\nGame Type: Regular\nGame St
 atus: Complete\nHome Team: Mexico\nAway Team: Sal's Team\nHome Score: 6\nA
 way Score: 5
END:VEVENT
BEGIN:VEVENT
UID:13102317@ezleagues.ezfacility.com
DTSTAMP:20260426T034805Z
CREATED:20260426T034805Z
DTSTART:20200317T004000Z
DTEND:20200317T013000Z
LOCATION:Harmans Premier Field #4
CONTACT:
SUMMARY:Las Águilas USA VS. Mexico
DESCRIPTION:League Name: Mon Mens Open 3rd div\nGame Type: Regular\nGame St
 atus: Complete\nHome Team: Las Águilas USA\nAway Team: Mexico\nHome Score
 : 6\nAway Score: 5
END:VEVENT
BEGIN:VEVENT
UID:13102328@ezleagues.ezfacility.com
DTSTAMP:20260426T034805Z
CREATED:20260426T034805Z
DTSTART:20200623T022000Z
DTEND:20200623T031000Z
LOCATION:Harmans Premier Field #4
CONTACT:
SUMMARY:Average Joes FC VS. Mexico
DESCRIPTION:League Name: Mon Mens Open 3rd div\nGame Type: Regular\nGame St
 atus: Complete\nHome Team: Average Joes FC\nAway Team: Mexico\nHome Score:
  10\nAway Score: 9
END:VEVENT
BEGIN:VEVENT
UID:13215328@ezleagues.ezfacility.com
DTSTAMP:20260426T034805Z
CREATED:20260426T034805Z
DTSTART:20200630T020000Z
DTEND:20200630T030000Z
LOCATION:Harmans Premier Field #5
CONTACT:
SUMMARY:Mexico VS. Sal's Team
DESCRIPTION:League Name: Mon Mens Open 3rd div\nGame Type: Regular\nGame St
 atus: Complete\nHome Team: Mexico\nAway Team: Sal's Team\nHome Score: 6\nA
 way Score: 3
END:VEVENT
BEGIN:VEVENT
UID:13220907@ezleagues.ezfacility.com
DTSTAMP:20260426T034805Z
CREATED:20260426T034805Z
DTSTART:20200706T230000Z
DTEND:20200707T000000Z
LOCATION:Harmans Premier Field #5
CONTACT:
SUMMARY:Mexico VS. Average Joes FC
DESCRIPTION:League Name: Mon Mens Open 3rd div\nGame Type: Regular\nGame St
 atus: Complete\nHome Team: Mexico\nAway Team: Average Joes FC\nHome Score:
  7\nAway Score: 11
END:VEVENT
END:VCALENDAR
