BEGIN:VCALENDAR
VERSION:2.0
PRODID:-//EZFacility.com, Inc.//EZL 2.5.5.28621
BEGIN:VEVENT
UID:13113566@ezleagues.ezfacility.com
DTSTAMP:20260424T082130Z
CREATED:20260424T082130Z
DTSTART:20200219T031500Z
DTEND:20200219T040500Z
LOCATION:Indoor West
CONTACT:
SUMMARY:Fatcelona VS. Kleptomaniacs HT
DESCRIPTION:League Name: 2020-01-02-Tuesday Mens Intermediate B Bracket B\n
 Game Type: Regular\nGame Status: Complete\nHome Team: Fatcelona\nAway Team
 : Kleptomaniacs HT\nHome Score: 10\nAway Score: 2
END:VEVENT
BEGIN:VEVENT
UID:13128150@ezleagues.ezfacility.com
DTSTAMP:20260424T082130Z
CREATED:20260424T082130Z
DTSTART:20200226T060000Z
DTEND:20200226T065000Z
LOCATION:Indoor East
CONTACT:
SUMMARY:Soofly VS. Fatcelona
DESCRIPTION:League Name: 2020-01-02-Tuesday Mens Intermediate B Bracket B\n
 Game Type: Regular\nGame Status: Complete\nHome Team: Soofly\nAway Team: F
 atcelona\nHome Score: 5\nAway Score: 5
END:VEVENT
BEGIN:VEVENT
UID:13128154@ezleagues.ezfacility.com
DTSTAMP:20260424T082130Z
CREATED:20260424T082130Z
DTSTART:20200304T051000Z
DTEND:20200304T060000Z
LOCATION:Indoor East
CONTACT:
SUMMARY:99 Problems but a Pitch Aint One VS. Fatcelona
DESCRIPTION:League Name: 2020-01-02-Tuesday Mens Intermediate B Bracket B\n
 Game Type: Regular\nGame Status: Complete\nHome Team: 99 Problems but a Pi
 tch Aint One\nAway Team: Fatcelona\nHome Score: 3\nAway Score: 8
END:VEVENT
BEGIN:VEVENT
UID:13128158@ezleagues.ezfacility.com
DTSTAMP:20260424T082130Z
CREATED:20260424T082130Z
DTSTART:20200311T023000Z
DTEND:20200311T032000Z
LOCATION:Indoor East
CONTACT:
SUMMARY:Fatcelona VS. 4Life Blue Screens
DESCRIPTION:League Name: 2020-01-02-Tuesday Mens Intermediate B Bracket B\n
 Game Type: Regular\nGame Status: Complete\nHome Team: Fatcelona\nAway Team
 : 4Life Blue Screens\nHome Score: 9\nAway Score: 4
END:VEVENT
BEGIN:VEVENT
UID:13128169@ezleagues.ezfacility.com
DTSTAMP:20260424T082130Z
CREATED:20260424T082130Z
DTSTART:20200520T023000Z
DTEND:20200520T032000Z
LOCATION:Indoor East
CONTACT:
SUMMARY:RainFocus VS. Fatcelona
DESCRIPTION:League Name: 2020-01-02-Tuesday Mens Intermediate B Bracket B\n
 Game Type: Regular\nGame Status: Complete\nHome Team: RainFocus\nAway Team
 : Fatcelona\nHome Score: 6\nAway Score: 6
END:VEVENT
BEGIN:VEVENT
UID:13128174@ezleagues.ezfacility.com
DTSTAMP:20260424T082130Z
CREATED:20260424T082130Z
DTSTART:20200527T041000Z
DTEND:20200527T050000Z
LOCATION:Indoor West
CONTACT:
SUMMARY:Fatcelona VS. Danger Zone
DESCRIPTION:League Name: 2020-01-02-Tuesday Mens Intermediate B Bracket B\n
 Game Type: Regular\nGame Status: Complete\nHome Team: Fatcelona\nAway Team
 : Danger Zone\nHome Score: 6\nAway Score: 3
END:VEVENT
BEGIN:VEVENT
UID:13128179@ezleagues.ezfacility.com
DTSTAMP:20260424T082130Z
CREATED:20260424T082130Z
DTSTART:20200603T030000Z
DTEND:20200603T035000Z
LOCATION:Indoor West
CONTACT:
SUMMARY:ZFC - Over 30 VS. Fatcelona
DESCRIPTION:League Name: 2020-01-02-Tuesday Mens Intermediate B Bracket B\n
 Game Type: Regular\nGame Status: Complete\nHome Team: ZFC - Over 30\nAway 
 Team: Fatcelona\nHome Score: 2\nAway Score: 5
END:VEVENT
BEGIN:VEVENT
UID:13128180@ezleagues.ezfacility.com
DTSTAMP:20260424T082130Z
CREATED:20260424T082130Z
DTSTART:20200610T030000Z
DTEND:20200610T035000Z
LOCATION:Indoor East
CONTACT:
SUMMARY:Fatcelona VS. Soofly
DESCRIPTION:League Name: 2020-01-02-Tuesday Mens Intermediate B Bracket B\n
 Game Type: Regular\nGame Status: Complete\nHome Team: Fatcelona\nAway Team
 : Soofly\nHome Score: 6\nAway Score: 4
END:VEVENT
END:VCALENDAR
