BEGIN:VCALENDAR
VERSION:2.0
PRODID:-//EZFacility.com, Inc.//EZL 2.5.5.28621
BEGIN:VEVENT
UID:13139022@ezleagues.ezfacility.com
DTSTAMP:20260423T061047Z
CREATED:20260423T061047Z
DTSTART:20200228T022500Z
DTEND:20200228T030500Z
LOCATION:Gymnasium (CFHL)
CONTACT:Carstens
SUMMARY:Ears\, nose and goals VS. Free Agents
DESCRIPTION:League Name: Futsal (Indoor Soccer) (Rec)\nGame Type: Regular\n
 Game Status: Complete\nHome Team: Ears, nose and goals\nAway Team: Free Ag
 ents\nHome Score: 8\nAway Score: 2
END:VEVENT
BEGIN:VEVENT
UID:13139288@ezleagues.ezfacility.com
DTSTAMP:20260423T061047Z
CREATED:20260423T061047Z
DTSTART:20200306T014500Z
DTEND:20200306T022500Z
LOCATION:Gymnasium (CFHL)
CONTACT:Carstens
SUMMARY:La Tortuga Verde VS. Ears\, nose and goals
DESCRIPTION:League Name: Futsal (Indoor Soccer) (Rec)\nGame Type: Regular\n
 Game Status: Complete\nHome Team: La Tortuga Verde\nAway Team: Ears, nose 
 and goals\nHome Score: 3\nAway Score: 5
END:VEVENT
BEGIN:VEVENT
UID:13167668@ezleagues.ezfacility.com
DTSTAMP:20260423T061047Z
CREATED:20260423T061047Z
DTSTART:20200312T180000Z
DTEND:20200312T180000Z
LOCATION:N/A - No Game (BYE week)
CONTACT:
SUMMARY:Ears\, nose and goals VS. BYE
DESCRIPTION:League Name: Futsal (Indoor Soccer) (Rec)\nGame Type: Regular\n
 Game Status: Pending\nHome Team: Ears, nose and goals\nAway Team: BYE\n
END:VEVENT
BEGIN:VEVENT
UID:13167789@ezleagues.ezfacility.com
DTSTAMP:20260423T061047Z
CREATED:20260423T061047Z
DTSTART:20200327T000500Z
DTEND:20200327T004500Z
LOCATION:Gymnasium (CFHL)
CONTACT:
SUMMARY:Ears\, nose and goals VS. Team GSA
DESCRIPTION:League Name: Futsal (Indoor Soccer) (Rec)\nGame Type: Regular\n
 Game Status: Cancelled\nHome Team: Ears, nose and goals\nAway Team: Team G
 SA\n
END:VEVENT
BEGIN:VEVENT
UID:13167791@ezleagues.ezfacility.com
DTSTAMP:20260423T061047Z
CREATED:20260423T061047Z
DTSTART:20200403T000500Z
DTEND:20200403T004500Z
LOCATION:Gymnasium (CFHL)
CONTACT:
SUMMARY:Ears\, nose and goals VS. La Tortuga Verde
DESCRIPTION:League Name: Futsal (Indoor Soccer) (Rec)\nGame Type: Regular\n
 Game Status: Cancelled\nHome Team: Ears, nose and goals\nAway Team: La Tor
 tuga Verde\n
END:VEVENT
BEGIN:VEVENT
UID:13167792@ezleagues.ezfacility.com
DTSTAMP:20260423T061047Z
CREATED:20260423T061047Z
DTSTART:20200409T180000Z
DTEND:20200409T184000Z
LOCATION:Gymnasium (CFHL)
CONTACT:
SUMMARY:Ears\, nose and goals VS. TBA
DESCRIPTION:League Name: Futsal (Indoor Soccer) (Rec)\nGame Type: Postseaso
 n\nGame Status: Cancelled\nHome Team: Ears, nose and goals\nAway Team: TBA
 \n
END:VEVENT
BEGIN:VEVENT
UID:13167799@ezleagues.ezfacility.com
DTSTAMP:20260423T061047Z
CREATED:20260423T061047Z
DTSTART:20200416T180000Z
DTEND:20200416T184000Z
LOCATION:Gymnasium (CFHL)
CONTACT:
SUMMARY:Ears\, nose and goals VS. TBA
DESCRIPTION:League Name: Futsal (Indoor Soccer) (Rec)\nGame Type: Postseaso
 n\nGame Status: Cancelled\nHome Team: Ears, nose and goals\nAway Team: TBA
 \n
END:VEVENT
END:VCALENDAR
