BEGIN:VCALENDAR
VERSION:2.0
PRODID:-//EZFacility.com, Inc.//EZL 2.5.5.28621
BEGIN:VEVENT
UID:13141049@ezleagues.ezfacility.com
DTSTAMP:20260426T033813Z
CREATED:20260426T033813Z
DTSTART:20200303T020000Z
DTEND:20200303T024500Z
LOCATION:Main Gym
CONTACT:
SUMMARY:FC Royals VS. ChacNeil
DESCRIPTION:League Name: Intramural Sport - 2019-20 Co-Rec Indoor Soccer\nG
 ame Type: Regular\nGame Status: Complete\nHome Team: FC Royals\nAway Team:
  ChacNeil\nHome Score: 5\nAway Score: 1
END:VEVENT
BEGIN:VEVENT
UID:13141059@ezleagues.ezfacility.com
DTSTAMP:20260426T033813Z
CREATED:20260426T033813Z
DTSTART:20200310T010000Z
DTEND:20200310T014500Z
LOCATION:Main Gym
CONTACT:
SUMMARY:ChacNeil VS. The Sandstormers
DESCRIPTION:League Name: Intramural Sport - 2019-20 Co-Rec Indoor Soccer\nG
 ame Type: Regular\nGame Status: Complete\nHome Team: ChacNeil\nAway Team: 
 The Sandstormers\nHome Score: 3\nAway Score: 0
END:VEVENT
BEGIN:VEVENT
UID:13141065@ezleagues.ezfacility.com
DTSTAMP:20260426T033813Z
CREATED:20260426T033813Z
DTSTART:20200312T001500Z
DTEND:20200312T010000Z
LOCATION:Main Gym
CONTACT:
SUMMARY:Kozy FC VS. ChacNeil
DESCRIPTION:League Name: Intramural Sport - 2019-20 Co-Rec Indoor Soccer\nG
 ame Type: Regular\nGame Status: Complete\nHome Team: Kozy FC\nAway Team: C
 hacNeil\nHome Score: 4\nAway Score: 5
END:VEVENT
BEGIN:VEVENT
UID:13141053@ezleagues.ezfacility.com
DTSTAMP:20260426T033813Z
CREATED:20260426T033813Z
DTSTART:20200317T010000Z
DTEND:20200317T014500Z
LOCATION:Main Gym
CONTACT:
SUMMARY:benchwarmers VS. ChacNeil
DESCRIPTION:League Name: Intramural Sport - 2019-20 Co-Rec Indoor Soccer\nG
 ame Type: Regular\nGame Status: Pending\nHome Team: benchwarmers\nAway Tea
 m: ChacNeil\n
END:VEVENT
END:VCALENDAR
