BEGIN:VCALENDAR
VERSION:2.0
PRODID:-//EZFacility.com, Inc.//EZL 2.5.5.28621
BEGIN:VEVENT
UID:13152636@ezleagues.ezfacility.com
DTSTAMP:20260424T044112Z
CREATED:20260424T044112Z
DTSTART:20200215T220000Z
DTEND:20200215T230000Z
LOCATION:Field #1
CONTACT:
SUMMARY:Abington (Franey) VS. Easton Tiger Cats
DESCRIPTION:League Name: Girls 10 Green, Session 3\nGame Type: Regular\nGam
 e Status: Complete\nHome Team: Abington (Franey)\nAway Team: Easton Tiger 
 Cats\nHome Score: 2\nAway Score: 7
END:VEVENT
BEGIN:VEVENT
UID:13152638@ezleagues.ezfacility.com
DTSTAMP:20260424T044112Z
CREATED:20260424T044112Z
DTSTART:20200229T210000Z
DTEND:20200229T220000Z
LOCATION:Field #2
CONTACT:
SUMMARY:Abington (Franey) VS. BYSA (Haskell)
DESCRIPTION:League Name: Girls 10 Green, Session 3\nGame Type: Regular\nGam
 e Status: Complete\nHome Team: Abington (Franey)\nAway Team: BYSA (Haskell
 )\nHome Score: 6\nAway Score: 1
END:VEVENT
BEGIN:VEVENT
UID:13152644@ezleagues.ezfacility.com
DTSTAMP:20260424T044112Z
CREATED:20260424T044112Z
DTSTART:20200307T190000Z
DTEND:20200307T200000Z
LOCATION:Field #2
CONTACT:
SUMMARY:Abington (Franey) VS. Freetown Lakeville Utd (Johnson)
DESCRIPTION:League Name: Girls 10 Green, Session 3\nGame Type: Regular\nGam
 e Status: Complete\nHome Team: Abington (Franey)\nAway Team: Freetown Lake
 ville Utd (Johnson)\nHome Score: 3\nAway Score: 5
END:VEVENT
BEGIN:VEVENT
UID:13152640@ezleagues.ezfacility.com
DTSTAMP:20260424T044112Z
CREATED:20260424T044112Z
DTSTART:20200314T230000Z
DTEND:20200315T000000Z
LOCATION:Field #1
CONTACT:
SUMMARY:EBYSA (Resendes) VS. Abington (Franey)
DESCRIPTION:League Name: Girls 10 Green, Session 3\nGame Type: Regular\nGam
 e Status: Postponed\nHome Team: EBYSA (Resendes)\nAway Team: Abington (Fra
 ney)\n
END:VEVENT
END:VCALENDAR
