BEGIN:VCALENDAR
VERSION:2.0
PRODID:-//EZFacility.com, Inc.//EZL 2.5.5.28621
BEGIN:VEVENT
UID:13200466@ezleagues.ezfacility.com
DTSTAMP:20260420T130058Z
CREATED:20260420T130058Z
DTSTART:20200617T004500Z
DTEND:20200617T013500Z
LOCATION:Indoor East
CONTACT:
SUMMARY:Quid Pro Quo VS. Unreal
DESCRIPTION:League Name: 2020-02-04-Tuesday Mens Intermediate B\nGame Type:
  Regular\nGame Status: Complete\nHome Team: Quid Pro Quo\nAway Team: Unrea
 l\nHome Score: 13\nAway Score: 5
END:VEVENT
BEGIN:VEVENT
UID:13208421@ezleagues.ezfacility.com
DTSTAMP:20260420T130058Z
CREATED:20260420T130058Z
DTSTART:20200624T013000Z
DTEND:20200624T022000Z
LOCATION:Indoor West
CONTACT:
SUMMARY:Veridian Dynamics VS. Quid Pro Quo
DESCRIPTION:League Name: 2020-02-04-Tuesday Mens Intermediate B\nGame Type:
  Regular\nGame Status: Complete\nHome Team: Veridian Dynamics\nAway Team: 
 Quid Pro Quo\nHome Score: 3\nAway Score: 10
END:VEVENT
BEGIN:VEVENT
UID:13208427@ezleagues.ezfacility.com
DTSTAMP:20260420T130058Z
CREATED:20260420T130058Z
DTSTART:20200701T035500Z
DTEND:20200701T044500Z
LOCATION:Indoor East
CONTACT:
SUMMARY:Quid Pro Quo VS. Fatcelona
DESCRIPTION:League Name: 2020-02-04-Tuesday Mens Intermediate B\nGame Type:
  Regular\nGame Status: Complete\nHome Team: Quid Pro Quo\nAway Team: Fatce
 lona\nHome Score: 2\nAway Score: 5
END:VEVENT
BEGIN:VEVENT
UID:13208432@ezleagues.ezfacility.com
DTSTAMP:20260420T130058Z
CREATED:20260420T130058Z
DTSTART:20200708T040000Z
DTEND:20200708T045000Z
LOCATION:Indoor East
CONTACT:
SUMMARY:Soofly VS. Quid Pro Quo
DESCRIPTION:League Name: 2020-02-04-Tuesday Mens Intermediate B\nGame Type:
  Regular\nGame Status: Complete\nHome Team: Soofly\nAway Team: Quid Pro Qu
 o\nHome Score: 3\nAway Score: 6
END:VEVENT
BEGIN:VEVENT
UID:13208437@ezleagues.ezfacility.com
DTSTAMP:20260420T130058Z
CREATED:20260420T130058Z
DTSTART:20200715T012500Z
DTEND:20200715T021500Z
LOCATION:Indoor East
CONTACT:
SUMMARY:Quid Pro Quo VS. Kleptomaniacs HT
DESCRIPTION:League Name: 2020-02-04-Tuesday Mens Intermediate B\nGame Type:
  Regular\nGame Status: Complete\nHome Team: Quid Pro Quo\nAway Team: Klept
 omaniacs HT\nHome Score: 10\nAway Score: 4
END:VEVENT
BEGIN:VEVENT
UID:13208443@ezleagues.ezfacility.com
DTSTAMP:20260420T130058Z
CREATED:20260420T130058Z
DTSTART:20200722T022000Z
DTEND:20200722T031000Z
LOCATION:Indoor West
CONTACT:
SUMMARY:Mutiny FC 0-30 VS. Quid Pro Quo
DESCRIPTION:League Name: 2020-02-04-Tuesday Mens Intermediate B\nGame Type:
  Regular\nGame Status: Complete\nHome Team: Mutiny FC 0-30\nAway Team: Qui
 d Pro Quo\nHome Score: 8\nAway Score: 5
END:VEVENT
BEGIN:VEVENT
UID:13208448@ezleagues.ezfacility.com
DTSTAMP:20260420T130058Z
CREATED:20260420T130058Z
DTSTART:20200729T010000Z
DTEND:20200729T015000Z
LOCATION:Indoor West
CONTACT:
SUMMARY:Quid Pro Quo VS. 99 Problems but a Pitch Aint One
DESCRIPTION:League Name: 2020-02-04-Tuesday Mens Intermediate B\nGame Type:
  Regular\nGame Status: Complete\nHome Team: Quid Pro Quo\nAway Team: 99 Pr
 oblems but a Pitch Aint One\nHome Score: 4\nAway Score: 8
END:VEVENT
BEGIN:VEVENT
UID:13208458@ezleagues.ezfacility.com
DTSTAMP:20260420T130058Z
CREATED:20260420T130058Z
DTSTART:20200805T040000Z
DTEND:20200805T045000Z
LOCATION:Indoor West
CONTACT:
SUMMARY:Soofly VS. Quid Pro Quo
DESCRIPTION:League Name: 2020-02-04-Tuesday Mens Intermediate B\nGame Type:
  Regular\nGame Status: Complete\nHome Team: Soofly\nAway Team: Quid Pro Qu
 o\nHome Score: 10\nAway Score: 2
END:VEVENT
END:VCALENDAR
