BEGIN:VCALENDAR
VERSION:2.0
PRODID:-//EZFacility.com, Inc.//EZL 2.5.5.28621
BEGIN:VEVENT
UID:13230949@ezleagues.ezfacility.com
DTSTAMP:20260424T043954Z
CREATED:20260424T043954Z
DTSTART:20200725T200000Z
DTEND:20200725T210000Z
LOCATION:Bridgeville RollerPlex
CONTACT:
SUMMARY:Rockets VS. The Gamblers
DESCRIPTION:League Name: z Archive 2020 Summer Puck DEEP SOUTH 1\nGame Type
 : Regular\nGame Status: Complete\nHome Team: Rockets\nAway Team: The Gambl
 ers\nHome Score: 8\nAway Score: 0
END:VEVENT
BEGIN:VEVENT
UID:13230955@ezleagues.ezfacility.com
DTSTAMP:20260424T043954Z
CREATED:20260424T043954Z
DTSTART:20200801T230000Z
DTEND:20200802T000000Z
LOCATION:Bridgeville RollerPlex
CONTACT:
SUMMARY:Rockets VS. TurtleHeads
DESCRIPTION:League Name: z Archive 2020 Summer Puck DEEP SOUTH 1\nGame Type
 : Regular\nGame Status: Complete\nHome Team: Rockets\nAway Team: TurtleHea
 ds\nHome Score: 0\nAway Score: 8
END:VEVENT
BEGIN:VEVENT
UID:13230957@ezleagues.ezfacility.com
DTSTAMP:20260424T043954Z
CREATED:20260424T043954Z
DTSTART:20200813T010000Z
DTEND:20200813T020000Z
LOCATION:Bridgeville RollerPlex
CONTACT:
SUMMARY:Rockets VS. The Boyz
DESCRIPTION:League Name: z Archive 2020 Summer Puck DEEP SOUTH 1\nGame Type
 : Regular\nGame Status: Complete\nHome Team: Rockets\nAway Team: The Boyz\
 nHome Score: 6\nAway Score: 10
END:VEVENT
BEGIN:VEVENT
UID:13230967@ezleagues.ezfacility.com
DTSTAMP:20260424T043954Z
CREATED:20260424T043954Z
DTSTART:20200815T230000Z
DTEND:20200816T000000Z
LOCATION:Bridgeville RollerPlex
CONTACT:
SUMMARY:Raging Hogs VS. Rockets
DESCRIPTION:League Name: z Archive 2020 Summer Puck DEEP SOUTH 1\nGame Type
 : Regular\nGame Status: Complete\nHome Team: Raging Hogs\nAway Team: Rocke
 ts\nHome Score: 8\nAway Score: 9
END:VEVENT
BEGIN:VEVENT
UID:13230972@ezleagues.ezfacility.com
DTSTAMP:20260424T043954Z
CREATED:20260424T043954Z
DTSTART:20200822T220000Z
DTEND:20200822T230000Z
LOCATION:Bridgeville RollerPlex
CONTACT:
SUMMARY:Playmakers VS. Rockets
DESCRIPTION:League Name: z Archive 2020 Summer Puck DEEP SOUTH 1\nGame Type
 : Regular\nGame Status: Complete\nHome Team: Playmakers\nAway Team: Rocket
 s\nHome Score: 5\nAway Score: 7
END:VEVENT
BEGIN:VEVENT
UID:13230977@ezleagues.ezfacility.com
DTSTAMP:20260424T043954Z
CREATED:20260424T043954Z
DTSTART:20200829T210000Z
DTEND:20200829T220000Z
LOCATION:Bridgeville RollerPlex
CONTACT:
SUMMARY:Team Darlene VS. Rockets
DESCRIPTION:League Name: z Archive 2020 Summer Puck DEEP SOUTH 1\nGame Type
 : Regular\nGame Status: Complete\nHome Team: Team Darlene\nAway Team: Rock
 ets\nHome Score: 5\nAway Score: 4
END:VEVENT
BEGIN:VEVENT
UID:13230982@ezleagues.ezfacility.com
DTSTAMP:20260424T043954Z
CREATED:20260424T043954Z
DTSTART:20200905T220000Z
DTEND:20200905T230000Z
LOCATION:Bridgeville RollerPlex
CONTACT:
SUMMARY:Tornados VS. Rockets
DESCRIPTION:League Name: z Archive 2020 Summer Puck DEEP SOUTH 1\nGame Type
 : Regular\nGame Status: Complete\nHome Team: Tornados\nAway Team: Rockets\
 nHome Score: 3\nAway Score: 4
END:VEVENT
BEGIN:VEVENT
UID:13230987@ezleagues.ezfacility.com
DTSTAMP:20260424T043954Z
CREATED:20260424T043954Z
DTSTART:20200917T010000Z
DTEND:20200917T020000Z
LOCATION:Bridgeville RollerPlex
CONTACT:
SUMMARY:Pigeon Patrol VS. Rockets
DESCRIPTION:League Name: z Archive 2020 Summer Puck DEEP SOUTH 1\nGame Type
 : Regular\nGame Status: Complete\nHome Team: Pigeon Patrol\nAway Team: Roc
 kets\nHome Score: 8\nAway Score: 0
END:VEVENT
BEGIN:VEVENT
UID:13230994@ezleagues.ezfacility.com
DTSTAMP:20260424T043954Z
CREATED:20260424T043954Z
DTSTART:20200919T200000Z
DTEND:20200919T210000Z
LOCATION:Bridgeville RollerPlex
CONTACT:
SUMMARY:Rockets VS. Bulldawgz
DESCRIPTION:League Name: z Archive 2020 Summer Puck DEEP SOUTH 1\nGame Type
 : Regular\nGame Status: Complete\nHome Team: Rockets\nAway Team: Bulldawgz
 \nHome Score: 0\nAway Score: 8
END:VEVENT
BEGIN:VEVENT
UID:13231001@ezleagues.ezfacility.com
DTSTAMP:20260424T043954Z
CREATED:20260424T043954Z
DTSTART:20200926T200000Z
DTEND:20200926T210000Z
LOCATION:Bridgeville RollerPlex
CONTACT:
SUMMARY:Rockets VS. Mighty Ducks
DESCRIPTION:League Name: z Archive 2020 Summer Puck DEEP SOUTH 1\nGame Type
 : Regular\nGame Status: Complete\nHome Team: Rockets\nAway Team: Mighty Du
 cks\nHome Score: 5\nAway Score: 7
END:VEVENT
BEGIN:VEVENT
UID:13332115@ezleagues.ezfacility.com
DTSTAMP:20260424T043954Z
CREATED:20260424T043954Z
DTSTART:20201003T200000Z
DTEND:20201003T210000Z
LOCATION:Bridgeville RollerPlex
CONTACT:
SUMMARY:Rockets VS. Bulldawgz
DESCRIPTION:League Name: z Archive 2020 Summer Puck DEEP SOUTH 1\nGame Type
 : Postseason\nGame Status: Complete\nHome Team: Rockets\nAway Team: Bullda
 wgz\nHome Score: 7\nAway Score: 6
END:VEVENT
BEGIN:VEVENT
UID:13332121@ezleagues.ezfacility.com
DTSTAMP:20260424T043954Z
CREATED:20260424T043954Z
DTSTART:20201003T220000Z
DTEND:20201003T230000Z
LOCATION:Bridgeville RollerPlex
CONTACT:
SUMMARY:Tornados VS. Rockets
DESCRIPTION:League Name: z Archive 2020 Summer Puck DEEP SOUTH 1\nGame Type
 : Postseason\nGame Status: Complete\nHome Team: Tornados\nAway Team: Rocke
 ts\nHome Score: 8\nAway Score: 3
END:VEVENT
END:VCALENDAR
