BEGIN:VCALENDAR
VERSION:2.0
PRODID:-//EZFacility.com, Inc.//EZL 2.5.5.28621
BEGIN:VEVENT
UID:13616243@ezleagues.ezfacility.com
DTSTAMP:20260424T044032Z
CREATED:20260424T044032Z
DTSTART:20210307T230000Z
DTEND:20210308T000000Z
LOCATION:Harmans Premier Field #5
CONTACT:
SUMMARY:The Misfits VS. Tigres
DESCRIPTION:League Name: Sun Coed Open 4th United div \nGame Type: Regular\
 nGame Status: Complete\nHome Team: The Misfits\nAway Team: Tigres\nHome Sc
 ore: 2\nAway Score: 8
END:VEVENT
BEGIN:VEVENT
UID:13616251@ezleagues.ezfacility.com
DTSTAMP:20260424T044032Z
CREATED:20260424T044032Z
DTSTART:20210315T010000Z
DTEND:20210315T020000Z
LOCATION:Harmans Premier Field #4
CONTACT:
SUMMARY:Sun Milk VS. The Misfits
DESCRIPTION:League Name: Sun Coed Open 4th United div \nGame Type: Regular\
 nGame Status: Complete\nHome Team: Sun Milk\nAway Team: The Misfits\nHome 
 Score: 8\nAway Score: 2
END:VEVENT
BEGIN:VEVENT
UID:13616259@ezleagues.ezfacility.com
DTSTAMP:20260424T044032Z
CREATED:20260424T044032Z
DTSTART:20210321T220000Z
DTEND:20210321T230000Z
LOCATION:Harmans Premier Field #5
CONTACT:
SUMMARY:Kids see Ghost VS. The Misfits
DESCRIPTION:League Name: Sun Coed Open 4th United div \nGame Type: Regular\
 nGame Status: Complete\nHome Team: Kids see Ghost\nAway Team: The Misfits\
 nHome Score: 9\nAway Score: 6
END:VEVENT
BEGIN:VEVENT
UID:13616267@ezleagues.ezfacility.com
DTSTAMP:20260424T044032Z
CREATED:20260424T044032Z
DTSTART:20210329T000000Z
DTEND:20210329T010000Z
LOCATION:Harmans Premier Field #4
CONTACT:
SUMMARY:Blue Machine VS. The Misfits
DESCRIPTION:League Name: Sun Coed Open 4th United div \nGame Type: Regular\
 nGame Status: Complete\nHome Team: Blue Machine\nAway Team: The Misfits\nH
 ome Score: 9\nAway Score: 4
END:VEVENT
BEGIN:VEVENT
UID:13616283@ezleagues.ezfacility.com
DTSTAMP:20260424T044032Z
CREATED:20260424T044032Z
DTSTART:20210412T010000Z
DTEND:20210412T020000Z
LOCATION:Harmans Premier Field #4
CONTACT:
SUMMARY:The Misfits VS. Galacticos
DESCRIPTION:League Name: Sun Coed Open 4th United div \nGame Type: Regular\
 nGame Status: Complete\nHome Team: The Misfits\nAway Team: Galacticos\nHom
 e Score: 2\nAway Score: 7
END:VEVENT
BEGIN:VEVENT
UID:13616290@ezleagues.ezfacility.com
DTSTAMP:20260424T044032Z
CREATED:20260424T044032Z
DTSTART:20210419T010000Z
DTEND:20210419T020000Z
LOCATION:Harmans Premier Field #5
CONTACT:
SUMMARY:The Misfits VS. Mcjovenes
DESCRIPTION:League Name: Sun Coed Open 4th United div \nGame Type: Regular\
 nGame Status: Complete\nHome Team: The Misfits\nAway Team: Mcjovenes\nHome
  Score: 5\nAway Score: 5
END:VEVENT
BEGIN:VEVENT
UID:13616275@ezleagues.ezfacility.com
DTSTAMP:20260424T044032Z
CREATED:20260424T044032Z
DTSTART:20210426T000000Z
DTEND:20210426T010000Z
LOCATION:Harmans Premier Field #4
CONTACT:
SUMMARY:Old School VS. The Misfits
DESCRIPTION:League Name: Sun Coed Open 4th United div \nGame Type: Regular\
 nGame Status: Complete\nHome Team: Old School\nAway Team: The Misfits\nHom
 e Score: 0\nAway Score: 5
END:VEVENT
BEGIN:VEVENT
UID:13698355@ezleagues.ezfacility.com
DTSTAMP:20260424T044032Z
CREATED:20260424T044032Z
DTSTART:20210502T230000Z
DTEND:20210503T000000Z
LOCATION:Harmans Premier Field #5
CONTACT:
SUMMARY:Mcjovenes VS. The Misfits
DESCRIPTION:League Name: Sun Coed Open 4th United div \nGame Type: Regular\
 nGame Status: Complete\nHome Team: Mcjovenes\nAway Team: The Misfits\nHome
  Score: 3\nAway Score: 10
END:VEVENT
BEGIN:VEVENT
UID:13705799@ezleagues.ezfacility.com
DTSTAMP:20260424T044032Z
CREATED:20260424T044032Z
DTSTART:20210509T220000Z
DTEND:20210509T230000Z
LOCATION:Harmans Premier Field #4
CONTACT:
SUMMARY:The Misfits VS. Kids see Ghost
DESCRIPTION:League Name: Sun Coed Open 4th United div \nGame Type: Regular\
 nGame Status: Complete\nHome Team: The Misfits\nAway Team: Kids see Ghost\
 nHome Score: 4\nAway Score: 5
END:VEVENT
END:VCALENDAR
