BEGIN:VCALENDAR
VERSION:2.0
PRODID:-//EZFacility.com, Inc.//EZL 2.5.5.28621
BEGIN:VEVENT
UID:13484915@ezleagues.ezfacility.com
DTSTAMP:20260424T062848Z
CREATED:20260424T062848Z
DTSTART:20201220T000000Z
DTEND:20201220T010000Z
LOCATION:Harmans Premier Field #5
CONTACT:
SUMMARY:Maryland FC VS. Mexico
DESCRIPTION:League Name: Sat Mens Open 2nd div \nGame Type: Regular\nGame S
 tatus: Complete\nHome Team: Maryland FC\nAway Team: Mexico\nHome Score: 7\
 nAway Score: 2
END:VEVENT
BEGIN:VEVENT
UID:13484937@ezleagues.ezfacility.com
DTSTAMP:20260424T062848Z
CREATED:20260424T062848Z
DTSTART:20210103T020000Z
DTEND:20210103T030000Z
LOCATION:Harmans Premier Field #5
CONTACT:
SUMMARY:Mexico VS. Rodriguez FC
DESCRIPTION:League Name: Sat Mens Open 2nd div \nGame Type: Regular\nGame S
 tatus: Complete\nHome Team: Mexico\nAway Team: Rodriguez FC\nHome Score: 4
 \nAway Score: 3
END:VEVENT
BEGIN:VEVENT
UID:13484947@ezleagues.ezfacility.com
DTSTAMP:20260424T062848Z
CREATED:20260424T062848Z
DTSTART:20210110T010000Z
DTEND:20210110T020000Z
LOCATION:Harmans Premier Field #4
CONTACT:
SUMMARY:Los Catrachos VS. Mexico
DESCRIPTION:League Name: Sat Mens Open 2nd div \nGame Type: Regular\nGame S
 tatus: Complete\nHome Team: Los Catrachos\nAway Team: Mexico\nHome Score: 
 7\nAway Score: 3
END:VEVENT
BEGIN:VEVENT
UID:13484956@ezleagues.ezfacility.com
DTSTAMP:20260424T062848Z
CREATED:20260424T062848Z
DTSTART:20210117T030000Z
DTEND:20210117T040000Z
LOCATION:Harmans Premier Field #5
CONTACT:
SUMMARY:Ciscos C.A. VS. Mexico
DESCRIPTION:League Name: Sat Mens Open 2nd div \nGame Type: Regular\nGame S
 tatus: Complete\nHome Team: Ciscos C.A.\nAway Team: Mexico\nHome Score: 6\
 nAway Score: 8
END:VEVENT
BEGIN:VEVENT
UID:13484965@ezleagues.ezfacility.com
DTSTAMP:20260424T062848Z
CREATED:20260424T062848Z
DTSTART:20210124T020000Z
DTEND:20210124T030000Z
LOCATION:Harmans Premier Field #4
CONTACT:
SUMMARY:Mexico VS. Maryland FC
DESCRIPTION:League Name: Sat Mens Open 2nd div \nGame Type: Regular\nGame S
 tatus: Complete\nHome Team: Mexico\nAway Team: Maryland FC\nHome Score: 3\
 nAway Score: 5
END:VEVENT
BEGIN:VEVENT
UID:13484976@ezleagues.ezfacility.com
DTSTAMP:20260424T062848Z
CREATED:20260424T062848Z
DTSTART:20210131T000000Z
DTEND:20210131T010000Z
LOCATION:Harmans Premier Field #5
CONTACT:
SUMMARY:Mexico VS. Liverpool
DESCRIPTION:League Name: Sat Mens Open 2nd div \nGame Type: Regular\nGame S
 tatus: Complete\nHome Team: Mexico\nAway Team: Liverpool\nHome Score: 0\nA
 way Score: 14
END:VEVENT
BEGIN:VEVENT
UID:13484926@ezleagues.ezfacility.com
DTSTAMP:20260424T062848Z
CREATED:20260424T062848Z
DTSTART:20210207T030000Z
DTEND:20210207T040000Z
LOCATION:Harmans Premier Field #4
CONTACT:
SUMMARY:Liverpool VS. Mexico
DESCRIPTION:League Name: Sat Mens Open 2nd div \nGame Type: Regular\nGame S
 tatus: Complete\nHome Team: Liverpool\nAway Team: Mexico\nHome Score: 5\nA
 way Score: 6
END:VEVENT
BEGIN:VEVENT
UID:13579803@ezleagues.ezfacility.com
DTSTAMP:20260424T062848Z
CREATED:20260424T062848Z
DTSTART:20210214T000000Z
DTEND:20210214T010000Z
LOCATION:Harmans Premier Field #5
CONTACT:
SUMMARY:Mexico VS. Ciscos C.A.
DESCRIPTION:League Name: Sat Mens Open 2nd div \nGame Type: Regular\nGame S
 tatus: Complete\nHome Team: Mexico\nAway Team: Ciscos C.A.\nHome Score: 8\
 nAway Score: 5
END:VEVENT
BEGIN:VEVENT
UID:13591264@ezleagues.ezfacility.com
DTSTAMP:20260424T062848Z
CREATED:20260424T062848Z
DTSTART:20210221T010000Z
DTEND:20210221T020000Z
LOCATION:Harmans Premier Field #5
CONTACT:
SUMMARY:Mexico VS. Rodriguez FC
DESCRIPTION:League Name: Sat Mens Open 2nd div \nGame Type: Regular\nGame S
 tatus: Complete\nHome Team: Mexico\nAway Team: Rodriguez FC\nHome Score: 3
 \nAway Score: 2
END:VEVENT
END:VCALENDAR
