BEGIN:VCALENDAR
VERSION:2.0
PRODID:-//EZFacility.com, Inc.//EZL 2.5.5.28621
BEGIN:VEVENT
UID:13292895@ezleagues.ezfacility.com
DTSTAMP:20260426T034949Z
CREATED:20260426T034949Z
DTSTART:20201003T140000Z
DTEND:20201003T150000Z
LOCATION:EAD Gym Court 1
CONTACT:
SUMMARY:Mimosa-Propps VS. Luling-Gilbert
DESCRIPTION:League Name: 2020 Volleyball 9-11yr Division\nGame Type: Regula
 r\nGame Status: Pending\nHome Team: Mimosa-Propps\nAway Team: Luling-Gilbe
 rt\n
END:VEVENT
BEGIN:VEVENT
UID:13292902@ezleagues.ezfacility.com
DTSTAMP:20260426T034949Z
CREATED:20260426T034949Z
DTSTART:20201007T230000Z
DTEND:20201008T000000Z
LOCATION:EAD Gym Court 1
CONTACT:
SUMMARY:Mimosa-Schulbrecht VS. Mimosa-Propps
DESCRIPTION:League Name: 2020 Volleyball 9-11yr Division\nGame Type: Regula
 r\nGame Status: Pending\nHome Team: Mimosa-Schulbrecht\nAway Team: Mimosa-
 Propps\n
END:VEVENT
BEGIN:VEVENT
UID:13292908@ezleagues.ezfacility.com
DTSTAMP:20260426T034949Z
CREATED:20260426T034949Z
DTSTART:20201014T230000Z
DTEND:20201015T000000Z
LOCATION:EAD Gym Court 1
CONTACT:
SUMMARY:Mimosa-Gassen VS. Mimosa-Propps
DESCRIPTION:League Name: 2020 Volleyball 9-11yr Division\nGame Type: Regula
 r\nGame Status: Pending\nHome Team: Mimosa-Gassen\nAway Team: Mimosa-Propp
 s\n
END:VEVENT
BEGIN:VEVENT
UID:13292933@ezleagues.ezfacility.com
DTSTAMP:20260426T034949Z
CREATED:20260426T034949Z
DTSTART:20201017T164500Z
DTEND:20201017T174500Z
LOCATION:EAD Gym Court 1
CONTACT:
SUMMARY:Des Allemands-Soudelier VS. Mimosa-Propps
DESCRIPTION:League Name: 2020 Volleyball 9-11yr Division\nGame Type: Regula
 r\nGame Status: Pending\nHome Team: Des Allemands-Soudelier\nAway Team: Mi
 mosa-Propps\n
END:VEVENT
BEGIN:VEVENT
UID:13292913@ezleagues.ezfacility.com
DTSTAMP:20260426T034949Z
CREATED:20260426T034949Z
DTSTART:20201022T001500Z
DTEND:20201022T011500Z
LOCATION:EAD Gym Court 2
CONTACT:
SUMMARY:Mimosa-Propps VS. Destrehan-Oubre
DESCRIPTION:League Name: 2020 Volleyball 9-11yr Division\nGame Type: Regula
 r\nGame Status: Pending\nHome Team: Mimosa-Propps\nAway Team: Destrehan-Ou
 bre\n
END:VEVENT
BEGIN:VEVENT
UID:13292940@ezleagues.ezfacility.com
DTSTAMP:20260426T034949Z
CREATED:20260426T034949Z
DTSTART:20201024T151500Z
DTEND:20201024T161500Z
LOCATION:EAD Gym Court 1
CONTACT:
SUMMARY:Mimosa-Propps VS. Destrehan-Dufrene
DESCRIPTION:League Name: 2020 Volleyball 9-11yr Division\nGame Type: Regula
 r\nGame Status: Pending\nHome Team: Mimosa-Propps\nAway Team: Destrehan-Du
 frene\n
END:VEVENT
BEGIN:VEVENT
UID:13292918@ezleagues.ezfacility.com
DTSTAMP:20260426T034949Z
CREATED:20260426T034949Z
DTSTART:20201029T001500Z
DTEND:20201029T011500Z
LOCATION:EAD Gym Court 1
CONTACT:
SUMMARY:Destrehan-DeGruy VS. Mimosa-Propps
DESCRIPTION:League Name: 2020 Volleyball 9-11yr Division\nGame Type: Regula
 r\nGame Status: Rescheduled\nHome Team: Destrehan-DeGruy\nAway Team: Mimos
 a-Propps\n
END:VEVENT
BEGIN:VEVENT
UID:13292923@ezleagues.ezfacility.com
DTSTAMP:20260426T034949Z
CREATED:20260426T034949Z
DTSTART:20201031T151500Z
DTEND:20201031T161500Z
LOCATION:EAD Gym Court 1
CONTACT:
SUMMARY:Mimosa-Propps VS. Norco
DESCRIPTION:League Name: 2020 Volleyball 9-11yr Division\nGame Type: Regula
 r\nGame Status: Pending\nHome Team: Mimosa-Propps\nAway Team: Norco\n
END:VEVENT
BEGIN:VEVENT
UID:13406237@ezleagues.ezfacility.com
DTSTAMP:20260426T034949Z
CREATED:20260426T034949Z
DTSTART:20201119T011500Z
DTEND:20201119T021500Z
LOCATION:EAD Gym Court 1
CONTACT:
SUMMARY:Destrehan-DeGruy VS. Mimosa-Propps
DESCRIPTION:League Name: 2020 Volleyball 9-11yr Division\nGame Type: Regula
 r\nGame Status: Pending\nHome Team: Destrehan-DeGruy\nAway Team: Mimosa-Pr
 opps\n
END:VEVENT
END:VCALENDAR
