BEGIN:VCALENDAR
VERSION:2.0
PRODID:-//EZFacility.com, Inc.//EZL 2.5.5.28621
BEGIN:VEVENT
UID:13325194@ezleagues.ezfacility.com
DTSTAMP:20260426T033806Z
CREATED:20260426T033806Z
DTSTART:20200930T233000Z
DTEND:20201001T003000Z
LOCATION:1C
CONTACT:
SUMMARY:Barcaloners VS. FC Rapids 
DESCRIPTION:League Name: 2020 - Fall - Coed - Tier 1\nGame Type: Regular\nG
 ame Status: Complete\nHome Team: Barcaloners\nAway Team: FC Rapids \nHome 
 Score: 7\nAway Score: 4
END:VEVENT
BEGIN:VEVENT
UID:13325207@ezleagues.ezfacility.com
DTSTAMP:20260426T033806Z
CREATED:20260426T033806Z
DTSTART:20201007T233000Z
DTEND:20201008T003000Z
LOCATION:1D
CONTACT:
SUMMARY:Febreeze VS. Barcaloners
DESCRIPTION:League Name: 2020 - Fall - Coed - Tier 1\nGame Type: Regular\nG
 ame Status: Complete\nHome Team: Febreeze\nAway Team: Barcaloners\nHome Sc
 ore: 4\nAway Score: 4
END:VEVENT
BEGIN:VEVENT
UID:13325211@ezleagues.ezfacility.com
DTSTAMP:20260426T033806Z
CREATED:20260426T033806Z
DTSTART:20201015T004500Z
DTEND:20201015T014500Z
LOCATION:1C
CONTACT:
SUMMARY:Selecta FC VS. Barcaloners
DESCRIPTION:League Name: 2020 - Fall - Coed - Tier 1\nGame Type: Regular\nG
 ame Status: Complete\nHome Team: Selecta FC\nAway Team: Barcaloners\nHome 
 Score: 6\nAway Score: 9
END:VEVENT
BEGIN:VEVENT
UID:13325226@ezleagues.ezfacility.com
DTSTAMP:20260426T033806Z
CREATED:20260426T033806Z
DTSTART:20201021T233000Z
DTEND:20201022T003000Z
LOCATION:1C
CONTACT:
SUMMARY:Knights VS. Barcaloners
DESCRIPTION:League Name: 2020 - Fall - Coed - Tier 1\nGame Type: Regular\nG
 ame Status: Complete\nHome Team: Knights\nAway Team: Barcaloners\nHome Sco
 re: 0\nAway Score: 11
END:VEVENT
BEGIN:VEVENT
UID:13325248@ezleagues.ezfacility.com
DTSTAMP:20260426T033806Z
CREATED:20260426T033806Z
DTSTART:20201105T014500Z
DTEND:20201105T024500Z
LOCATION:1D
CONTACT:
SUMMARY:Barcaloners VS. FC Rapids 
DESCRIPTION:League Name: 2020 - Fall - Coed - Tier 1\nGame Type: Regular\nG
 ame Status: Complete\nHome Team: Barcaloners\nAway Team: FC Rapids \nHome 
 Score: 8\nAway Score: 4
END:VEVENT
BEGIN:VEVENT
UID:13325241@ezleagues.ezfacility.com
DTSTAMP:20260426T033806Z
CREATED:20260426T033806Z
DTSTART:20201110T003000Z
DTEND:20201110T013000Z
LOCATION:1D
CONTACT:
SUMMARY:Barcaloners VS. HBS
DESCRIPTION:League Name: 2020 - Fall - Coed - Tier 1\nGame Type: Regular\nG
 ame Status: Complete\nHome Team: Barcaloners\nAway Team: HBS\nHome Score: 
 8\nAway Score: 6
END:VEVENT
BEGIN:VEVENT
UID:13325252@ezleagues.ezfacility.com
DTSTAMP:20260426T033806Z
CREATED:20260426T033806Z
DTSTART:20201117T003000Z
DTEND:20201117T013000Z
LOCATION:1D
CONTACT:
SUMMARY:Febreeze VS. Barcaloners
DESCRIPTION:League Name: 2020 - Fall - Coed - Tier 1\nGame Type: Regular\nG
 ame Status: Complete\nHome Team: Febreeze\nAway Team: Barcaloners\nHome Sc
 ore: 3\nAway Score: 10
END:VEVENT
BEGIN:VEVENT
UID:13325256@ezleagues.ezfacility.com
DTSTAMP:20260426T033806Z
CREATED:20260426T033806Z
DTSTART:20201119T003000Z
DTEND:20201119T013000Z
LOCATION:1C
CONTACT:
SUMMARY:Barcaloners VS. Selecta FC
DESCRIPTION:League Name: 2020 - Fall - Coed - Tier 1\nGame Type: Regular\nG
 ame Status: Complete\nHome Team: Barcaloners\nAway Team: Selecta FC\nHome 
 Score: 1\nAway Score: 0
END:VEVENT
BEGIN:VEVENT
UID:13325258@ezleagues.ezfacility.com
DTSTAMP:20260426T033806Z
CREATED:20260426T033806Z
DTSTART:20201203T003000Z
DTEND:20201203T013000Z
LOCATION:1D
CONTACT:
SUMMARY:Barcaloners VS. Knights
DESCRIPTION:League Name: 2020 - Fall - Coed - Tier 1\nGame Type: Regular\nG
 ame Status: Pending\nHome Team: Barcaloners\nAway Team: Knights\n
END:VEVENT
BEGIN:VEVENT
UID:13325309@ezleagues.ezfacility.com
DTSTAMP:20260426T033806Z
CREATED:20260426T033806Z
DTSTART:20201210T003000Z
DTEND:20201210T013000Z
LOCATION:1D
CONTACT:
SUMMARY:Barcaloners VS. HBS
DESCRIPTION:League Name: 2020 - Fall - Coed - Tier 1\nGame Type: Regular\nG
 ame Status: Pending\nHome Team: Barcaloners\nAway Team: HBS\n
END:VEVENT
END:VCALENDAR
