BEGIN:VCALENDAR
VERSION:2.0
PRODID:-//EZFacility.com, Inc.//EZL 2.5.5.28621
BEGIN:VEVENT
UID:13358487@ezleagues.ezfacility.com
DTSTAMP:20260426T033843Z
CREATED:20260426T033843Z
DTSTART:20201017T230000Z
DTEND:20201018T000000Z
LOCATION:Bridgeville RollerPlex
CONTACT:
SUMMARY:Rockets VS. The Hawks
DESCRIPTION:League Name: z Archive 2020 Fall Puck (DEEP SOUTH 1)\nGame Type
 : Regular\nGame Status: Complete\nHome Team: Rockets\nAway Team: The Hawks
 \nHome Score: 3\nAway Score: 9
END:VEVENT
BEGIN:VEVENT
UID:13358491@ezleagues.ezfacility.com
DTSTAMP:20260426T033843Z
CREATED:20260426T033843Z
DTSTART:20201024T220000Z
DTEND:20201024T230000Z
LOCATION:Bridgeville RollerPlex
CONTACT:
SUMMARY:The Hawks VS. Team Darlene
DESCRIPTION:League Name: z Archive 2020 Fall Puck (DEEP SOUTH 1)\nGame Type
 : Regular\nGame Status: Complete\nHome Team: The Hawks\nAway Team: Team Da
 rlene\nHome Score: 7\nAway Score: 0
END:VEVENT
BEGIN:VEVENT
UID:13358494@ezleagues.ezfacility.com
DTSTAMP:20260426T033843Z
CREATED:20260426T033843Z
DTSTART:20201031T220000Z
DTEND:20201031T230000Z
LOCATION:Bridgeville RollerPlex
CONTACT:
SUMMARY:The Hawks VS. Rangers
DESCRIPTION:League Name: z Archive 2020 Fall Puck (DEEP SOUTH 1)\nGame Type
 : Regular\nGame Status: Complete\nHome Team: The Hawks\nAway Team: Rangers
 \nHome Score: 6\nAway Score: 3
END:VEVENT
BEGIN:VEVENT
UID:13358498@ezleagues.ezfacility.com
DTSTAMP:20260426T033843Z
CREATED:20260426T033843Z
DTSTART:20201107T200000Z
DTEND:20201107T210000Z
LOCATION:Bridgeville RollerPlex
CONTACT:
SUMMARY:Mud Dogs VS. The Hawks
DESCRIPTION:League Name: z Archive 2020 Fall Puck (DEEP SOUTH 1)\nGame Type
 : Regular\nGame Status: Complete\nHome Team: Mud Dogs\nAway Team: The Hawk
 s\nHome Score: 8\nAway Score: 7
END:VEVENT
BEGIN:VEVENT
UID:13358501@ezleagues.ezfacility.com
DTSTAMP:20260426T033843Z
CREATED:20260426T033843Z
DTSTART:20201115T000000Z
DTEND:20201115T010000Z
LOCATION:Bridgeville RollerPlex
CONTACT:
SUMMARY:Bulldawgz VS. The Hawks
DESCRIPTION:League Name: z Archive 2020 Fall Puck (DEEP SOUTH 1)\nGame Type
 : Regular\nGame Status: Complete\nHome Team: Bulldawgz\nAway Team: The Haw
 ks\nHome Score: 3\nAway Score: 6
END:VEVENT
BEGIN:VEVENT
UID:13358506@ezleagues.ezfacility.com
DTSTAMP:20260426T033843Z
CREATED:20260426T033843Z
DTSTART:20201121T200000Z
DTEND:20201121T210000Z
LOCATION:Bridgeville RollerPlex
CONTACT:
SUMMARY:The Hawks VS. Raging Hogs
DESCRIPTION:League Name: z Archive 2020 Fall Puck (DEEP SOUTH 1)\nGame Type
 : Regular\nGame Status: Complete\nHome Team: The Hawks\nAway Team: Raging 
 Hogs\nHome Score: 8\nAway Score: 0
END:VEVENT
BEGIN:VEVENT
UID:13358508@ezleagues.ezfacility.com
DTSTAMP:20260426T033843Z
CREATED:20260426T033843Z
DTSTART:20201203T020000Z
DTEND:20201203T030000Z
LOCATION:Bridgeville RollerPlex
CONTACT:
SUMMARY:The Hawks VS. The Gary Roberts Project 2
DESCRIPTION:League Name: z Archive 2020 Fall Puck (DEEP SOUTH 1)\nGame Type
 : Regular\nGame Status: Complete\nHome Team: The Hawks\nAway Team: The Gar
 y Roberts Project 2\nHome Score: 5\nAway Score: 9
END:VEVENT
BEGIN:VEVENT
UID:13358515@ezleagues.ezfacility.com
DTSTAMP:20260426T033843Z
CREATED:20260426T033843Z
DTSTART:20201205T200000Z
DTEND:20201205T210000Z
LOCATION:Bridgeville RollerPlex
CONTACT:
SUMMARY:The Hawks VS. Rockets
DESCRIPTION:League Name: z Archive 2020 Fall Puck (DEEP SOUTH 1)\nGame Type
 : Regular\nGame Status: Complete\nHome Team: The Hawks\nAway Team: Rockets
 \nHome Score: 8\nAway Score: 0
END:VEVENT
BEGIN:VEVENT
UID:13358519@ezleagues.ezfacility.com
DTSTAMP:20260426T033843Z
CREATED:20260426T033843Z
DTSTART:20210110T000000Z
DTEND:20210110T010000Z
LOCATION:Bridgeville RollerPlex
CONTACT:
SUMMARY:Team Darlene VS. The Hawks
DESCRIPTION:League Name: z Archive 2020 Fall Puck (DEEP SOUTH 1)\nGame Type
 : Regular\nGame Status: Complete\nHome Team: Team Darlene\nAway Team: The 
 Hawks\nHome Score: 2\nAway Score: 7
END:VEVENT
BEGIN:VEVENT
UID:13358522@ezleagues.ezfacility.com
DTSTAMP:20260426T033843Z
CREATED:20260426T033843Z
DTSTART:20210116T230000Z
DTEND:20210117T000000Z
LOCATION:Bridgeville RollerPlex
CONTACT:
SUMMARY:Rangers VS. The Hawks
DESCRIPTION:League Name: z Archive 2020 Fall Puck (DEEP SOUTH 1)\nGame Type
 : Regular\nGame Status: Complete\nHome Team: Rangers\nAway Team: The Hawks
 \nHome Score: 4\nAway Score: 8
END:VEVENT
BEGIN:VEVENT
UID:13550660@ezleagues.ezfacility.com
DTSTAMP:20260426T033843Z
CREATED:20260426T033843Z
DTSTART:20210123T210000Z
DTEND:20210123T220000Z
LOCATION:Bridgeville RollerPlex
CONTACT:
SUMMARY:The Hawks VS. Rockets
DESCRIPTION:League Name: z Archive 2020 Fall Puck (DEEP SOUTH 1)\nGame Type
 : Postseason\nGame Status: Complete\nHome Team: The Hawks\nAway Team: Rock
 ets\nHome Score: 11\nAway Score: 3
END:VEVENT
BEGIN:VEVENT
UID:13572730@ezleagues.ezfacility.com
DTSTAMP:20260426T033843Z
CREATED:20260426T033843Z
DTSTART:20210211T020000Z
DTEND:20210211T030000Z
LOCATION:Bridgeville RollerPlex
CONTACT:
SUMMARY:The Hawks VS. Rangers
DESCRIPTION:League Name: z Archive 2020 Fall Puck (DEEP SOUTH 1)\nGame Type
 : Postseason\nGame Status: Complete\nHome Team: The Hawks\nAway Team: Rang
 ers\nHome Score: 3\nAway Score: 2
END:VEVENT
BEGIN:VEVENT
UID:13575354@ezleagues.ezfacility.com
DTSTAMP:20260426T033843Z
CREATED:20260426T033843Z
DTSTART:20210211T041000Z
DTEND:20210211T051000Z
LOCATION:Bridgeville RollerPlex
CONTACT:
SUMMARY:The Hawks VS. The Gary Roberts Project 2
DESCRIPTION:League Name: z Archive 2020 Fall Puck (DEEP SOUTH 1)\nGame Type
 : Postseason\nGame Status: Complete\nHome Team: The Hawks\nAway Team: The 
 Gary Roberts Project 2\nHome Score: 8\nAway Score: 6
END:VEVENT
END:VCALENDAR
