BEGIN:VCALENDAR
VERSION:2.0
PRODID:-//EZFacility.com, Inc.//EZL 2.5.5.28621
BEGIN:VEVENT
UID:13603482@ezleagues.ezfacility.com
DTSTAMP:20260421T160620Z
CREATED:20260421T160620Z
DTSTART:20210309T232000Z
DTEND:20210310T001000Z
LOCATION:Elite--North Court
CONTACT:
SUMMARY:OV Sting VS. River
DESCRIPTION:League Name: 2021 Spring Basketball League (4th Boys)\nGame Typ
 e: Regular\nGame Status: Complete\nHome Team: OV Sting\nAway Team: River\n
 Home Score: 21\nAway Score: 18
END:VEVENT
BEGIN:VEVENT
UID:13625784@ezleagues.ezfacility.com
DTSTAMP:20260421T160620Z
CREATED:20260421T160620Z
DTSTART:20210316T220000Z
DTEND:20210316T230000Z
LOCATION:Elite--South Court
CONTACT:
SUMMARY:Ravenswood  VS. River
DESCRIPTION:League Name: 2021 Spring Basketball League (4th Boys)\nGame Typ
 e: Regular\nGame Status: Complete\nHome Team: Ravenswood \nAway Team: Rive
 r\nHome Score: 7\nAway Score: 36
END:VEVENT
BEGIN:VEVENT
UID:13636246@ezleagues.ezfacility.com
DTSTAMP:20260421T160620Z
CREATED:20260421T160620Z
DTSTART:20210323T220000Z
DTEND:20210323T225500Z
LOCATION:Elite--North Court
CONTACT:
SUMMARY:River VS. Williamstown 
DESCRIPTION:League Name: 2021 Spring Basketball League (4th Boys)\nGame Typ
 e: Regular\nGame Status: Complete\nHome Team: River\nAway Team: Williamsto
 wn \nHome Score: 27\nAway Score: 31
END:VEVENT
BEGIN:VEVENT
UID:13647435@ezleagues.ezfacility.com
DTSTAMP:20260421T160620Z
CREATED:20260421T160620Z
DTSTART:20210330T225500Z
DTEND:20210330T235000Z
LOCATION:Elite--North Court
CONTACT:
SUMMARY:River VS. New Martinsville
DESCRIPTION:League Name: 2021 Spring Basketball League (4th Boys)\nGame Typ
 e: Regular\nGame Status: Complete\nHome Team: River\nAway Team: New Martin
 sville\nHome Score: 25\nAway Score: 13
END:VEVENT
BEGIN:VEVENT
UID:13654490@ezleagues.ezfacility.com
DTSTAMP:20260421T160620Z
CREATED:20260421T160620Z
DTSTART:20210406T220000Z
DTEND:20210406T225000Z
LOCATION:Elite--South Court
CONTACT:
SUMMARY:River VS. Wirt County
DESCRIPTION:League Name: 2021 Spring Basketball League (4th Boys)\nGame Typ
 e: Regular\nGame Status: Complete\nHome Team: River\nAway Team: Wirt Count
 y\nHome Score: 30\nAway Score: 8
END:VEVENT
BEGIN:VEVENT
UID:13669939@ezleagues.ezfacility.com
DTSTAMP:20260421T160620Z
CREATED:20260421T160620Z
DTSTART:20210413T234000Z
DTEND:20210414T003000Z
LOCATION:Elite--South Court
CONTACT:
SUMMARY:River VS. St. Marys Storm
DESCRIPTION:League Name: 2021 Spring Basketball League (4th Boys)\nGame Typ
 e: Regular\nGame Status: Complete\nHome Team: River\nAway Team: St. Marys 
 Storm\nHome Score: 4\nAway Score: 44
END:VEVENT
BEGIN:VEVENT
UID:13682090@ezleagues.ezfacility.com
DTSTAMP:20260421T160620Z
CREATED:20260421T160620Z
DTSTART:20210419T225000Z
DTEND:20210419T234000Z
LOCATION:Elite--South Court
CONTACT:
SUMMARY:Blennerhassett VS. River
DESCRIPTION:League Name: 2021 Spring Basketball League (4th Boys)\nGame Typ
 e: Regular\nGame Status: Complete\nHome Team: Blennerhassett\nAway Team: R
 iver\nHome Score: 6\nAway Score: 19
END:VEVENT
BEGIN:VEVENT
UID:13682092@ezleagues.ezfacility.com
DTSTAMP:20260421T160620Z
CREATED:20260421T160620Z
DTSTART:20210421T222000Z
DTEND:20210421T231000Z
LOCATION:Elite--South Court
CONTACT:
SUMMARY:River VS. Parkersburg
DESCRIPTION:League Name: 2021 Spring Basketball League (4th Boys)\nGame Typ
 e: Regular\nGame Status: Complete\nHome Team: River\nAway Team: Parkersbur
 g\nHome Score: 22\nAway Score: 17
END:VEVENT
BEGIN:VEVENT
UID:13692839@ezleagues.ezfacility.com
DTSTAMP:20260421T160620Z
CREATED:20260421T160620Z
DTSTART:20210427T222000Z
DTEND:20210427T231000Z
LOCATION:Elite--South Court
CONTACT:
SUMMARY:River VS. Ravenswood 
DESCRIPTION:League Name: 2021 Spring Basketball League (4th Boys)\nGame Typ
 e: Regular\nGame Status: Complete\nHome Team: River\nAway Team: Ravenswood
  \nHome Score: 33\nAway Score: 2
END:VEVENT
END:VCALENDAR
