BEGIN:VCALENDAR
VERSION:2.0
PRODID:-//EZFacility.com, Inc.//EZL 2.5.5.28621
BEGIN:VEVENT
UID:13352818@ezleagues.ezfacility.com
DTSTAMP:20260426T034957Z
CREATED:20260426T034957Z
DTSTART:20201014T193000Z
DTEND:20201014T201000Z
LOCATION:Parc Des Princes
CONTACT:
SUMMARY:ReachArounds VS. Team 1
DESCRIPTION:League Name: Wednesday Night League Group B\nGame Type: Regular
 \nGame Status: Complete\nHome Team: ReachArounds\nAway Team: Team 1\nHome 
 Score: 5\nAway Score: 10
END:VEVENT
BEGIN:VEVENT
UID:13367539@ezleagues.ezfacility.com
DTSTAMP:20260426T034957Z
CREATED:20260426T034957Z
DTSTART:20201021T180000Z
DTEND:20201021T184000Z
LOCATION:Allianz Arena
CONTACT:
SUMMARY:Tangerine Wizards VS. Team 1
DESCRIPTION:League Name: Wednesday Night League Group B\nGame Type: Regular
 \nGame Status: Complete\nHome Team: Tangerine Wizards\nAway Team: Team 1\n
 Home Score: 11\nAway Score: 4
END:VEVENT
END:VCALENDAR
