BEGIN:VCALENDAR
VERSION:2.0
PRODID:-//EZFacility.com, Inc.//EZL 2.5.5.28621
BEGIN:VEVENT
UID:13382365@ezleagues.ezfacility.com
DTSTAMP:20260424T044237Z
CREATED:20260424T044237Z
DTSTART:20201030T223000Z
DTEND:20201030T231500Z
LOCATION:Indoor West
CONTACT:
SUMMARY:Avalanche 04 White SL Team 2 VS. Blue Knights 05 MV White
DESCRIPTION:League Name: Girls JV-Varsity Indoor\nGame Type: Regular\nGame 
 Status: Complete\nHome Team: Avalanche 04 White SL Team 2\nAway Team: Blue
  Knights 05 MV White\nHome Score: 2\nAway Score: 5
END:VEVENT
BEGIN:VEVENT
UID:13382370@ezleagues.ezfacility.com
DTSTAMP:20260424T044237Z
CREATED:20260424T044237Z
DTSTART:20201107T001500Z
DTEND:20201107T010000Z
LOCATION:Indoor West
CONTACT:
SUMMARY:Avalanche 04 White SL Team 1 VS. Blue Knights 05 MV White
DESCRIPTION:League Name: Girls JV-Varsity Indoor\nGame Type: Regular\nGame 
 Status: Complete\nHome Team: Avalanche 04 White SL Team 1\nAway Team: Blue
  Knights 05 MV White\nHome Score: 0\nAway Score: 3
END:VEVENT
BEGIN:VEVENT
UID:13382384@ezleagues.ezfacility.com
DTSTAMP:20260424T044237Z
CREATED:20260424T044237Z
DTSTART:20201204T021500Z
DTEND:20201204T030000Z
LOCATION:Indoor West
CONTACT:
SUMMARY:Utah Arsenal VS. Blue Knights 05 MV White
DESCRIPTION:League Name: Girls JV-Varsity Indoor\nGame Type: Regular\nGame 
 Status: Complete\nHome Team: Utah Arsenal\nAway Team: Blue Knights 05 MV W
 hite\nHome Score: 2\nAway Score: 5
END:VEVENT
BEGIN:VEVENT
UID:13382398@ezleagues.ezfacility.com
DTSTAMP:20260424T044237Z
CREATED:20260424T044237Z
DTSTART:20201205T023000Z
DTEND:20201205T031500Z
LOCATION:Indoor West
CONTACT:
SUMMARY:Blue Knights 05 MV Blue VS. Blue Knights 05 MV White
DESCRIPTION:League Name: Girls JV-Varsity Indoor\nGame Type: Regular\nGame 
 Status: Complete\nHome Team: Blue Knights 05 MV Blue\nAway Team: Blue Knig
 hts 05 MV White\nHome Score: 6\nAway Score: 3
END:VEVENT
BEGIN:VEVENT
UID:13382391@ezleagues.ezfacility.com
DTSTAMP:20260424T044237Z
CREATED:20260424T044237Z
DTSTART:20201211T003000Z
DTEND:20201211T011500Z
LOCATION:Indoor East
CONTACT:
SUMMARY:Blue Knights 05 MV White VS. Crush O
DESCRIPTION:League Name: Girls JV-Varsity Indoor\nGame Type: Regular\nGame 
 Status: Complete\nHome Team: Blue Knights 05 MV White\nAway Team: Crush O\
 nHome Score: 2\nAway Score: 4
END:VEVENT
BEGIN:VEVENT
UID:13382405@ezleagues.ezfacility.com
DTSTAMP:20260424T044237Z
CREATED:20260424T044237Z
DTSTART:20201212T234500Z
DTEND:20201213T003000Z
LOCATION:Indoor West
CONTACT:
SUMMARY:Blue Knights 05 MV White VS. Blue Knights 04 (UL)
DESCRIPTION:League Name: Girls JV-Varsity Indoor\nGame Type: Regular\nGame 
 Status: Complete\nHome Team: Blue Knights 05 MV White\nAway Team: Blue Kni
 ghts 04 (UL)\nHome Score: 3\nAway Score: 4
END:VEVENT
BEGIN:VEVENT
UID:13382411@ezleagues.ezfacility.com
DTSTAMP:20260424T044237Z
CREATED:20260424T044237Z
DTSTART:20201218T224500Z
DTEND:20201218T233000Z
LOCATION:Indoor West
CONTACT:
SUMMARY:Blue Knights 05 MV White VS. CMS WHITE
DESCRIPTION:League Name: Girls JV-Varsity Indoor\nGame Type: Regular\nGame 
 Status: Complete\nHome Team: Blue Knights 05 MV White\nAway Team: CMS WHIT
 E\nHome Score: 4\nAway Score: 1
END:VEVENT
BEGIN:VEVENT
UID:13382377@ezleagues.ezfacility.com
DTSTAMP:20260424T044237Z
CREATED:20260424T044237Z
DTSTART:20210102T023000Z
DTEND:20210102T031500Z
LOCATION:Indoor East
CONTACT:
SUMMARY:Blue Knights 05 MV White VS. Crush P
DESCRIPTION:League Name: Girls JV-Varsity Indoor\nGame Type: Regular\nGame 
 Status: Complete\nHome Team: Blue Knights 05 MV White\nAway Team: Crush P\
 nHome Score: 4\nAway Score: 2
END:VEVENT
END:VCALENDAR
