BEGIN:VCALENDAR
VERSION:2.0
PRODID:-//EZFacility.com, Inc.//EZL 2.5.5.28621
BEGIN:VEVENT
UID:13382368@ezleagues.ezfacility.com
DTSTAMP:20260426T034103Z
CREATED:20260426T034103Z
DTSTART:20201031T013000Z
DTEND:20201031T021500Z
LOCATION:Indoor West
CONTACT:
SUMMARY:Crush O VS. USA Premier O5G - KL
DESCRIPTION:League Name: Girls JV-Varsity Indoor\nGame Type: Regular\nGame 
 Status: Complete\nHome Team: Crush O\nAway Team: USA Premier O5G - KL\nHom
 e Score: 2\nAway Score: 2
END:VEVENT
BEGIN:VEVENT
UID:13382375@ezleagues.ezfacility.com
DTSTAMP:20260426T034103Z
CREATED:20260426T034103Z
DTSTART:20201107T014500Z
DTEND:20201107T023000Z
LOCATION:Indoor West
CONTACT:
SUMMARY:Utah Arsenal VS. Crush O
DESCRIPTION:League Name: Girls JV-Varsity Indoor\nGame Type: Regular\nGame 
 Status: Complete\nHome Team: Utah Arsenal\nAway Team: Crush O\nHome Score:
  5\nAway Score: 4
END:VEVENT
BEGIN:VEVENT
UID:13382396@ezleagues.ezfacility.com
DTSTAMP:20260426T034103Z
CREATED:20260426T034103Z
DTSTART:20201206T023000Z
DTEND:20201206T031500Z
LOCATION:Indoor West
CONTACT:
SUMMARY:Crush P VS. Crush O
DESCRIPTION:League Name: Girls JV-Varsity Indoor\nGame Type: Regular\nGame 
 Status: Complete\nHome Team: Crush P\nAway Team: Crush O\nHome Score: 4\nA
 way Score: 6
END:VEVENT
BEGIN:VEVENT
UID:13382391@ezleagues.ezfacility.com
DTSTAMP:20260426T034103Z
CREATED:20260426T034103Z
DTSTART:20201211T003000Z
DTEND:20201211T011500Z
LOCATION:Indoor East
CONTACT:
SUMMARY:Blue Knights 05 MV White VS. Crush O
DESCRIPTION:League Name: Girls JV-Varsity Indoor\nGame Type: Regular\nGame 
 Status: Complete\nHome Team: Blue Knights 05 MV White\nAway Team: Crush O\
 nHome Score: 2\nAway Score: 4
END:VEVENT
BEGIN:VEVENT
UID:13382402@ezleagues.ezfacility.com
DTSTAMP:20260426T034103Z
CREATED:20260426T034103Z
DTSTART:20201213T003000Z
DTEND:20201213T011500Z
LOCATION:Indoor West
CONTACT:
SUMMARY:Crush O VS. CMS 04 Blue
DESCRIPTION:League Name: Girls JV-Varsity Indoor\nGame Type: Regular\nGame 
 Status: Complete\nHome Team: Crush O\nAway Team: CMS 04 Blue\nHome Score: 
 0\nAway Score: 1
END:VEVENT
BEGIN:VEVENT
UID:13382386@ezleagues.ezfacility.com
DTSTAMP:20260426T034103Z
CREATED:20260426T034103Z
DTSTART:20201218T021500Z
DTEND:20201218T030000Z
LOCATION:Indoor West
CONTACT:
SUMMARY:Crush O VS. Avalanche 04 White SL Team 2
DESCRIPTION:League Name: Girls JV-Varsity Indoor\nGame Type: Regular\nGame 
 Status: Complete\nHome Team: Crush O\nAway Team: Avalanche 04 White SL Tea
 m 2\nHome Score: 5\nAway Score: 1
END:VEVENT
BEGIN:VEVENT
UID:13382406@ezleagues.ezfacility.com
DTSTAMP:20260426T034103Z
CREATED:20260426T034103Z
DTSTART:20201219T001500Z
DTEND:20201219T010000Z
LOCATION:Indoor West
CONTACT:
SUMMARY:Avalanche 04 White SL Team 1 VS. Crush O
DESCRIPTION:League Name: Girls JV-Varsity Indoor\nGame Type: Regular\nGame 
 Status: Complete\nHome Team: Avalanche 04 White SL Team 1\nAway Team: Crus
 h O\nHome Score: 2\nAway Score: 7
END:VEVENT
BEGIN:VEVENT
UID:13382381@ezleagues.ezfacility.com
DTSTAMP:20260426T034103Z
CREATED:20260426T034103Z
DTSTART:20210102T010000Z
DTEND:20210102T014500Z
LOCATION:Indoor East
CONTACT:
SUMMARY:Crush O VS. CMS 04 Blue
DESCRIPTION:League Name: Girls JV-Varsity Indoor\nGame Type: Regular\nGame 
 Status: Complete\nHome Team: Crush O\nAway Team: CMS 04 Blue\nHome Score: 
 2\nAway Score: 4
END:VEVENT
END:VCALENDAR
