BEGIN:VCALENDAR
VERSION:2.0
PRODID:-//EZFacility.com, Inc.//EZL 2.5.5.28621
BEGIN:VEVENT
UID:13387042@ezleagues.ezfacility.com
DTSTAMP:20260426T033657Z
CREATED:20260426T033657Z
DTSTART:20201027T230000Z
DTEND:20201028T000000Z
LOCATION:Rink 1
CONTACT:
SUMMARY:Bastards VS. Aces
DESCRIPTION:League Name: Tuesday Roller Hockey (A/B/C Mixed) EAST\nGame Typ
 e: Regular\nGame Status: Complete\nHome Team: Bastards\nAway Team: Aces\nH
 ome Score: 4\nAway Score: 3
END:VEVENT
BEGIN:VEVENT
UID:13417750@ezleagues.ezfacility.com
DTSTAMP:20260426T033657Z
CREATED:20260426T033657Z
DTSTART:20201111T020000Z
DTEND:20201111T030000Z
LOCATION:Rink 1
CONTACT:
SUMMARY:Aces VS. Hollywood
DESCRIPTION:League Name: Tuesday Roller Hockey (A/B/C Mixed) EAST\nGame Typ
 e: Regular\nGame Status: Complete\nHome Team: Aces\nAway Team: Hollywood\n
 Home Score: 4\nAway Score: 11
END:VEVENT
BEGIN:VEVENT
UID:13384384@ezleagues.ezfacility.com
DTSTAMP:20260426T033657Z
CREATED:20260426T033657Z
DTSTART:20201118T000000Z
DTEND:20201118T010000Z
LOCATION:Rink 1
CONTACT:
SUMMARY:THE A-TEAM VS. Aces
DESCRIPTION:League Name: Tuesday Roller Hockey (A/B/C Mixed) EAST\nGame Typ
 e: Regular\nGame Status: Complete\nHome Team: THE A-TEAM\nAway Team: Aces\
 nHome Score: 9\nAway Score: 5
END:VEVENT
BEGIN:VEVENT
UID:13447661@ezleagues.ezfacility.com
DTSTAMP:20260426T033657Z
CREATED:20260426T033657Z
DTSTART:20201125T010000Z
DTEND:20201125T020000Z
LOCATION:Rink 1
CONTACT:
SUMMARY:Aces VS. Ice Hounds
DESCRIPTION:League Name: Tuesday Roller Hockey (A/B/C Mixed) EAST\nGame Typ
 e: Regular\nGame Status: Complete\nHome Team: Aces\nAway Team: Ice Hounds\
 nHome Score: 6\nAway Score: 9
END:VEVENT
BEGIN:VEVENT
UID:13554920@ezleagues.ezfacility.com
DTSTAMP:20260426T033657Z
CREATED:20260426T033657Z
DTSTART:20210127T000000Z
DTEND:20210127T010000Z
LOCATION:Rink 1
CONTACT:
SUMMARY:Bastards VS. Aces
DESCRIPTION:League Name: Tuesday Roller Hockey (A/B/C Mixed) EAST\nGame Typ
 e: Regular\nGame Status: Complete\nHome Team: Bastards\nAway Team: Aces\nH
 ome Score: 7\nAway Score: 1
END:VEVENT
BEGIN:VEVENT
UID:13578839@ezleagues.ezfacility.com
DTSTAMP:20260426T033657Z
CREATED:20260426T033657Z
DTSTART:20210210T010000Z
DTEND:20210210T020000Z
LOCATION:Rink 1
CONTACT:
SUMMARY:THE A-TEAM VS. Aces
DESCRIPTION:League Name: Tuesday Roller Hockey (A/B/C Mixed) EAST\nGame Typ
 e: Regular\nGame Status: Complete\nHome Team: THE A-TEAM\nAway Team: Aces\
 nHome Score: 5\nAway Score: 4
END:VEVENT
BEGIN:VEVENT
UID:13578841@ezleagues.ezfacility.com
DTSTAMP:20260426T033657Z
CREATED:20260426T033657Z
DTSTART:20210217T000000Z
DTEND:20210217T010000Z
LOCATION:Rink 1
CONTACT:
SUMMARY:Aces VS. Ice Hounds
DESCRIPTION:League Name: Tuesday Roller Hockey (A/B/C Mixed) EAST\nGame Typ
 e: Regular\nGame Status: Complete\nHome Team: Aces\nAway Team: Ice Hounds\
 nHome Score: 10\nAway Score: 11
END:VEVENT
BEGIN:VEVENT
UID:13578847@ezleagues.ezfacility.com
DTSTAMP:20260426T033657Z
CREATED:20260426T033657Z
DTSTART:20210224T010000Z
DTEND:20210224T020000Z
LOCATION:Rink 1
CONTACT:
SUMMARY:Aces VS. Hollywood
DESCRIPTION:League Name: Tuesday Roller Hockey (A/B/C Mixed) EAST\nGame Typ
 e: Regular\nGame Status: Complete\nHome Team: Aces\nAway Team: Hollywood\n
 Home Score: 3\nAway Score: 4
END:VEVENT
BEGIN:VEVENT
UID:13578850@ezleagues.ezfacility.com
DTSTAMP:20260426T033657Z
CREATED:20260426T033657Z
DTSTART:20210303T000000Z
DTEND:20210303T010000Z
LOCATION:Rink 1
CONTACT:
SUMMARY:THE A-TEAM VS. Aces
DESCRIPTION:League Name: Tuesday Roller Hockey (A/B/C Mixed) EAST\nGame Typ
 e: Regular\nGame Status: Complete\nHome Team: THE A-TEAM\nAway Team: Aces\
 nHome Score: 4\nAway Score: 3
END:VEVENT
BEGIN:VEVENT
UID:13578853@ezleagues.ezfacility.com
DTSTAMP:20260426T033657Z
CREATED:20260426T033657Z
DTSTART:20210310T000000Z
DTEND:20210310T010000Z
LOCATION:Rink 1
CONTACT:
SUMMARY:Aces VS. Bastards
DESCRIPTION:League Name: Tuesday Roller Hockey (A/B/C Mixed) EAST\nGame Typ
 e: Regular\nGame Status: Complete\nHome Team: Aces\nAway Team: Bastards\nH
 ome Score: 1\nAway Score: 4
END:VEVENT
BEGIN:VEVENT
UID:13624446@ezleagues.ezfacility.com
DTSTAMP:20260426T033657Z
CREATED:20260426T033657Z
DTSTART:20210316T230000Z
DTEND:20210317T000000Z
LOCATION:Rink 1
CONTACT:
SUMMARY:Bastards VS. Aces
DESCRIPTION:League Name: Tuesday Roller Hockey (A/B/C Mixed) EAST\nGame Typ
 e: Postseason\nGame Status: Complete\nHome Team: Bastards\nAway Team: Aces
 \nHome Score: 7\nAway Score: 2
END:VEVENT
END:VCALENDAR
