BEGIN:VCALENDAR
VERSION:2.0
PRODID:-//EZFacility.com, Inc.//EZL 2.5.5.28621
BEGIN:VEVENT
UID:13384378@ezleagues.ezfacility.com
DTSTAMP:20260426T033701Z
CREATED:20260426T033701Z
DTSTART:20201028T000000Z
DTEND:20201028T010000Z
LOCATION:Rink 1
CONTACT:
SUMMARY:Hollywood VS. Horse Marines *WITHDRAWN*
DESCRIPTION:League Name: Tuesday Roller Hockey (A/B/C Mixed) EAST\nGame Typ
 e: Regular\nGame Status: Cancelled\nHome Team: Hollywood\nAway Team: Horse
  Marines *WITHDRAWN*\n
END:VEVENT
BEGIN:VEVENT
UID:13417750@ezleagues.ezfacility.com
DTSTAMP:20260426T033701Z
CREATED:20260426T033701Z
DTSTART:20201111T020000Z
DTEND:20201111T030000Z
LOCATION:Rink 1
CONTACT:
SUMMARY:Aces VS. Hollywood
DESCRIPTION:League Name: Tuesday Roller Hockey (A/B/C Mixed) EAST\nGame Typ
 e: Regular\nGame Status: Complete\nHome Team: Aces\nAway Team: Hollywood\n
 Home Score: 4\nAway Score: 11
END:VEVENT
BEGIN:VEVENT
UID:13384385@ezleagues.ezfacility.com
DTSTAMP:20260426T033701Z
CREATED:20260426T033701Z
DTSTART:20201118T010000Z
DTEND:20201118T020000Z
LOCATION:Rink 1
CONTACT:
SUMMARY:Ice Hounds VS. Hollywood
DESCRIPTION:League Name: Tuesday Roller Hockey (A/B/C Mixed) EAST\nGame Typ
 e: Regular\nGame Status: Complete\nHome Team: Ice Hounds\nAway Team: Holly
 wood\nHome Score: 7\nAway Score: 6
END:VEVENT
BEGIN:VEVENT
UID:13387044@ezleagues.ezfacility.com
DTSTAMP:20260426T033701Z
CREATED:20260426T033701Z
DTSTART:20201118T020000Z
DTEND:20201118T030000Z
LOCATION:Rink 1
CONTACT:
SUMMARY:Horse Marines *WITHDRAWN* VS. Hollywood
DESCRIPTION:League Name: Tuesday Roller Hockey (A/B/C Mixed) EAST\nGame Typ
 e: Regular\nGame Status: Complete\nHome Team: Horse Marines *WITHDRAWN*\nA
 way Team: Hollywood\nHome Score: 7\nAway Score: 5
END:VEVENT
BEGIN:VEVENT
UID:13447660@ezleagues.ezfacility.com
DTSTAMP:20260426T033701Z
CREATED:20260426T033701Z
DTSTART:20201125T000000Z
DTEND:20201125T010000Z
LOCATION:Rink 1
CONTACT:
SUMMARY:Hollywood VS. Bastards
DESCRIPTION:League Name: Tuesday Roller Hockey (A/B/C Mixed) EAST\nGame Typ
 e: Regular\nGame Status: Cancelled\nHome Team: Hollywood\nAway Team: Basta
 rds\n
END:VEVENT
BEGIN:VEVENT
UID:13554921@ezleagues.ezfacility.com
DTSTAMP:20260426T033701Z
CREATED:20260426T033701Z
DTSTART:20210127T010000Z
DTEND:20210127T020000Z
LOCATION:Rink 1
CONTACT:
SUMMARY:Hollywood VS. Horse Marines *WITHDRAWN*
DESCRIPTION:League Name: Tuesday Roller Hockey (A/B/C Mixed) EAST\nGame Typ
 e: Regular\nGame Status: Complete\nHome Team: Hollywood\nAway Team: Horse 
 Marines *WITHDRAWN*\nHome Score: 10\nAway Score: 3
END:VEVENT
BEGIN:VEVENT
UID:13566944@ezleagues.ezfacility.com
DTSTAMP:20260426T033701Z
CREATED:20260426T033701Z
DTSTART:20210203T010000Z
DTEND:20210203T020000Z
LOCATION:Rink 1
CONTACT:
SUMMARY:Hollywood VS. THE A-TEAM
DESCRIPTION:League Name: Tuesday Roller Hockey (A/B/C Mixed) EAST\nGame Typ
 e: Regular\nGame Status: Complete\nHome Team: Hollywood\nAway Team: THE A-
 TEAM\nHome Score: 3\nAway Score: 5
END:VEVENT
BEGIN:VEVENT
UID:13578838@ezleagues.ezfacility.com
DTSTAMP:20260426T033701Z
CREATED:20260426T033701Z
DTSTART:20210210T000000Z
DTEND:20210210T010000Z
LOCATION:Rink 1
CONTACT:
SUMMARY:Hollywood VS. Bastards
DESCRIPTION:League Name: Tuesday Roller Hockey (A/B/C Mixed) EAST\nGame Typ
 e: Regular\nGame Status: Complete\nHome Team: Hollywood\nAway Team: Bastar
 ds\nHome Score: 4\nAway Score: 3
END:VEVENT
BEGIN:VEVENT
UID:13578847@ezleagues.ezfacility.com
DTSTAMP:20260426T033701Z
CREATED:20260426T033701Z
DTSTART:20210224T010000Z
DTEND:20210224T020000Z
LOCATION:Rink 1
CONTACT:
SUMMARY:Aces VS. Hollywood
DESCRIPTION:League Name: Tuesday Roller Hockey (A/B/C Mixed) EAST\nGame Typ
 e: Regular\nGame Status: Complete\nHome Team: Aces\nAway Team: Hollywood\n
 Home Score: 3\nAway Score: 4
END:VEVENT
BEGIN:VEVENT
UID:13578851@ezleagues.ezfacility.com
DTSTAMP:20260426T033701Z
CREATED:20260426T033701Z
DTSTART:20210303T010000Z
DTEND:20210303T020000Z
LOCATION:Rink 1
CONTACT:
SUMMARY:Hollywood VS. Bastards
DESCRIPTION:League Name: Tuesday Roller Hockey (A/B/C Mixed) EAST\nGame Typ
 e: Regular\nGame Status: Complete\nHome Team: Hollywood\nAway Team: Bastar
 ds\nHome Score: 6\nAway Score: 3
END:VEVENT
BEGIN:VEVENT
UID:13578854@ezleagues.ezfacility.com
DTSTAMP:20260426T033701Z
CREATED:20260426T033701Z
DTSTART:20210310T010000Z
DTEND:20210310T020000Z
LOCATION:Rink 1
CONTACT:
SUMMARY:Hollywood VS. Ice Hounds
DESCRIPTION:League Name: Tuesday Roller Hockey (A/B/C Mixed) EAST\nGame Typ
 e: Regular\nGame Status: Complete\nHome Team: Hollywood\nAway Team: Ice Ho
 unds\nHome Score: 4\nAway Score: 9
END:VEVENT
BEGIN:VEVENT
UID:13578855@ezleagues.ezfacility.com
DTSTAMP:20260426T033701Z
CREATED:20260426T033701Z
DTSTART:20210310T020000Z
DTEND:20210310T030000Z
LOCATION:Rink 1
CONTACT:
SUMMARY:Hollywood VS. THE A-TEAM
DESCRIPTION:League Name: Tuesday Roller Hockey (A/B/C Mixed) EAST\nGame Typ
 e: Regular\nGame Status: Complete\nHome Team: Hollywood\nAway Team: THE A-
 TEAM\nHome Score: 6\nAway Score: 3
END:VEVENT
BEGIN:VEVENT
UID:13624448@ezleagues.ezfacility.com
DTSTAMP:20260426T033701Z
CREATED:20260426T033701Z
DTSTART:20210317T000000Z
DTEND:20210317T010000Z
LOCATION:Rink 1
CONTACT:
SUMMARY:Ice Hounds VS. Hollywood
DESCRIPTION:League Name: Tuesday Roller Hockey (A/B/C Mixed) EAST\nGame Typ
 e: Postseason\nGame Status: Complete\nHome Team: Ice Hounds\nAway Team: Ho
 llywood\nHome Score: 6\nAway Score: 8
END:VEVENT
BEGIN:VEVENT
UID:13624533@ezleagues.ezfacility.com
DTSTAMP:20260426T033701Z
CREATED:20260426T033701Z
DTSTART:20210324T000000Z
DTEND:20210324T010000Z
LOCATION:Rink 1
CONTACT:
SUMMARY:Hollywood VS. Bastards
DESCRIPTION:League Name: Tuesday Roller Hockey (A/B/C Mixed) EAST\nGame Typ
 e: Postseason\nGame Status: Complete\nHome Team: Hollywood\nAway Team: Bas
 tards\nHome Score: 7\nAway Score: 4
END:VEVENT
END:VCALENDAR
