BEGIN:VCALENDAR
VERSION:2.0
PRODID:-//EZFacility.com, Inc.//EZL 2.5.5.28621
BEGIN:VEVENT
UID:13389021@ezleagues.ezfacility.com
DTSTAMP:20260423T064048Z
CREATED:20260423T064048Z
DTSTART:20201108T145000Z
DTEND:20201108T153000Z
LOCATION:Field #1B
CONTACT:
SUMMARY:Saints VS. Broncos
DESCRIPTION:League Name: 4-6 NFL Flag Football - Winter 2020 \nGame Type: R
 egular\nGame Status: Complete\nHome Team: Saints\nAway Team: Broncos\nHome
  Score: 0\nAway Score: 0
END:VEVENT
BEGIN:VEVENT
UID:13389023@ezleagues.ezfacility.com
DTSTAMP:20260423T064048Z
CREATED:20260423T064048Z
DTSTART:20201115T145000Z
DTEND:20201115T153000Z
LOCATION:Field #1B
CONTACT:
SUMMARY:Broncos VS. Bills
DESCRIPTION:League Name: 4-6 NFL Flag Football - Winter 2020 \nGame Type: R
 egular\nGame Status: Complete\nHome Team: Broncos\nAway Team: Bills\nHome 
 Score: 0\nAway Score: 0
END:VEVENT
BEGIN:VEVENT
UID:13389024@ezleagues.ezfacility.com
DTSTAMP:20260423T064048Z
CREATED:20260423T064048Z
DTSTART:20201122T145000Z
DTEND:20201122T153000Z
LOCATION:Field #1A
CONTACT:
SUMMARY:Chiefs VS. Broncos
DESCRIPTION:League Name: 4-6 NFL Flag Football - Winter 2020 \nGame Type: R
 egular\nGame Status: Complete\nHome Team: Chiefs\nAway Team: Broncos\nHome
  Score: 0\nAway Score: 0
END:VEVENT
BEGIN:VEVENT
UID:13389027@ezleagues.ezfacility.com
DTSTAMP:20260423T064048Z
CREATED:20260423T064048Z
DTSTART:20201129T145000Z
DTEND:20201129T153000Z
LOCATION:Field #1A
CONTACT:
SUMMARY:Broncos VS. Saints
DESCRIPTION:League Name: 4-6 NFL Flag Football - Winter 2020 \nGame Type: R
 egular\nGame Status: Complete\nHome Team: Broncos\nAway Team: Saints\nHome
  Score: 0\nAway Score: 0
END:VEVENT
BEGIN:VEVENT
UID:13389029@ezleagues.ezfacility.com
DTSTAMP:20260423T064048Z
CREATED:20260423T064048Z
DTSTART:20201206T145000Z
DTEND:20201206T153000Z
LOCATION:Field #1A
CONTACT:
SUMMARY:Bills VS. Broncos
DESCRIPTION:League Name: 4-6 NFL Flag Football - Winter 2020 \nGame Type: R
 egular\nGame Status: Complete\nHome Team: Bills\nAway Team: Broncos\nHome 
 Score: 0\nAway Score: 0
END:VEVENT
BEGIN:VEVENT
UID:13389033@ezleagues.ezfacility.com
DTSTAMP:20260423T064048Z
CREATED:20260423T064048Z
DTSTART:20201220T145000Z
DTEND:20201220T153000Z
LOCATION:Field #1B
CONTACT:
SUMMARY:Broncos VS. Saints
DESCRIPTION:League Name: 4-6 NFL Flag Football - Winter 2020 \nGame Type: R
 egular\nGame Status: Complete\nHome Team: Broncos\nAway Team: Saints\nHome
  Score: 0\nAway Score: 0
END:VEVENT
BEGIN:VEVENT
UID:13389035@ezleagues.ezfacility.com
DTSTAMP:20260423T064048Z
CREATED:20260423T064048Z
DTSTART:20201227T145000Z
DTEND:20201227T153000Z
LOCATION:Field #1B
CONTACT:
SUMMARY:Bills VS. Broncos
DESCRIPTION:League Name: 4-6 NFL Flag Football - Winter 2020 \nGame Type: R
 egular\nGame Status: Complete\nHome Team: Bills\nAway Team: Broncos\nHome 
 Score: 0\nAway Score: 0
END:VEVENT
BEGIN:VEVENT
UID:13389102@ezleagues.ezfacility.com
DTSTAMP:20260423T064048Z
CREATED:20260423T064048Z
DTSTART:20210103T145000Z
DTEND:20210103T153000Z
LOCATION:Field #1A
CONTACT:
SUMMARY:Chiefs VS. Broncos
DESCRIPTION:League Name: 4-6 NFL Flag Football - Winter 2020 \nGame Type: R
 egular\nGame Status: Complete\nHome Team: Chiefs\nAway Team: Broncos\nHome
  Score: 0\nAway Score: 0
END:VEVENT
END:VCALENDAR
