BEGIN:VCALENDAR
VERSION:2.0
PRODID:-//EZFacility.com, Inc.//EZL 2.5.5.28621
BEGIN:VEVENT
UID:13409727@ezleagues.ezfacility.com
DTSTAMP:20260420T024113Z
CREATED:20260420T024113Z
DTSTART:20201107T210000Z
DTEND:20201107T220000Z
LOCATION:6v6 Field 1
CONTACT:
SUMMARY:TS Chiefs VS. TS Raiders
DESCRIPTION:League Name: U12 Boys Rec Boarded 1st Session 2020/21\nGame Typ
 e: Regular\nGame Status: Complete\nHome Team: TS Chiefs\nAway Team: TS Rai
 ders\nHome Score: 11\nAway Score: 7
END:VEVENT
BEGIN:VEVENT
UID:13409749@ezleagues.ezfacility.com
DTSTAMP:20260420T024113Z
CREATED:20260420T024113Z
DTSTART:20210116T183000Z
DTEND:20210116T193000Z
LOCATION:6v6 Field 2
CONTACT:
SUMMARY:TS Raiders VS. TS Jets
DESCRIPTION:League Name: U12 Boys Rec Boarded 1st Session 2020/21\nGame Typ
 e: Regular\nGame Status: Complete\nHome Team: TS Raiders\nAway Team: TS Je
 ts\nHome Score: 12\nAway Score: 7
END:VEVENT
BEGIN:VEVENT
UID:13409752@ezleagues.ezfacility.com
DTSTAMP:20260420T024113Z
CREATED:20260420T024113Z
DTSTART:20210123T193000Z
DTEND:20210123T203000Z
LOCATION:6v6 Field 2
CONTACT:
SUMMARY:TS Bears VS. TS Raiders
DESCRIPTION:League Name: U12 Boys Rec Boarded 1st Session 2020/21\nGame Typ
 e: Regular\nGame Status: Complete\nHome Team: TS Bears\nAway Team: TS Raid
 ers\nHome Score: 3\nAway Score: 8
END:VEVENT
BEGIN:VEVENT
UID:13409740@ezleagues.ezfacility.com
DTSTAMP:20260420T024113Z
CREATED:20260420T024113Z
DTSTART:20210130T183000Z
DTEND:20210130T193000Z
LOCATION:6v6 Field 2
CONTACT:
SUMMARY:TS Shadows VS. TS Raiders
DESCRIPTION:League Name: U12 Boys Rec Boarded 1st Session 2020/21\nGame Typ
 e: Regular\nGame Status: Complete\nHome Team: TS Shadows\nAway Team: TS Ra
 iders\nHome Score: 2\nAway Score: 12
END:VEVENT
BEGIN:VEVENT
UID:13409755@ezleagues.ezfacility.com
DTSTAMP:20260420T024113Z
CREATED:20260420T024113Z
DTSTART:20210206T190000Z
DTEND:20210206T200000Z
LOCATION:6v6 Field 1
CONTACT:
SUMMARY:TS Raiders VS. TS Chiefs
DESCRIPTION:League Name: U12 Boys Rec Boarded 1st Session 2020/21\nGame Typ
 e: Regular\nGame Status: Complete\nHome Team: TS Raiders\nAway Team: TS Ch
 iefs\nHome Score: 6\nAway Score: 7
END:VEVENT
BEGIN:VEVENT
UID:13409758@ezleagues.ezfacility.com
DTSTAMP:20260420T024113Z
CREATED:20260420T024113Z
DTSTART:20210214T200000Z
DTEND:20210214T210000Z
LOCATION:6v6 Field 1
CONTACT:
SUMMARY:TS Raiders VS. Blue Devils
DESCRIPTION:League Name: U12 Boys Rec Boarded 1st Session 2020/21\nGame Typ
 e: Regular\nGame Status: Complete\nHome Team: TS Raiders\nAway Team: Blue 
 Devils\nHome Score: 12\nAway Score: 6
END:VEVENT
BEGIN:VEVENT
UID:13409730@ezleagues.ezfacility.com
DTSTAMP:20260420T024113Z
CREATED:20260420T024113Z
DTSTART:20210220T003000Z
DTEND:20210220T013000Z
LOCATION:6v6 Field 2
CONTACT:
SUMMARY:Blue Devils VS. TS Raiders
DESCRIPTION:League Name: U12 Boys Rec Boarded 1st Session 2020/21\nGame Typ
 e: Regular\nGame Status: Complete\nHome Team: Blue Devils\nAway Team: TS R
 aiders\nHome Score: 6\nAway Score: 12
END:VEVENT
BEGIN:VEVENT
UID:13409731@ezleagues.ezfacility.com
DTSTAMP:20260420T024113Z
CREATED:20260420T024113Z
DTSTART:20210220T183000Z
DTEND:20210220T193000Z
LOCATION:6v6 Field 2
CONTACT:
SUMMARY:TS Raiders VS. TS Cobras
DESCRIPTION:League Name: U12 Boys Rec Boarded 1st Session 2020/21\nGame Typ
 e: Regular\nGame Status: Complete\nHome Team: TS Raiders\nAway Team: TS Co
 bras\nHome Score: 6\nAway Score: 4
END:VEVENT
END:VCALENDAR
