BEGIN:VCALENDAR
VERSION:2.0
PRODID:-//EZFacility.com, Inc.//EZL 2.5.5.28621
BEGIN:VEVENT
UID:13603555@ezleagues.ezfacility.com
DTSTAMP:20260426T034104Z
CREATED:20260426T034104Z
DTSTART:20210310T010000Z
DTEND:20210310T015000Z
LOCATION:Elite--North Court
CONTACT:
SUMMARY:Parkersburg VS. St. Marys Storm
DESCRIPTION:League Name: 2021 Spring Basketball League (4th Boys)\nGame Typ
 e: Regular\nGame Status: Complete\nHome Team: Parkersburg\nAway Team: St. 
 Marys Storm\nHome Score: 17\nAway Score: 33
END:VEVENT
BEGIN:VEVENT
UID:13625786@ezleagues.ezfacility.com
DTSTAMP:20260426T034104Z
CREATED:20260426T034104Z
DTSTART:20210317T000000Z
DTEND:20210317T010000Z
LOCATION:Elite--South Court
CONTACT:
SUMMARY:St. Marys Storm VS. Williamstown 
DESCRIPTION:League Name: 2021 Spring Basketball League (4th Boys)\nGame Typ
 e: Regular\nGame Status: Complete\nHome Team: St. Marys Storm\nAway Team: 
 Williamstown \nHome Score: 36\nAway Score: 13
END:VEVENT
BEGIN:VEVENT
UID:13636251@ezleagues.ezfacility.com
DTSTAMP:20260426T034104Z
CREATED:20260426T034104Z
DTSTART:20210324T235000Z
DTEND:20210325T004500Z
LOCATION:Elite--North Court
CONTACT:
SUMMARY:St. Marys Storm VS. New Martinsville
DESCRIPTION:League Name: 2021 Spring Basketball League (4th Boys)\nGame Typ
 e: Regular\nGame Status: Complete\nHome Team: St. Marys Storm\nAway Team: 
 New Martinsville\nHome Score: 45\nAway Score: 16
END:VEVENT
BEGIN:VEVENT
UID:13647434@ezleagues.ezfacility.com
DTSTAMP:20260426T034104Z
CREATED:20260426T034104Z
DTSTART:20210330T225500Z
DTEND:20210330T235000Z
LOCATION:Elite--South Court
CONTACT:
SUMMARY:OV Sting VS. St. Marys Storm
DESCRIPTION:League Name: 2021 Spring Basketball League (4th Boys)\nGame Typ
 e: Regular\nGame Status: Complete\nHome Team: OV Sting\nAway Team: St. Mar
 ys Storm\nHome Score: 22\nAway Score: 21
END:VEVENT
BEGIN:VEVENT
UID:13654492@ezleagues.ezfacility.com
DTSTAMP:20260426T034104Z
CREATED:20260426T034104Z
DTSTART:20210406T234000Z
DTEND:20210407T003000Z
LOCATION:Elite--South Court
CONTACT:
SUMMARY:Blennerhassett VS. St. Marys Storm
DESCRIPTION:League Name: 2021 Spring Basketball League (4th Boys)\nGame Typ
 e: Regular\nGame Status: Complete\nHome Team: Blennerhassett\nAway Team: S
 t. Marys Storm\nHome Score: 18\nAway Score: 55
END:VEVENT
BEGIN:VEVENT
UID:13669939@ezleagues.ezfacility.com
DTSTAMP:20260426T034104Z
CREATED:20260426T034104Z
DTSTART:20210413T234000Z
DTEND:20210414T003000Z
LOCATION:Elite--South Court
CONTACT:
SUMMARY:River VS. St. Marys Storm
DESCRIPTION:League Name: 2021 Spring Basketball League (4th Boys)\nGame Typ
 e: Regular\nGame Status: Complete\nHome Team: River\nAway Team: St. Marys 
 Storm\nHome Score: 4\nAway Score: 44
END:VEVENT
BEGIN:VEVENT
UID:13682089@ezleagues.ezfacility.com
DTSTAMP:20260426T034104Z
CREATED:20260426T034104Z
DTSTART:20210419T234000Z
DTEND:20210420T003000Z
LOCATION:Elite--North Court
CONTACT:
SUMMARY:St. Marys Storm VS. Madison
DESCRIPTION:League Name: 2021 Spring Basketball League (4th Boys)\nGame Typ
 e: Regular\nGame Status: Complete\nHome Team: St. Marys Storm\nAway Team: 
 Madison\nHome Score: 64\nAway Score: 11
END:VEVENT
BEGIN:VEVENT
UID:13702311@ezleagues.ezfacility.com
DTSTAMP:20260426T034104Z
CREATED:20260426T034104Z
DTSTART:20210506T001000Z
DTEND:20210506T010000Z
LOCATION:Elite--South Court
CONTACT:
SUMMARY:OV Sting VS. St. Marys Storm
DESCRIPTION:League Name: 2021 Spring Basketball League (4th Boys)\nGame Typ
 e: Regular\nGame Status: Complete\nHome Team: OV Sting\nAway Team: St. Mar
 ys Storm\nHome Score: 28\nAway Score: 38
END:VEVENT
BEGIN:VEVENT
UID:13710424@ezleagues.ezfacility.com
DTSTAMP:20260426T034104Z
CREATED:20260426T034104Z
DTSTART:20210511T213000Z
DTEND:20210511T222000Z
LOCATION:Elite--South Court
CONTACT:
SUMMARY:St. Marys Storm VS. Ravenswood 
DESCRIPTION:League Name: 2021 Spring Basketball League (4th Boys)\nGame Typ
 e: Regular\nGame Status: Complete\nHome Team: St. Marys Storm\nAway Team: 
 Ravenswood \nHome Score: 40\nAway Score: 9
END:VEVENT
BEGIN:VEVENT
UID:13729002@ezleagues.ezfacility.com
DTSTAMP:20260426T034104Z
CREATED:20260426T034104Z
DTSTART:20210522T185000Z
DTEND:20210522T194000Z
LOCATION:Elite--South Court
CONTACT:
SUMMARY:OV Sting VS. St. Marys Storm
DESCRIPTION:League Name: 2021 Spring Basketball League (4th Boys)\nGame Typ
 e: Regular\nGame Status: Complete\nHome Team: OV Sting\nAway Team: St. Mar
 ys Storm\nHome Score: 26\nAway Score: 22
END:VEVENT
BEGIN:VEVENT
UID:13729003@ezleagues.ezfacility.com
DTSTAMP:20260426T034104Z
CREATED:20260426T034104Z
DTSTART:20210522T203000Z
DTEND:20210522T212000Z
LOCATION:Elite--North Court
CONTACT:
SUMMARY:New Martinsville VS. St. Marys Storm
DESCRIPTION:League Name: 2021 Spring Basketball League (4th Boys)\nGame Typ
 e: Regular\nGame Status: Complete\nHome Team: New Martinsville\nAway Team:
  St. Marys Storm\nHome Score: 17\nAway Score: 33
END:VEVENT
BEGIN:VEVENT
UID:13729007@ezleagues.ezfacility.com
DTSTAMP:20260426T034104Z
CREATED:20260426T034104Z
DTSTART:20210523T203000Z
DTEND:20210523T212000Z
LOCATION:Elite--South Court
CONTACT:
SUMMARY:OV Sting VS. St. Marys Storm
DESCRIPTION:League Name: 2021 Spring Basketball League (4th Boys)\nGame Typ
 e: Regular\nGame Status: Complete\nHome Team: OV Sting\nAway Team: St. Mar
 ys Storm\nHome Score: 36\nAway Score: 10
END:VEVENT
END:VCALENDAR
