BEGIN:VCALENDAR
VERSION:2.0
PRODID:-//EZFacility.com, Inc.//EZL 2.5.5.28621
BEGIN:VEVENT
UID:13422529@ezleagues.ezfacility.com
DTSTAMP:20260426T033726Z
CREATED:20260426T033726Z
DTSTART:20201110T020000Z
DTEND:20201110T030000Z
LOCATION:Court 1
CONTACT:Kinsale
SUMMARY:Average Joe's VS. Five Star
DESCRIPTION:League Name: Basketball Monday Night League (Fall 1 2020)-Premi
 er League\nGame Type: Regular\nGame Status: Complete\nHome Team: Average J
 oe's\nAway Team: Five Star\nHome Score: 73\nAway Score: 46
END:VEVENT
BEGIN:VEVENT
UID:13428725@ezleagues.ezfacility.com
DTSTAMP:20260426T033726Z
CREATED:20260426T033726Z
DTSTART:20201117T020000Z
DTEND:20201117T030000Z
LOCATION:Court 1
CONTACT:Haley\, Kinsale
SUMMARY:GMG VS. Average Joe's
DESCRIPTION:League Name: Basketball Monday Night League (Fall 1 2020)-Premi
 er League\nGame Type: Regular\nGame Status: Complete\nHome Team: GMG\nAway
  Team: Average Joe's\nHome Score: 69\nAway Score: 75
END:VEVENT
BEGIN:VEVENT
UID:13440890@ezleagues.ezfacility.com
DTSTAMP:20260426T033726Z
CREATED:20260426T033726Z
DTSTART:20201124T020000Z
DTEND:20201124T030000Z
LOCATION:Court 1
CONTACT:Kinsale
SUMMARY:Hennything Is Possible  VS. Average Joe's
DESCRIPTION:League Name: Basketball Monday Night League (Fall 1 2020)-Premi
 er League\nGame Type: Regular\nGame Status: Complete\nHome Team: Hennythin
 g Is Possible \nAway Team: Average Joe's\nHome Score: 65\nAway Score: 76
END:VEVENT
BEGIN:VEVENT
UID:13459212@ezleagues.ezfacility.com
DTSTAMP:20260426T033726Z
CREATED:20260426T033726Z
DTSTART:20201201T030000Z
DTEND:20201201T040000Z
LOCATION:Court 3
CONTACT:Kinsale
SUMMARY:Threes Please VS. Average Joe's
DESCRIPTION:League Name: Basketball Monday Night League (Fall 1 2020)-Premi
 er League\nGame Type: Regular\nGame Status: Complete\nHome Team: Threes Pl
 ease\nAway Team: Average Joe's\nHome Score: 62\nAway Score: 64
END:VEVENT
BEGIN:VEVENT
UID:13507132@ezleagues.ezfacility.com
DTSTAMP:20260426T033726Z
CREATED:20260426T033726Z
DTSTART:20210105T020000Z
DTEND:20210105T030000Z
LOCATION:Court 1
CONTACT:David
SUMMARY:Blue  The Gang VS. Average Joe's
DESCRIPTION:League Name: Basketball Monday Night League (Fall 1 2020)-Premi
 er League\nGame Type: Regular\nGame Status: Complete\nHome Team: Blue  The
  Gang\nAway Team: Average Joe's\nHome Score: 60\nAway Score: 56
END:VEVENT
BEGIN:VEVENT
UID:13534863@ezleagues.ezfacility.com
DTSTAMP:20260426T033726Z
CREATED:20260426T033726Z
DTSTART:20210119T020000Z
DTEND:20210119T030000Z
LOCATION:Court 3
CONTACT:Chatman\, David
SUMMARY:Size doesn’t matta VS. Average Joe's
DESCRIPTION:League Name: Basketball Monday Night League (Fall 1 2020)-Premi
 er League\nGame Type: Regular\nGame Status: Complete\nHome Team: Size does
 n’t matta\nAway Team: Average Joe's\nHome Score: 47\nAway Score: 46
END:VEVENT
BEGIN:VEVENT
UID:13549789@ezleagues.ezfacility.com
DTSTAMP:20260426T033726Z
CREATED:20260426T033726Z
DTSTART:20210126T030000Z
DTEND:20210126T040000Z
LOCATION:Court 2
CONTACT:Kinsale
SUMMARY:Average Joe's VS. Elite
DESCRIPTION:League Name: Basketball Monday Night League (Fall 1 2020)-Premi
 er League\nGame Type: Regular\nGame Status: Complete\nHome Team: Average J
 oe's\nAway Team: Elite\nHome Score: 65\nAway Score: 72
END:VEVENT
BEGIN:VEVENT
UID:13582170@ezleagues.ezfacility.com
DTSTAMP:20260426T033726Z
CREATED:20260426T033726Z
DTSTART:20210216T020000Z
DTEND:20210216T030000Z
LOCATION:Court 2
CONTACT:
SUMMARY:Average Joe's VS. Size doesn’t matta
DESCRIPTION:League Name: Basketball Monday Night League (Fall 1 2020)-Premi
 er League\nGame Type: Postseason\nGame Status: Complete\nHome Team: Averag
 e Joe's\nAway Team: Size doesn’t matta\nHome Score: 59\nAway Score: 55
END:VEVENT
BEGIN:VEVENT
UID:13597747@ezleagues.ezfacility.com
DTSTAMP:20260426T033726Z
CREATED:20260426T033726Z
DTSTART:20210223T010000Z
DTEND:20210223T020000Z
LOCATION:Court 1
CONTACT:Kinsale
SUMMARY:Most Hated VS. Average Joe's
DESCRIPTION:League Name: Basketball Monday Night League (Fall 1 2020)-Premi
 er League\nGame Type: Postseason\nGame Status: Complete\nHome Team: Most H
 ated\nAway Team: Average Joe's\nHome Score: 69\nAway Score: 62
END:VEVENT
END:VCALENDAR
