BEGIN:VCALENDAR
VERSION:2.0
PRODID:-//EZFacility.com, Inc.//EZL 2.5.5.28621
BEGIN:VEVENT
UID:13422530@ezleagues.ezfacility.com
DTSTAMP:20260426T033739Z
CREATED:20260426T033739Z
DTSTART:20201110T030000Z
DTEND:20201110T040000Z
LOCATION:Court 1
CONTACT:Kinsale
SUMMARY:Size doesn’t matta VS. Threes Please
DESCRIPTION:League Name: Basketball Monday Night League (Fall 1 2020)-Premi
 er League\nGame Type: Regular\nGame Status: Complete\nHome Team: Size does
 n’t matta\nAway Team: Threes Please\nHome Score: 69\nAway Score: 37
END:VEVENT
BEGIN:VEVENT
UID:13428727@ezleagues.ezfacility.com
DTSTAMP:20260426T033739Z
CREATED:20260426T033739Z
DTSTART:20201117T030000Z
DTEND:20201117T040000Z
LOCATION:Court 2
CONTACT:Cousins\, Louis
SUMMARY:Up 1 VS. Threes Please
DESCRIPTION:League Name: Basketball Monday Night League (Fall 1 2020)-Premi
 er League\nGame Type: Regular\nGame Status: Complete\nHome Team: Up 1\nAwa
 y Team: Threes Please\nHome Score: 54\nAway Score: 45
END:VEVENT
BEGIN:VEVENT
UID:13459212@ezleagues.ezfacility.com
DTSTAMP:20260426T033739Z
CREATED:20260426T033739Z
DTSTART:20201201T030000Z
DTEND:20201201T040000Z
LOCATION:Court 3
CONTACT:Kinsale
SUMMARY:Threes Please VS. Average Joe's
DESCRIPTION:League Name: Basketball Monday Night League (Fall 1 2020)-Premi
 er League\nGame Type: Regular\nGame Status: Complete\nHome Team: Threes Pl
 ease\nAway Team: Average Joe's\nHome Score: 62\nAway Score: 64
END:VEVENT
BEGIN:VEVENT
UID:13525373@ezleagues.ezfacility.com
DTSTAMP:20260426T033739Z
CREATED:20260426T033739Z
DTSTART:20210112T020000Z
DTEND:20210112T030000Z
LOCATION:Court 2
CONTACT:Kinsale
SUMMARY:Threes Please VS. GMG
DESCRIPTION:League Name: Basketball Monday Night League (Fall 1 2020)-Premi
 er League\nGame Type: Regular\nGame Status: Complete\nHome Team: Threes Pl
 ease\nAway Team: GMG\nHome Score: 97\nAway Score: 48
END:VEVENT
BEGIN:VEVENT
UID:13534862@ezleagues.ezfacility.com
DTSTAMP:20260426T033739Z
CREATED:20260426T033739Z
DTSTART:20210119T010000Z
DTEND:20210119T020000Z
LOCATION:Court 3
CONTACT:Chatman\, David
SUMMARY:Elite VS. Threes Please
DESCRIPTION:League Name: Basketball Monday Night League (Fall 1 2020)-Premi
 er League\nGame Type: Regular\nGame Status: Complete\nHome Team: Elite\nAw
 ay Team: Threes Please\nHome Score: 47\nAway Score: 61
END:VEVENT
BEGIN:VEVENT
UID:13549788@ezleagues.ezfacility.com
DTSTAMP:20260426T033739Z
CREATED:20260426T033739Z
DTSTART:20210126T020000Z
DTEND:20210126T030000Z
LOCATION:Court 2
CONTACT:Kinsale
SUMMARY:Threes Please VS. Most Hated
DESCRIPTION:League Name: Basketball Monday Night League (Fall 1 2020)-Premi
 er League\nGame Type: Regular\nGame Status: Complete\nHome Team: Threes Pl
 ease\nAway Team: Most Hated\nHome Score: 72\nAway Score: 95
END:VEVENT
BEGIN:VEVENT
UID:13575913@ezleagues.ezfacility.com
DTSTAMP:20260426T033739Z
CREATED:20260426T033739Z
DTSTART:20210209T020000Z
DTEND:20210209T030000Z
LOCATION:Court 1
CONTACT:Cousins
SUMMARY:Threes Please VS. Where Is Cheese
DESCRIPTION:League Name: Basketball Monday Night League (Fall 1 2020)-Premi
 er League\nGame Type: Regular\nGame Status: Complete\nHome Team: Threes Pl
 ease\nAway Team: Where Is Cheese\nHome Score: 0\nAway Score: 35
END:VEVENT
END:VCALENDAR
