BEGIN:VCALENDAR
VERSION:2.0
PRODID:-//EZFacility.com, Inc.//EZL 2.5.5.28621
BEGIN:VEVENT
UID:13434577@ezleagues.ezfacility.com
DTSTAMP:20260424T012926Z
CREATED:20260424T012926Z
DTSTART:20201116T022000Z
DTEND:20201116T030200Z
LOCATION:7v7 Field #4
CONTACT:
SUMMARY:OG Magic VS. McClutch United
DESCRIPTION:League Name: Sparta Soccer 2020/21-Session I-Men's Open\nGame T
 ype: Regular\nGame Status: Complete\nHome Team: OG Magic\nAway Team: McClu
 tch United\nHome Score: 4\nAway Score: 7
END:VEVENT
BEGIN:VEVENT
UID:13444078@ezleagues.ezfacility.com
DTSTAMP:20260424T012926Z
CREATED:20260424T012926Z
DTSTART:20201123T004000Z
DTEND:20201123T012200Z
LOCATION:7v7 Field #3
CONTACT:Orciuch(Adrian)
SUMMARY:OG Magic VS. Euro Elite
DESCRIPTION:League Name: Sparta Soccer 2020/21-Session I-Men's Open\nGame T
 ype: Regular\nGame Status: Complete\nHome Team: OG Magic\nAway Team: Euro 
 Elite\nHome Score: 6\nAway Score: 9
END:VEVENT
BEGIN:VEVENT
UID:13455592@ezleagues.ezfacility.com
DTSTAMP:20260424T012926Z
CREATED:20260424T012926Z
DTSTART:20201130T004000Z
DTEND:20201130T012200Z
LOCATION:7v7 Field #4
CONTACT:Mesanovic 
SUMMARY:OG Magic VS. Legends
DESCRIPTION:League Name: Sparta Soccer 2020/21-Session I-Men's Open\nGame T
 ype: Regular\nGame Status: Complete\nHome Team: OG Magic\nAway Team: Legen
 ds\nHome Score: 8\nAway Score: 2
END:VEVENT
BEGIN:VEVENT
UID:13463684@ezleagues.ezfacility.com
DTSTAMP:20260424T012926Z
CREATED:20260424T012926Z
DTSTART:20201207T022000Z
DTEND:20201207T030200Z
LOCATION:7v7 Field #3
CONTACT:Trifonovic
SUMMARY:TW Elite VS. OG Magic
DESCRIPTION:League Name: Sparta Soccer 2020/21-Session I-Men's Open\nGame T
 ype: Regular\nGame Status: Complete\nHome Team: TW Elite\nAway Team: OG Ma
 gic\nHome Score: 6\nAway Score: 7
END:VEVENT
BEGIN:VEVENT
UID:13463728@ezleagues.ezfacility.com
DTSTAMP:20260424T012926Z
CREATED:20260424T012926Z
DTSTART:20201213T235000Z
DTEND:20201214T003200Z
LOCATION:7v7 Field #4
CONTACT:Orciuch(Dominik)
SUMMARY:OG Magic VS. Sparta FC
DESCRIPTION:League Name: Sparta Soccer 2020/21-Session I-Men's Open\nGame T
 ype: Regular\nGame Status: Complete\nHome Team: OG Magic\nAway Team: Spart
 a FC\nHome Score: 8\nAway Score: 5
END:VEVENT
BEGIN:VEVENT
UID:13463878@ezleagues.ezfacility.com
DTSTAMP:20260424T012926Z
CREATED:20260424T012926Z
DTSTART:20201228T004000Z
DTEND:20201228T012200Z
LOCATION:7v7 Field #2
CONTACT:Orciuch(Adrian)
SUMMARY:OG Magic VS. Old School
DESCRIPTION:League Name: Sparta Soccer 2020/21-Session I-Men's Open\nGame T
 ype: Regular\nGame Status: Complete\nHome Team: OG Magic\nAway Team: Old S
 chool\nHome Score: 8\nAway Score: 1
END:VEVENT
BEGIN:VEVENT
UID:13463857@ezleagues.ezfacility.com
DTSTAMP:20260424T012926Z
CREATED:20260424T012926Z
DTSTART:20210103T232000Z
DTEND:20210104T000200Z
LOCATION:7v7 Field #1
CONTACT:Ooms
SUMMARY:Bean FC VS. OG Magic
DESCRIPTION:League Name: Sparta Soccer 2020/21-Session I-Men's Open\nGame T
 ype: Regular\nGame Status: Complete\nHome Team: Bean FC\nAway Team: OG Mag
 ic\nHome Score: 4\nAway Score: 5
END:VEVENT
BEGIN:VEVENT
UID:13463867@ezleagues.ezfacility.com
DTSTAMP:20260424T012926Z
CREATED:20260424T012926Z
DTSTART:20210104T013000Z
DTEND:20210104T021200Z
LOCATION:7v7 Field #2
CONTACT:Mesanovic 
SUMMARY:OG Magic VS. Realest
DESCRIPTION:League Name: Sparta Soccer 2020/21-Session I-Men's Open\nGame T
 ype: Regular\nGame Status: Complete\nHome Team: OG Magic\nAway Team: Reale
 st\nHome Score: 6\nAway Score: 3
END:VEVENT
END:VCALENDAR
