BEGIN:VCALENDAR
VERSION:2.0
PRODID:-//EZFacility.com, Inc.//EZL 2.5.5.28621
BEGIN:VEVENT
UID:13444909@ezleagues.ezfacility.com
DTSTAMP:20260422T233610Z
CREATED:20260422T233610Z
DTSTART:20210102T173000Z
DTEND:20210102T183000Z
LOCATION:EAD Gym Court 1
CONTACT:
SUMMARY:SC-DICKERSON VS. SC-DISHONGH
DESCRIPTION:League Name: 2020 Girls 9-10yr Basketball Division\nGame Type: 
 Regular\nGame Status: Pending\nHome Team: SC-DICKERSON\nAway Team: SC-DISH
 ONGH\n
END:VEVENT
BEGIN:VEVENT
UID:13444897@ezleagues.ezfacility.com
DTSTAMP:20260422T233610Z
CREATED:20260422T233610Z
DTSTART:20210109T173000Z
DTEND:20210109T183000Z
LOCATION:EAD Gym Court 1
CONTACT:
SUMMARY:SC-DICKERSON VS. SC-DISHONGH
DESCRIPTION:League Name: 2020 Girls 9-10yr Basketball Division\nGame Type: 
 Regular\nGame Status: Pending\nHome Team: SC-DICKERSON\nAway Team: SC-DISH
 ONGH\n
END:VEVENT
BEGIN:VEVENT
UID:13446088@ezleagues.ezfacility.com
DTSTAMP:20260422T233610Z
CREATED:20260422T233610Z
DTSTART:20210109T184500Z
DTEND:20210109T194500Z
LOCATION:EAD Gym Court 1
CONTACT:
SUMMARY:SC-DICKERSON VS. SC-DISHONGH
DESCRIPTION:League Name: 2020 Girls 9-10yr Basketball Division\nGame Type: 
 Regular\nGame Status: Pending\nHome Team: SC-DICKERSON\nAway Team: SC-DISH
 ONGH\n
END:VEVENT
BEGIN:VEVENT
UID:13444901@ezleagues.ezfacility.com
DTSTAMP:20260422T233610Z
CREATED:20260422T233610Z
DTSTART:20210112T234500Z
DTEND:20210113T004500Z
LOCATION:Landry GYM
CONTACT:
SUMMARY:SC-MITCHELL VS. SC-DISHONGH
DESCRIPTION:League Name: 2020 Girls 9-10yr Basketball Division\nGame Type: 
 Regular\nGame Status: Pending\nHome Team: SC-MITCHELL\nAway Team: SC-DISHO
 NGH\n
END:VEVENT
BEGIN:VEVENT
UID:13444903@ezleagues.ezfacility.com
DTSTAMP:20260422T233610Z
CREATED:20260422T233610Z
DTSTART:20210126T234500Z
DTEND:20210127T004500Z
LOCATION:Landry GYM
CONTACT:
SUMMARY:SC-DISHONGH VS. SC-DICKERSON
DESCRIPTION:League Name: 2020 Girls 9-10yr Basketball Division\nGame Type: 
 Regular\nGame Status: Pending\nHome Team: SC-DISHONGH\nAway Team: SC-DICKE
 RSON\n
END:VEVENT
BEGIN:VEVENT
UID:13446003@ezleagues.ezfacility.com
DTSTAMP:20260422T233610Z
CREATED:20260422T233610Z
DTSTART:20210130T173000Z
DTEND:20210130T183000Z
LOCATION:EAD Gym Court 1
CONTACT:
SUMMARY:SC-DISHONGH VS. SC-MITCHELL
DESCRIPTION:League Name: 2020 Girls 9-10yr Basketball Division\nGame Type: 
 Regular\nGame Status: Pending\nHome Team: SC-DISHONGH\nAway Team: SC-MITCH
 ELL\n
END:VEVENT
BEGIN:VEVENT
UID:13446089@ezleagues.ezfacility.com
DTSTAMP:20260422T233610Z
CREATED:20260422T233610Z
DTSTART:20210130T184500Z
DTEND:20210130T194500Z
LOCATION:EAD Gym Court 1
CONTACT:
SUMMARY:SC-DISHONGH VS. SC-MITCHELL
DESCRIPTION:League Name: 2020 Girls 9-10yr Basketball Division\nGame Type: 
 Regular\nGame Status: Pending\nHome Team: SC-DISHONGH\nAway Team: SC-MITCH
 ELL\n
END:VEVENT
BEGIN:VEVENT
UID:13444907@ezleagues.ezfacility.com
DTSTAMP:20260422T233610Z
CREATED:20260422T233610Z
DTSTART:20210209T234500Z
DTEND:20210210T004500Z
LOCATION:Landry GYM
CONTACT:
SUMMARY:SC-DISHONGH VS. SC-MITCHELL
DESCRIPTION:League Name: 2020 Girls 9-10yr Basketball Division\nGame Type: 
 Regular\nGame Status: Pending\nHome Team: SC-DISHONGH\nAway Team: SC-MITCH
 ELL\n
END:VEVENT
END:VCALENDAR
