BEGIN:VCALENDAR
VERSION:2.0
PRODID:-//EZFacility.com, Inc.//EZL 2.5.5.28621
BEGIN:VEVENT
UID:13446466@ezleagues.ezfacility.com
DTSTAMP:20260424T083854Z
CREATED:20260424T083854Z
DTSTART:20210106T234500Z
DTEND:20210107T004500Z
LOCATION:Landry GYM
CONTACT:
SUMMARY:Luling-Albert VS. Mimosa-Plaisance
DESCRIPTION:League Name: 2020 Boys 7yr Basketball Division\nGame Type: Regu
 lar\nGame Status: Pending\nHome Team: Luling-Albert\nAway Team: Mimosa-Pla
 isance\n
END:VEVENT
BEGIN:VEVENT
UID:13446470@ezleagues.ezfacility.com
DTSTAMP:20260424T083854Z
CREATED:20260424T083854Z
DTSTART:20210113T234500Z
DTEND:20210114T004500Z
LOCATION:Landry GYM
CONTACT:
SUMMARY:Mimosa-Plaisance VS. Mimosa-Cranford
DESCRIPTION:League Name: 2020 Boys 7yr Basketball Division\nGame Type: Regu
 lar\nGame Status: Pending\nHome Team: Mimosa-Plaisance\nAway Team: Mimosa-
 Cranford\n
END:VEVENT
BEGIN:VEVENT
UID:13446474@ezleagues.ezfacility.com
DTSTAMP:20260424T083854Z
CREATED:20260424T083854Z
DTSTART:20210120T234500Z
DTEND:20210121T004500Z
LOCATION:Sacred Heart 1
CONTACT:
SUMMARY:Norco VS. Mimosa-Plaisance
DESCRIPTION:League Name: 2020 Boys 7yr Basketball Division\nGame Type: Regu
 lar\nGame Status: Pending\nHome Team: Norco\nAway Team: Mimosa-Plaisance\n
END:VEVENT
BEGIN:VEVENT
UID:13446479@ezleagues.ezfacility.com
DTSTAMP:20260424T083854Z
CREATED:20260424T083854Z
DTSTART:20210128T010000Z
DTEND:20210128T020000Z
LOCATION:EAD Gym Court 1
CONTACT:
SUMMARY:Mimosa-Plaisance VS. Norco
DESCRIPTION:League Name: 2020 Boys 7yr Basketball Division\nGame Type: Regu
 lar\nGame Status: Pending\nHome Team: Mimosa-Plaisance\nAway Team: Norco\n
END:VEVENT
BEGIN:VEVENT
UID:13446482@ezleagues.ezfacility.com
DTSTAMP:20260424T083854Z
CREATED:20260424T083854Z
DTSTART:20210204T010000Z
DTEND:20210204T020000Z
LOCATION:Landry GYM
CONTACT:
SUMMARY:St.Rose VS. Mimosa-Plaisance
DESCRIPTION:League Name: 2020 Boys 7yr Basketball Division\nGame Type: Regu
 lar\nGame Status: Pending\nHome Team: St.Rose\nAway Team: Mimosa-Plaisance
 \n
END:VEVENT
BEGIN:VEVENT
UID:13446498@ezleagues.ezfacility.com
DTSTAMP:20260424T083854Z
CREATED:20260424T083854Z
DTSTART:20210206T173000Z
DTEND:20210206T183000Z
LOCATION:Sacred Heart 1
CONTACT:
SUMMARY:Destrehan-Pierre VS. Mimosa-Plaisance
DESCRIPTION:League Name: 2020 Boys 7yr Basketball Division\nGame Type: Regu
 lar\nGame Status: Pending\nHome Team: Destrehan-Pierre\nAway Team: Mimosa-
 Plaisance\n
END:VEVENT
BEGIN:VEVENT
UID:13446486@ezleagues.ezfacility.com
DTSTAMP:20260424T083854Z
CREATED:20260424T083854Z
DTSTART:20210211T010000Z
DTEND:20210211T020000Z
LOCATION:Landry GYM
CONTACT:
SUMMARY:Mimosa-Plaisance VS. St.Rose
DESCRIPTION:League Name: 2020 Boys 7yr Basketball Division\nGame Type: Regu
 lar\nGame Status: Pending\nHome Team: Mimosa-Plaisance\nAway Team: St.Rose
 \n
END:VEVENT
BEGIN:VEVENT
UID:13446490@ezleagues.ezfacility.com
DTSTAMP:20260424T083854Z
CREATED:20260424T083854Z
DTSTART:20210220T150000Z
DTEND:20210220T160000Z
LOCATION:Landry GYM
CONTACT:
SUMMARY:Mimosa-Plaisance VS. Mimosa-Cranford
DESCRIPTION:League Name: 2020 Boys 7yr Basketball Division\nGame Type: Regu
 lar\nGame Status: Pending\nHome Team: Mimosa-Plaisance\nAway Team: Mimosa-
 Cranford\n
END:VEVENT
END:VCALENDAR
