BEGIN:VCALENDAR
VERSION:2.0
PRODID:-//EZFacility.com, Inc.//EZL 2.5.5.28621
BEGIN:VEVENT
UID:13457506@ezleagues.ezfacility.com
DTSTAMP:20260422T022332Z
CREATED:20260422T022332Z
DTSTART:20210107T234500Z
DTEND:20210108T004500Z
LOCATION:Sacred Heart 1
CONTACT:
SUMMARY:Destrehan-Johnson VS. Norco-Cozzo
DESCRIPTION:League Name: 2020 Boys 11-12 yr Basketball Division\nGame Type:
  Regular\nGame Status: Pending\nHome Team: Destrehan-Johnson\nAway Team: N
 orco-Cozzo\n
END:VEVENT
BEGIN:VEVENT
UID:13457516@ezleagues.ezfacility.com
DTSTAMP:20260422T022332Z
CREATED:20260422T022332Z
DTSTART:20210109T184500Z
DTEND:20210109T194500Z
LOCATION:Sacred Heart 1
CONTACT:
SUMMARY:Destrehan-Johnson VS. St.Rose
DESCRIPTION:League Name: 2020 Boys 11-12 yr Basketball Division\nGame Type:
  Regular\nGame Status: Pending\nHome Team: Destrehan-Johnson\nAway Team: S
 t.Rose\n
END:VEVENT
BEGIN:VEVENT
UID:13457507@ezleagues.ezfacility.com
DTSTAMP:20260422T022332Z
CREATED:20260422T022332Z
DTSTART:20210114T234500Z
DTEND:20210115T004500Z
LOCATION:Landry GYM
CONTACT:
SUMMARY:Hahnville/Killona VS. Destrehan-Johnson
DESCRIPTION:League Name: 2020 Boys 11-12 yr Basketball Division\nGame Type:
  Regular\nGame Status: Pending\nHome Team: Hahnville/Killona\nAway Team: D
 estrehan-Johnson\n
END:VEVENT
BEGIN:VEVENT
UID:13457508@ezleagues.ezfacility.com
DTSTAMP:20260422T022332Z
CREATED:20260422T022332Z
DTSTART:20210121T234500Z
DTEND:20210122T004500Z
LOCATION:Sacred Heart 1
CONTACT:
SUMMARY:Destrehan-Johnson VS. Mimosa-Teague 
DESCRIPTION:League Name: 2020 Boys 11-12 yr Basketball Division\nGame Type:
  Regular\nGame Status: Rescheduled\nHome Team: Destrehan-Johnson\nAway Tea
 m: Mimosa-Teague \n
END:VEVENT
BEGIN:VEVENT
UID:13457514@ezleagues.ezfacility.com
DTSTAMP:20260422T022332Z
CREATED:20260422T022332Z
DTSTART:20210123T184500Z
DTEND:20210123T194500Z
LOCATION:RK Smith GYM
CONTACT:
SUMMARY:Mimosa-Burns VS. Destrehan-Johnson
DESCRIPTION:League Name: 2020 Boys 11-12 yr Basketball Division\nGame Type:
  Regular\nGame Status: Pending\nHome Team: Mimosa-Burns\nAway Team: Destre
 han-Johnson\n
END:VEVENT
BEGIN:VEVENT
UID:13457509@ezleagues.ezfacility.com
DTSTAMP:20260422T022332Z
CREATED:20260422T022332Z
DTSTART:20210129T010000Z
DTEND:20210129T020000Z
LOCATION:Sacred Heart 1
CONTACT:
SUMMARY:Destrehan-Johnson VS. Luling-Catania
DESCRIPTION:League Name: 2020 Boys 11-12 yr Basketball Division\nGame Type:
  Regular\nGame Status: Pending\nHome Team: Destrehan-Johnson\nAway Team: L
 uling-Catania\n
END:VEVENT
BEGIN:VEVENT
UID:13457510@ezleagues.ezfacility.com
DTSTAMP:20260422T022332Z
CREATED:20260422T022332Z
DTSTART:20210205T010000Z
DTEND:20210205T020000Z
LOCATION:Sacred Heart 1
CONTACT:
SUMMARY:Destrehan-Carrigee VS. Destrehan-Johnson
DESCRIPTION:League Name: 2020 Boys 11-12 yr Basketball Division\nGame Type:
  Regular\nGame Status: Pending\nHome Team: Destrehan-Carrigee\nAway Team: 
 Destrehan-Johnson\n
END:VEVENT
BEGIN:VEVENT
UID:13457515@ezleagues.ezfacility.com
DTSTAMP:20260422T022332Z
CREATED:20260422T022332Z
DTSTART:20210206T184500Z
DTEND:20210206T194500Z
LOCATION:Sacred Heart 1
CONTACT:
SUMMARY:Norco-Robicheaux VS. Destrehan-Johnson
DESCRIPTION:League Name: 2020 Boys 11-12 yr Basketball Division\nGame Type:
  Regular\nGame Status: Pending\nHome Team: Norco-Robicheaux\nAway Team: De
 strehan-Johnson\n
END:VEVENT
BEGIN:VEVENT
UID:13457511@ezleagues.ezfacility.com
DTSTAMP:20260422T022332Z
CREATED:20260422T022332Z
DTSTART:20210212T010000Z
DTEND:20210212T020000Z
LOCATION:Landry GYM
CONTACT:
SUMMARY:Des Allemands VS. Destrehan-Johnson
DESCRIPTION:League Name: 2020 Boys 11-12 yr Basketball Division\nGame Type:
  Regular\nGame Status: Pending\nHome Team: Des Allemands\nAway Team: Destr
 ehan-Johnson\n
END:VEVENT
BEGIN:VEVENT
UID:13557892@ezleagues.ezfacility.com
DTSTAMP:20260422T022332Z
CREATED:20260422T022332Z
DTSTART:20210213T150000Z
DTEND:20210213T160000Z
LOCATION:EAD Gym Court 2
CONTACT:
SUMMARY:Destrehan-Johnson VS. Mimosa-Teague 
DESCRIPTION:League Name: 2020 Boys 11-12 yr Basketball Division\nGame Type:
  Regular\nGame Status: Pending\nHome Team: Destrehan-Johnson\nAway Team: M
 imosa-Teague \n
END:VEVENT
END:VCALENDAR
