BEGIN:VCALENDAR
VERSION:2.0
PRODID:-//EZFacility.com, Inc.//EZL 2.5.5.28621
BEGIN:VEVENT
UID:13465969@ezleagues.ezfacility.com
DTSTAMP:20260424T044152Z
CREATED:20260424T044152Z
DTSTART:20201204T002000Z
DTEND:20201204T004000Z
LOCATION:LTA
CONTACT:
SUMMARY:Running Boards VS. Cornhub
DESCRIPTION:League Name: Winter 1 - Recreational Adult Cornhole\nGame Type:
  Regular\nGame Status: Complete\nHome Team: Running Boards\nAway Team: Cor
 nhub\nHome Score: 2\nAway Score: 1
END:VEVENT
BEGIN:VEVENT
UID:13465973@ezleagues.ezfacility.com
DTSTAMP:20260424T044152Z
CREATED:20260424T044152Z
DTSTART:20201204T010000Z
DTEND:20201204T012000Z
LOCATION:LTA
CONTACT:
SUMMARY:Rams VS. Running Boards
DESCRIPTION:League Name: Winter 1 - Recreational Adult Cornhole\nGame Type:
  Regular\nGame Status: Complete\nHome Team: Rams\nAway Team: Running Board
 s\nHome Score: 0\nAway Score: 2
END:VEVENT
BEGIN:VEVENT
UID:13465977@ezleagues.ezfacility.com
DTSTAMP:20260424T044152Z
CREATED:20260424T044152Z
DTSTART:20201204T014000Z
DTEND:20201204T020000Z
LOCATION:LTA
CONTACT:
SUMMARY:Running Boards VS. Skillet Lickers
DESCRIPTION:League Name: Winter 1 - Recreational Adult Cornhole\nGame Type:
  Regular\nGame Status: Complete\nHome Team: Running Boards\nAway Team: Ski
 llet Lickers\nHome Score: 0\nAway Score: 2
END:VEVENT
BEGIN:VEVENT
UID:13478029@ezleagues.ezfacility.com
DTSTAMP:20260424T044152Z
CREATED:20260424T044152Z
DTSTART:20201211T000000Z
DTEND:20201211T002000Z
LOCATION:LTA
CONTACT:
SUMMARY:The Hole Enchilada VS. Running Boards
DESCRIPTION:League Name: Winter 1 - Recreational Adult Cornhole\nGame Type:
  Regular\nGame Status: Complete\nHome Team: The Hole Enchilada\nAway Team:
  Running Boards\nHome Score: 2\nAway Score: 0
END:VEVENT
BEGIN:VEVENT
UID:13478054@ezleagues.ezfacility.com
DTSTAMP:20260424T044152Z
CREATED:20260424T044152Z
DTSTART:20201211T004000Z
DTEND:20201211T010000Z
LOCATION:LTA
CONTACT:
SUMMARY:Running Boards VS. Rhino Chasers
DESCRIPTION:League Name: Winter 1 - Recreational Adult Cornhole\nGame Type:
  Regular\nGame Status: Complete\nHome Team: Running Boards\nAway Team: Rhi
 no Chasers\nHome Score: 2\nAway Score: 0
END:VEVENT
BEGIN:VEVENT
UID:13478056@ezleagues.ezfacility.com
DTSTAMP:20260424T044152Z
CREATED:20260424T044152Z
DTSTART:20201211T012000Z
DTEND:20201211T014000Z
LOCATION:LTA
CONTACT:
SUMMARY:Cornstar Unicorns VS. Running Boards
DESCRIPTION:League Name: Winter 1 - Recreational Adult Cornhole\nGame Type:
  Regular\nGame Status: Complete\nHome Team: Cornstar Unicorns\nAway Team: 
 Running Boards\nHome Score: 2\nAway Score: 1
END:VEVENT
BEGIN:VEVENT
UID:13488746@ezleagues.ezfacility.com
DTSTAMP:20260424T044152Z
CREATED:20260424T044152Z
DTSTART:20201218T002000Z
DTEND:20201218T004000Z
LOCATION:LTA
CONTACT:
SUMMARY:Rosa VS. Running Boards
DESCRIPTION:League Name: Winter 1 - Recreational Adult Cornhole\nGame Type:
  Regular\nGame Status: Complete\nHome Team: Rosa\nAway Team: Running Board
 s\nHome Score: 2\nAway Score: 0
END:VEVENT
BEGIN:VEVENT
UID:13488751@ezleagues.ezfacility.com
DTSTAMP:20260424T044152Z
CREATED:20260424T044152Z
DTSTART:20201218T010000Z
DTEND:20201218T012000Z
LOCATION:LTA
CONTACT:
SUMMARY:Running Boards VS. Cornhub
DESCRIPTION:League Name: Winter 1 - Recreational Adult Cornhole\nGame Type:
  Regular\nGame Status: Complete\nHome Team: Running Boards\nAway Team: Cor
 nhub\nHome Score: 0\nAway Score: 2
END:VEVENT
BEGIN:VEVENT
UID:13488755@ezleagues.ezfacility.com
DTSTAMP:20260424T044152Z
CREATED:20260424T044152Z
DTSTART:20201218T014000Z
DTEND:20201218T020000Z
LOCATION:LTA
CONTACT:
SUMMARY:Rams VS. Running Boards
DESCRIPTION:League Name: Winter 1 - Recreational Adult Cornhole\nGame Type:
  Regular\nGame Status: Complete\nHome Team: Rams\nAway Team: Running Board
 s\nHome Score: 1\nAway Score: 2
END:VEVENT
BEGIN:VEVENT
UID:13507496@ezleagues.ezfacility.com
DTSTAMP:20260424T044152Z
CREATED:20260424T044152Z
DTSTART:20210108T000000Z
DTEND:20210108T002000Z
LOCATION:LTA
CONTACT:
SUMMARY:Running Boards VS. Skillet Lickers
DESCRIPTION:League Name: Winter 1 - Recreational Adult Cornhole\nGame Type:
  Regular\nGame Status: Complete\nHome Team: Running Boards\nAway Team: Ski
 llet Lickers\nHome Score: 2\nAway Score: 0
END:VEVENT
BEGIN:VEVENT
UID:13507497@ezleagues.ezfacility.com
DTSTAMP:20260424T044152Z
CREATED:20260424T044152Z
DTSTART:20210108T004000Z
DTEND:20210108T010000Z
LOCATION:LTA
CONTACT:
SUMMARY:The Hole Enchilada VS. Running Boards
DESCRIPTION:League Name: Winter 1 - Recreational Adult Cornhole\nGame Type:
  Regular\nGame Status: Complete\nHome Team: The Hole Enchilada\nAway Team:
  Running Boards\nHome Score: 0\nAway Score: 2
END:VEVENT
BEGIN:VEVENT
UID:13507527@ezleagues.ezfacility.com
DTSTAMP:20260424T044152Z
CREATED:20260424T044152Z
DTSTART:20210108T012000Z
DTEND:20210108T014000Z
LOCATION:LTA
CONTACT:
SUMMARY:Running Boards VS. Rhino Chasers
DESCRIPTION:League Name: Winter 1 - Recreational Adult Cornhole\nGame Type:
  Regular\nGame Status: Complete\nHome Team: Running Boards\nAway Team: Rhi
 no Chasers\nHome Score: 2\nAway Score: 0
END:VEVENT
BEGIN:VEVENT
UID:13507529@ezleagues.ezfacility.com
DTSTAMP:20260424T044152Z
CREATED:20260424T044152Z
DTSTART:20210115T002000Z
DTEND:20210115T004000Z
LOCATION:LTA
CONTACT:
SUMMARY:Cornstar Unicorns VS. Running Boards
DESCRIPTION:League Name: Winter 1 - Recreational Adult Cornhole\nGame Type:
  Regular\nGame Status: Complete\nHome Team: Cornstar Unicorns\nAway Team: 
 Running Boards\nHome Score: 0\nAway Score: 2
END:VEVENT
BEGIN:VEVENT
UID:13507535@ezleagues.ezfacility.com
DTSTAMP:20260424T044152Z
CREATED:20260424T044152Z
DTSTART:20210115T010000Z
DTEND:20210115T012000Z
LOCATION:LTA
CONTACT:
SUMMARY:Rosa VS. Running Boards
DESCRIPTION:League Name: Winter 1 - Recreational Adult Cornhole\nGame Type:
  Regular\nGame Status: Complete\nHome Team: Rosa\nAway Team: Running Board
 s\nHome Score: 2\nAway Score: 0
END:VEVENT
BEGIN:VEVENT
UID:13507540@ezleagues.ezfacility.com
DTSTAMP:20260424T044152Z
CREATED:20260424T044152Z
DTSTART:20210115T014000Z
DTEND:20210115T020000Z
LOCATION:LTA
CONTACT:
SUMMARY:Running Boards VS. Cornhub
DESCRIPTION:League Name: Winter 1 - Recreational Adult Cornhole\nGame Type:
  Regular\nGame Status: Complete\nHome Team: Running Boards\nAway Team: Cor
 nhub\nHome Score: 0\nAway Score: 2
END:VEVENT
BEGIN:VEVENT
UID:13541749@ezleagues.ezfacility.com
DTSTAMP:20260424T044152Z
CREATED:20260424T044152Z
DTSTART:20210122T002000Z
DTEND:20210122T004000Z
LOCATION:LTA
CONTACT:
SUMMARY:Running Boards VS. The Hole Enchilada
DESCRIPTION:League Name: Winter 1 - Recreational Adult Cornhole\nGame Type:
  Postseason\nGame Status: Pending\nHome Team: Running Boards\nAway Team: T
 he Hole Enchilada\n
END:VEVENT
END:VCALENDAR
