BEGIN:VCALENDAR
VERSION:2.0
PRODID:-//EZFacility.com, Inc.//EZL 2.5.5.28621
BEGIN:VEVENT
UID:13472296@ezleagues.ezfacility.com
DTSTAMP:20260424T044337Z
CREATED:20260424T044337Z
DTSTART:20201211T014500Z
DTEND:20201211T023500Z
LOCATION:Sand Court 2
CONTACT:
SUMMARY:Smacks VS. Wasteland Warriors
DESCRIPTION:League Name: Thursday Sand Co-ed 6's LB/C Winter 21\nGame Type:
  Regular\nGame Status: Complete\nHome Team: Smacks\nAway Team: Wasteland W
 arriors\nHome Score: 1\nAway Score: 2
END:VEVENT
BEGIN:VEVENT
UID:13472302@ezleagues.ezfacility.com
DTSTAMP:20260424T044337Z
CREATED:20260424T044337Z
DTSTART:20201218T014500Z
DTEND:20201218T023500Z
LOCATION:Sand Court 2
CONTACT:
SUMMARY:Unsafe Sets VS. Smacks
DESCRIPTION:League Name: Thursday Sand Co-ed 6's LB/C Winter 21\nGame Type:
  Regular\nGame Status: Complete\nHome Team: Unsafe Sets\nAway Team: Smacks
 \nHome Score: 0\nAway Score: 3
END:VEVENT
BEGIN:VEVENT
UID:13472315@ezleagues.ezfacility.com
DTSTAMP:20260424T044337Z
CREATED:20260424T044337Z
DTSTART:20210107T231500Z
DTEND:20210108T000500Z
LOCATION:Sand Court 2
CONTACT:
SUMMARY:The Challengers VS. Smacks
DESCRIPTION:League Name: Thursday Sand Co-ed 6's LB/C Winter 21\nGame Type:
  Regular\nGame Status: Complete\nHome Team: The Challengers\nAway Team: Sm
 acks\nHome Score: 1\nAway Score: 2
END:VEVENT
BEGIN:VEVENT
UID:13472323@ezleagues.ezfacility.com
DTSTAMP:20260424T044337Z
CREATED:20260424T044337Z
DTSTART:20210122T000500Z
DTEND:20210122T005500Z
LOCATION:Sand Court 2
CONTACT:
SUMMARY:Smacks VS. Alpha Kenny One
DESCRIPTION:League Name: Thursday Sand Co-ed 6's LB/C Winter 21\nGame Type:
  Regular\nGame Status: Complete\nHome Team: Smacks\nAway Team: Alpha Kenny
  One\nHome Score: 2\nAway Score: 1
END:VEVENT
BEGIN:VEVENT
UID:13472329@ezleagues.ezfacility.com
DTSTAMP:20260424T044337Z
CREATED:20260424T044337Z
DTSTART:20210129T005500Z
DTEND:20210129T014500Z
LOCATION:Sand Court 2
CONTACT:
SUMMARY:Bump\, set\, COVID! VS. Smacks
DESCRIPTION:League Name: Thursday Sand Co-ed 6's LB/C Winter 21\nGame Type:
  Regular\nGame Status: Complete\nHome Team: Bump, set, COVID!\nAway Team: 
 Smacks\nHome Score: 1\nAway Score: 2
END:VEVENT
BEGIN:VEVENT
UID:13472335@ezleagues.ezfacility.com
DTSTAMP:20260424T044337Z
CREATED:20260424T044337Z
DTSTART:20210205T000500Z
DTEND:20210205T005500Z
LOCATION:Sand Court 2
CONTACT:
SUMMARY:Smacks VS. Setsaholics Anonymous
DESCRIPTION:League Name: Thursday Sand Co-ed 6's LB/C Winter 21\nGame Type:
  Regular\nGame Status: Complete\nHome Team: Smacks\nAway Team: Setsaholics
  Anonymous\nHome Score: 0\nAway Score: 3
END:VEVENT
BEGIN:VEVENT
UID:13472307@ezleagues.ezfacility.com
DTSTAMP:20260424T044337Z
CREATED:20260424T044337Z
DTSTART:20210212T000500Z
DTEND:20210212T005500Z
LOCATION:Sand Court 2
CONTACT:
SUMMARY:Dinkers VS. Smacks
DESCRIPTION:League Name: Thursday Sand Co-ed 6's LB/C Winter 21\nGame Type:
  Regular\nGame Status: Complete\nHome Team: Dinkers\nAway Team: Smacks\nHo
 me Score: 2\nAway Score: 1
END:VEVENT
BEGIN:VEVENT
UID:13472311@ezleagues.ezfacility.com
DTSTAMP:20260424T044337Z
CREATED:20260424T044337Z
DTSTART:20210219T005500Z
DTEND:20210219T014500Z
LOCATION:Sand Court 2
CONTACT:
SUMMARY:Smacks VS. Bumpin Uglies
DESCRIPTION:League Name: Thursday Sand Co-ed 6's LB/C Winter 21\nGame Type:
  Regular\nGame Status: Complete\nHome Team: Smacks\nAway Team: Bumpin Ugli
 es\nHome Score: 0\nAway Score: 3
END:VEVENT
BEGIN:VEVENT
UID:13500370@ezleagues.ezfacility.com
DTSTAMP:20260424T044337Z
CREATED:20260424T044337Z
DTSTART:20210226T023000Z
DTEND:20210226T033000Z
LOCATION:Sand Court 2
CONTACT:
SUMMARY:Wasteland Warriors VS. Smacks
DESCRIPTION:League Name: Thursday Sand Co-ed 6's LB/C Winter 21\nGame Type:
  Postseason\nGame Status: Complete\nHome Team: Wasteland Warriors\nAway Te
 am: Smacks\nHome Score: 2\nAway Score: 0
END:VEVENT
END:VCALENDAR
