BEGIN:VCALENDAR
VERSION:2.0
PRODID:-//EZFacility.com, Inc.//EZL 2.5.5.28621
BEGIN:VEVENT
UID:13486572@ezleagues.ezfacility.com
DTSTAMP:20260421T080024Z
CREATED:20260421T080024Z
DTSTART:20201211T011000Z
DTEND:20201211T020000Z
LOCATION:Sand Court 1
CONTACT:
SUMMARY:Hennything is Possible VS. Spiked Eggnog
DESCRIPTION:League Name: Thursday Sand Co-ed 6's UB/B Winter 21\nGame Type:
  Regular\nGame Status: Complete\nHome Team: Hennything is Possible\nAway T
 eam: Spiked Eggnog\nHome Score: 2\nAway Score: 1
END:VEVENT
BEGIN:VEVENT
UID:13486576@ezleagues.ezfacility.com
DTSTAMP:20260421T080024Z
CREATED:20260421T080024Z
DTSTART:20201218T002000Z
DTEND:20201218T011000Z
LOCATION:Sand Court 1
CONTACT:
SUMMARY:Spiked Eggnog VS. Dat Ace Doe
DESCRIPTION:League Name: Thursday Sand Co-ed 6's UB/B Winter 21\nGame Type:
  Regular\nGame Status: Complete\nHome Team: Spiked Eggnog\nAway Team: Dat 
 Ace Doe\nHome Score: 1\nAway Score: 2
END:VEVENT
BEGIN:VEVENT
UID:13486592@ezleagues.ezfacility.com
DTSTAMP:20260421T080024Z
CREATED:20260421T080024Z
DTSTART:20210107T233000Z
DTEND:20210108T002000Z
LOCATION:Sand Court 1
CONTACT:
SUMMARY:Spiked Eggnog VS. Sandy Zips
DESCRIPTION:League Name: Thursday Sand Co-ed 6's UB/B Winter 21\nGame Type:
  Regular\nGame Status: Complete\nHome Team: Spiked Eggnog\nAway Team: Sand
 y Zips\nHome Score: 0\nAway Score: 3
END:VEVENT
BEGIN:VEVENT
UID:13486598@ezleagues.ezfacility.com
DTSTAMP:20260421T080024Z
CREATED:20260421T080024Z
DTSTART:20210115T002000Z
DTEND:20210115T011000Z
LOCATION:Sand Court 1
CONTACT:
SUMMARY:Bumpin Uglies VS. Spiked Eggnog
DESCRIPTION:League Name: Thursday Sand Co-ed 6's UB/B Winter 21\nGame Type:
  Regular\nGame Status: Complete\nHome Team: Bumpin Uglies\nAway Team: Spik
 ed Eggnog\nHome Score: 3\nAway Score: 0
END:VEVENT
BEGIN:VEVENT
UID:13486604@ezleagues.ezfacility.com
DTSTAMP:20260421T080024Z
CREATED:20260421T080024Z
DTSTART:20210122T011000Z
DTEND:20210122T020000Z
LOCATION:Sand Court 1
CONTACT:
SUMMARY:Little Dogs VS. Spiked Eggnog
DESCRIPTION:League Name: Thursday Sand Co-ed 6's UB/B Winter 21\nGame Type:
  Regular\nGame Status: Complete\nHome Team: Little Dogs\nAway Team: Spiked
  Eggnog\nHome Score: 2\nAway Score: 1
END:VEVENT
BEGIN:VEVENT
UID:13486609@ezleagues.ezfacility.com
DTSTAMP:20260421T080024Z
CREATED:20260421T080024Z
DTSTART:20210129T020000Z
DTEND:20210129T025000Z
LOCATION:Sand Court 1
CONTACT:
SUMMARY:Spiked Eggnog VS. Volley My Balls
DESCRIPTION:League Name: Thursday Sand Co-ed 6's UB/B Winter 21\nGame Type:
  Regular\nGame Status: Complete\nHome Team: Spiked Eggnog\nAway Team: Voll
 ey My Balls\nHome Score: 1\nAway Score: 2
END:VEVENT
BEGIN:VEVENT
UID:13486613@ezleagues.ezfacility.com
DTSTAMP:20260421T080024Z
CREATED:20260421T080024Z
DTSTART:20210205T011000Z
DTEND:20210205T020000Z
LOCATION:Sand Court 1
CONTACT:
SUMMARY:Sand In My Crack VS. Spiked Eggnog
DESCRIPTION:League Name: Thursday Sand Co-ed 6's UB/B Winter 21\nGame Type:
  Regular\nGame Status: Complete\nHome Team: Sand In My Crack\nAway Team: S
 piked Eggnog\nHome Score: 2\nAway Score: 1
END:VEVENT
BEGIN:VEVENT
UID:13486580@ezleagues.ezfacility.com
DTSTAMP:20260421T080024Z
CREATED:20260421T080024Z
DTSTART:20210212T020000Z
DTEND:20210212T025000Z
LOCATION:Sand Court 1
CONTACT:
SUMMARY:Spiked Eggnog VS. Ball Busters
DESCRIPTION:League Name: Thursday Sand Co-ed 6's UB/B Winter 21\nGame Type:
  Regular\nGame Status: Complete\nHome Team: Spiked Eggnog\nAway Team: Ball
  Busters\nHome Score: 3\nAway Score: 0
END:VEVENT
BEGIN:VEVENT
UID:13500343@ezleagues.ezfacility.com
DTSTAMP:20260421T080024Z
CREATED:20260421T080024Z
DTSTART:20210226T010000Z
DTEND:20210226T014500Z
LOCATION:Sand Court 1
CONTACT:
SUMMARY:Bumpin Uglies VS. Spiked Eggnog
DESCRIPTION:League Name: Thursday Sand Co-ed 6's UB/B Winter 21\nGame Type:
  Postseason\nGame Status: Pending\nHome Team: Bumpin Uglies\nAway Team: Sp
 iked Eggnog\n
END:VEVENT
BEGIN:VEVENT
UID:13500347@ezleagues.ezfacility.com
DTSTAMP:20260421T080024Z
CREATED:20260421T080024Z
DTSTART:20210305T001500Z
DTEND:20210305T010000Z
LOCATION:Sand Court 1
CONTACT:
SUMMARY:Spiked Eggnog VS. Dat Ace Doe
DESCRIPTION:League Name: Thursday Sand Co-ed 6's UB/B Winter 21\nGame Type:
  Postseason\nGame Status: Pending\nHome Team: Spiked Eggnog\nAway Team: Da
 t Ace Doe\n
END:VEVENT
END:VCALENDAR
