BEGIN:VCALENDAR
VERSION:2.0
PRODID:-//EZFacility.com, Inc.//EZL 2.5.5.28621
BEGIN:VEVENT
UID:13512608@ezleagues.ezfacility.com
DTSTAMP:20260421T030918Z
CREATED:20260421T030918Z
DTSTART:20210106T024500Z
DTEND:20210106T033000Z
LOCATION:Soccer Hub Field
CONTACT:
SUMMARY:Gotta have Faith VS. Fear the Trees
DESCRIPTION:League Name: Tuesday Co-Ed Intermediate  Winter 2021\nGame Type
 : Regular\nGame Status: Complete\nHome Team: Gotta have Faith\nAway Team: 
 Fear the Trees\nHome Score: 30\nAway Score: 22
END:VEVENT
BEGIN:VEVENT
UID:13522194@ezleagues.ezfacility.com
DTSTAMP:20260421T030918Z
CREATED:20260421T030918Z
DTSTART:20210120T024500Z
DTEND:20210120T033000Z
LOCATION:Soccer Hub Field
CONTACT:
SUMMARY:Fear the Trees VS. Soccerholics
DESCRIPTION:League Name: Tuesday Co-Ed Intermediate  Winter 2021\nGame Type
 : Regular\nGame Status: Complete\nHome Team: Fear the Trees\nAway Team: So
 ccerholics\nHome Score: 23\nAway Score: 27
END:VEVENT
BEGIN:VEVENT
UID:13541734@ezleagues.ezfacility.com
DTSTAMP:20260421T030918Z
CREATED:20260421T030918Z
DTSTART:20210127T033000Z
DTEND:20210127T041500Z
LOCATION:Soccer Hub Field
CONTACT:
SUMMARY:Fear the Trees VS. FC Mediocre
DESCRIPTION:League Name: Tuesday Co-Ed Intermediate  Winter 2021\nGame Type
 : Regular\nGame Status: Complete\nHome Team: Fear the Trees\nAway Team: FC
  Mediocre\nHome Score: 18\nAway Score: 27
END:VEVENT
BEGIN:VEVENT
UID:13541737@ezleagues.ezfacility.com
DTSTAMP:20260421T030918Z
CREATED:20260421T030918Z
DTSTART:20210203T033000Z
DTEND:20210203T041500Z
LOCATION:Soccer Hub Field
CONTACT:
SUMMARY:Suad Goals VS. Fear the Trees
DESCRIPTION:League Name: Tuesday Co-Ed Intermediate  Winter 2021\nGame Type
 : Regular\nGame Status: Complete\nHome Team: Suad Goals\nAway Team: Fear t
 he Trees\nHome Score: 32\nAway Score: 20
END:VEVENT
BEGIN:VEVENT
UID:13541741@ezleagues.ezfacility.com
DTSTAMP:20260421T030918Z
CREATED:20260421T030918Z
DTSTART:20210210T020000Z
DTEND:20210210T024500Z
LOCATION:Soccer Hub Field
CONTACT:
SUMMARY:Fear the Trees VS. Cheeky's Chipmonks
DESCRIPTION:League Name: Tuesday Co-Ed Intermediate  Winter 2021\nGame Type
 : Regular\nGame Status: Complete\nHome Team: Fear the Trees\nAway Team: Ch
 eeky's Chipmonks\nHome Score: 26\nAway Score: 43
END:VEVENT
BEGIN:VEVENT
UID:13541756@ezleagues.ezfacility.com
DTSTAMP:20260421T030918Z
CREATED:20260421T030918Z
DTSTART:20210224T020000Z
DTEND:20210224T024500Z
LOCATION:Soccer Hub Field
CONTACT:
SUMMARY:Happy Hour VS. Fear the Trees
DESCRIPTION:League Name: Tuesday Co-Ed Intermediate  Winter 2021\nGame Type
 : Regular\nGame Status: Complete\nHome Team: Happy Hour\nAway Team: Fear t
 he Trees\nHome Score: 24\nAway Score: 19
END:VEVENT
END:VCALENDAR
