BEGIN:VCALENDAR
VERSION:2.0
PRODID:-//EZFacility.com, Inc.//EZL 2.5.5.28621
BEGIN:VEVENT
UID:13512131@ezleagues.ezfacility.com
DTSTAMP:20260419T133827Z
CREATED:20260419T133827Z
DTSTART:20210105T230500Z
DTEND:20210105T235500Z
LOCATION:Volleyball Court 4
CONTACT:
SUMMARY:SMD II VS. Pandemic SERVEivors II
DESCRIPTION:League Name: Tuesday Int. VB GOLD PLUS Jan. 2021\nGame Type: Re
 gular\nGame Status: Complete\nHome Team: SMD II\nAway Team: Pandemic SERVE
 ivors II\nHome Score: 0\nAway Score: 2
END:VEVENT
BEGIN:VEVENT
UID:13512153@ezleagues.ezfacility.com
DTSTAMP:20260419T133827Z
CREATED:20260419T133827Z
DTSTART:20210106T004500Z
DTEND:20210106T013500Z
LOCATION:Volleyball Court 3
CONTACT:
SUMMARY:Pandemic SERVEivors II VS. Big Ole Hitties II
DESCRIPTION:League Name: Tuesday Int. VB GOLD PLUS Jan. 2021\nGame Type: Re
 gular\nGame Status: Complete\nHome Team: Pandemic SERVEivors II\nAway Team
 : Big Ole Hitties II\nHome Score: 0\nAway Score: 2
END:VEVENT
BEGIN:VEVENT
UID:13524950@ezleagues.ezfacility.com
DTSTAMP:20260419T133827Z
CREATED:20260419T133827Z
DTSTART:20210113T022500Z
DTEND:20210113T031500Z
LOCATION:Volleyball Court 4
CONTACT:
SUMMARY:Pandemic SERVEivors II VS. I'd Hit That II
DESCRIPTION:League Name: Tuesday Int. VB GOLD PLUS Jan. 2021\nGame Type: Re
 gular\nGame Status: Complete\nHome Team: Pandemic SERVEivors II\nAway Team
 : I'd Hit That II\nHome Score: 1\nAway Score: 2
END:VEVENT
BEGIN:VEVENT
UID:13524957@ezleagues.ezfacility.com
DTSTAMP:20260419T133827Z
CREATED:20260419T133827Z
DTSTART:20210113T031500Z
DTEND:20210113T040500Z
LOCATION:Volleyball Court 2
CONTACT:
SUMMARY:Pandemic SERVEivors II VS. Serves You Right 
DESCRIPTION:League Name: Tuesday Int. VB GOLD PLUS Jan. 2021\nGame Type: Re
 gular\nGame Status: Complete\nHome Team: Pandemic SERVEivors II\nAway Team
 : Serves You Right \nHome Score: 2\nAway Score: 0
END:VEVENT
BEGIN:VEVENT
UID:13543736@ezleagues.ezfacility.com
DTSTAMP:20260419T133827Z
CREATED:20260419T133827Z
DTSTART:20210119T230500Z
DTEND:20210119T235500Z
LOCATION:Volleyball Court 4
CONTACT:
SUMMARY:Pandemic SERVEivors II VS. Rachel's Team 
DESCRIPTION:League Name: Tuesday Int. VB GOLD PLUS Jan. 2021\nGame Type: Re
 gular\nGame Status: Complete\nHome Team: Pandemic SERVEivors II\nAway Team
 : Rachel's Team \nHome Score: 2\nAway Score: 0
END:VEVENT
BEGIN:VEVENT
UID:13543738@ezleagues.ezfacility.com
DTSTAMP:20260419T133827Z
CREATED:20260419T133827Z
DTSTART:20210119T235500Z
DTEND:20210120T004500Z
LOCATION:Volleyball Court 1
CONTACT:
SUMMARY:Pandemic SERVEivors II VS. HOGGIES II
DESCRIPTION:League Name: Tuesday Int. VB GOLD PLUS Jan. 2021\nGame Type: Re
 gular\nGame Status: Complete\nHome Team: Pandemic SERVEivors II\nAway Team
 : HOGGIES II\nHome Score: 2\nAway Score: 0
END:VEVENT
BEGIN:VEVENT
UID:13547076@ezleagues.ezfacility.com
DTSTAMP:20260419T133827Z
CREATED:20260419T133827Z
DTSTART:20210127T031500Z
DTEND:20210127T040500Z
LOCATION:Volleyball Court 2
CONTACT:
SUMMARY:Willy Nilly II VS. Pandemic SERVEivors II
DESCRIPTION:League Name: Tuesday Int. VB GOLD PLUS Jan. 2021\nGame Type: Re
 gular\nGame Status: Complete\nHome Team: Willy Nilly II\nAway Team: Pandem
 ic SERVEivors II\nHome Score: 0\nAway Score: 2
END:VEVENT
BEGIN:VEVENT
UID:13547370@ezleagues.ezfacility.com
DTSTAMP:20260419T133827Z
CREATED:20260419T133827Z
DTSTART:20210202T230500Z
DTEND:20210202T235500Z
LOCATION:Volleyball Court 3
CONTACT:
SUMMARY:That Team Bee Yatch II VS. Pandemic SERVEivors II
DESCRIPTION:League Name: Tuesday Int. VB GOLD PLUS Jan. 2021\nGame Type: Re
 gular\nGame Status: Complete\nHome Team: That Team Bee Yatch II\nAway Team
 : Pandemic SERVEivors II\nHome Score: 0\nAway Score: 2
END:VEVENT
BEGIN:VEVENT
UID:13547373@ezleagues.ezfacility.com
DTSTAMP:20260419T133827Z
CREATED:20260419T133827Z
DTSTART:20210202T235500Z
DTEND:20210203T004500Z
LOCATION:Volleyball Court 1
CONTACT:
SUMMARY:Face of Ace II VS. Pandemic SERVEivors II
DESCRIPTION:League Name: Tuesday Int. VB GOLD PLUS Jan. 2021\nGame Type: Re
 gular\nGame Status: Complete\nHome Team: Face of Ace II\nAway Team: Pandem
 ic SERVEivors II\nHome Score: 1\nAway Score: 2
END:VEVENT
BEGIN:VEVENT
UID:13547940@ezleagues.ezfacility.com
DTSTAMP:20260419T133827Z
CREATED:20260419T133827Z
DTSTART:20210210T013500Z
DTEND:20210210T022500Z
LOCATION:Volleyball Court 1
CONTACT:
SUMMARY:PanCake'd II VS. Pandemic SERVEivors II
DESCRIPTION:League Name: Tuesday Int. VB GOLD PLUS Jan. 2021\nGame Type: Re
 gular\nGame Status: Complete\nHome Team: PanCake'd II\nAway Team: Pandemic
  SERVEivors II\nHome Score: 1\nAway Score: 2
END:VEVENT
BEGIN:VEVENT
UID:13547948@ezleagues.ezfacility.com
DTSTAMP:20260419T133827Z
CREATED:20260419T133827Z
DTSTART:20210210T022500Z
DTEND:20210210T031500Z
LOCATION:Volleyball Court 4
CONTACT:
SUMMARY:Heaters Only II VS. Pandemic SERVEivors II
DESCRIPTION:League Name: Tuesday Int. VB GOLD PLUS Jan. 2021\nGame Type: Re
 gular\nGame Status: Complete\nHome Team: Heaters Only II\nAway Team: Pande
 mic SERVEivors II\nHome Score: 0\nAway Score: 2
END:VEVENT
BEGIN:VEVENT
UID:13550610@ezleagues.ezfacility.com
DTSTAMP:20260419T133827Z
CREATED:20260419T133827Z
DTSTART:20210216T235500Z
DTEND:20210217T004500Z
LOCATION:Volleyball Court 2
CONTACT:
SUMMARY:Thank u Nets II VS. Pandemic SERVEivors II
DESCRIPTION:League Name: Tuesday Int. VB GOLD PLUS Jan. 2021\nGame Type: Re
 gular\nGame Status: Complete\nHome Team: Thank u Nets II\nAway Team: Pande
 mic SERVEivors II\nHome Score: 0\nAway Score: 2
END:VEVENT
BEGIN:VEVENT
UID:13550616@ezleagues.ezfacility.com
DTSTAMP:20260419T133827Z
CREATED:20260419T133827Z
DTSTART:20210217T004500Z
DTEND:20210217T013500Z
LOCATION:Volleyball Court 2
CONTACT:
SUMMARY:We Prefer Sun and Sand II VS. Pandemic SERVEivors II
DESCRIPTION:League Name: Tuesday Int. VB GOLD PLUS Jan. 2021\nGame Type: Re
 gular\nGame Status: Complete\nHome Team: We Prefer Sun and Sand II\nAway T
 eam: Pandemic SERVEivors II\nHome Score: 1\nAway Score: 2
END:VEVENT
BEGIN:VEVENT
UID:13550689@ezleagues.ezfacility.com
DTSTAMP:20260419T133827Z
CREATED:20260419T133827Z
DTSTART:20210224T013500Z
DTEND:20210224T022500Z
LOCATION:Volleyball Court 5
CONTACT:
SUMMARY:Nitty Gritty Committee  VS. Pandemic SERVEivors II
DESCRIPTION:League Name: Tuesday Int. VB GOLD PLUS Jan. 2021\nGame Type: Re
 gular\nGame Status: Complete\nHome Team: Nitty Gritty Committee \nAway Tea
 m: Pandemic SERVEivors II\nHome Score: 2\nAway Score: 1
END:VEVENT
BEGIN:VEVENT
UID:13550692@ezleagues.ezfacility.com
DTSTAMP:20260419T133827Z
CREATED:20260419T133827Z
DTSTART:20210224T022500Z
DTEND:20210224T031500Z
LOCATION:Volleyball Court 3
CONTACT:
SUMMARY:Mother Pluggers VS. Pandemic SERVEivors II
DESCRIPTION:League Name: Tuesday Int. VB GOLD PLUS Jan. 2021\nGame Type: Re
 gular\nGame Status: Complete\nHome Team: Mother Pluggers\nAway Team: Pande
 mic SERVEivors II\nHome Score: 0\nAway Score: 2
END:VEVENT
BEGIN:VEVENT
UID:13604607@ezleagues.ezfacility.com
DTSTAMP:20260419T133827Z
CREATED:20260419T133827Z
DTSTART:20210303T013500Z
DTEND:20210303T022500Z
LOCATION:Volleyball Court 3
CONTACT:
SUMMARY:Pandemic SERVEivors II VS. Thank u Nets II
DESCRIPTION:League Name: Tuesday Int. VB GOLD PLUS Jan. 2021\nGame Type: Po
 stseason\nGame Status: Pending\nHome Team: Pandemic SERVEivors II\nAway Te
 am: Thank u Nets II\n
END:VEVENT
END:VCALENDAR
