BEGIN:VCALENDAR
VERSION:2.0
PRODID:-//EZFacility.com, Inc.//EZL 2.5.5.28621
BEGIN:VEVENT
UID:13512178@ezleagues.ezfacility.com
DTSTAMP:20260420T190406Z
CREATED:20260420T190406Z
DTSTART:20210106T013500Z
DTEND:20210106T022500Z
LOCATION:Volleyball Court 1
CONTACT:
SUMMARY:Tombstone VS. Willy Nilly I
DESCRIPTION:League Name: Tuesday Int. VB BLACK PLUS Jan. 2021\nGame Type: R
 egular\nGame Status: Complete\nHome Team: Tombstone\nAway Team: Willy Nill
 y I\nHome Score: 0\nAway Score: 2
END:VEVENT
BEGIN:VEVENT
UID:13512186@ezleagues.ezfacility.com
DTSTAMP:20260420T190406Z
CREATED:20260420T190406Z
DTSTART:20210106T022500Z
DTEND:20210106T031500Z
LOCATION:Volleyball Court 2
CONTACT:
SUMMARY:Tombstone VS. Pandemic SERVEivors I
DESCRIPTION:League Name: Tuesday Int. VB BLACK PLUS Jan. 2021\nGame Type: R
 egular\nGame Status: Complete\nHome Team: Tombstone\nAway Team: Pandemic S
 ERVEivors I\nHome Score: 1\nAway Score: 2
END:VEVENT
BEGIN:VEVENT
UID:13524666@ezleagues.ezfacility.com
DTSTAMP:20260420T190406Z
CREATED:20260420T190406Z
DTSTART:20210112T230500Z
DTEND:20210112T235500Z
LOCATION:Volleyball Court 5
CONTACT:
SUMMARY:Dinker Baby\, Dont You Kill Me VS. Tombstone
DESCRIPTION:League Name: Tuesday Int. VB BLACK PLUS Jan. 2021\nGame Type: R
 egular\nGame Status: Complete\nHome Team: Dinker Baby, Dont You Kill Me\nA
 way Team: Tombstone\nHome Score: 0\nAway Score: 2
END:VEVENT
BEGIN:VEVENT
UID:13524671@ezleagues.ezfacility.com
DTSTAMP:20260420T190406Z
CREATED:20260420T190406Z
DTSTART:20210112T235500Z
DTEND:20210113T004500Z
LOCATION:Volleyball Court 5
CONTACT:
SUMMARY:Tombstone VS. PanCake'd I
DESCRIPTION:League Name: Tuesday Int. VB BLACK PLUS Jan. 2021\nGame Type: R
 egular\nGame Status: Complete\nHome Team: Tombstone\nAway Team: PanCake'd 
 I\nHome Score: 0\nAway Score: 2
END:VEVENT
BEGIN:VEVENT
UID:13543857@ezleagues.ezfacility.com
DTSTAMP:20260420T190406Z
CREATED:20260420T190406Z
DTSTART:20210120T022500Z
DTEND:20210120T031500Z
LOCATION:Volleyball Court 3
CONTACT:
SUMMARY:Tombstone VS. We Prefer Sun and Sand I
DESCRIPTION:League Name: Tuesday Int. VB BLACK PLUS Jan. 2021\nGame Type: R
 egular\nGame Status: Complete\nHome Team: Tombstone\nAway Team: We Prefer 
 Sun and Sand I\nHome Score: 0\nAway Score: 2
END:VEVENT
BEGIN:VEVENT
UID:13543867@ezleagues.ezfacility.com
DTSTAMP:20260420T190406Z
CREATED:20260420T190406Z
DTSTART:20210120T031500Z
DTEND:20210120T040500Z
LOCATION:Volleyball Court 5
CONTACT:
SUMMARY:Tombstone VS. That Team Bee Yatch I
DESCRIPTION:League Name: Tuesday Int. VB BLACK PLUS Jan. 2021\nGame Type: R
 egular\nGame Status: Complete\nHome Team: Tombstone\nAway Team: That Team 
 Bee Yatch I\nHome Score: 0\nAway Score: 2
END:VEVENT
BEGIN:VEVENT
UID:13546973@ezleagues.ezfacility.com
DTSTAMP:20260420T190406Z
CREATED:20260420T190406Z
DTSTART:20210126T230500Z
DTEND:20210126T235500Z
LOCATION:Volleyball Court 3
CONTACT:
SUMMARY:Tombstone VS. Heaters Only I
DESCRIPTION:League Name: Tuesday Int. VB BLACK PLUS Jan. 2021\nGame Type: R
 egular\nGame Status: Complete\nHome Team: Tombstone\nAway Team: Heaters On
 ly I\nHome Score: 2\nAway Score: 0
END:VEVENT
BEGIN:VEVENT
UID:13546979@ezleagues.ezfacility.com
DTSTAMP:20260420T190406Z
CREATED:20260420T190406Z
DTSTART:20210126T235500Z
DTEND:20210127T004500Z
LOCATION:Volleyball Court 4
CONTACT:
SUMMARY:Tombstone VS. Big Ole Hitties I
DESCRIPTION:League Name: Tuesday Int. VB BLACK PLUS Jan. 2021\nGame Type: R
 egular\nGame Status: Complete\nHome Team: Tombstone\nAway Team: Big Ole Hi
 tties I\nHome Score: 0\nAway Score: 2
END:VEVENT
BEGIN:VEVENT
UID:13547397@ezleagues.ezfacility.com
DTSTAMP:20260420T190406Z
CREATED:20260420T190406Z
DTSTART:20210203T022500Z
DTEND:20210203T031500Z
LOCATION:Volleyball Court 4
CONTACT:
SUMMARY:Tombstone VS. Face of Ace
DESCRIPTION:League Name: Tuesday Int. VB BLACK PLUS Jan. 2021\nGame Type: R
 egular\nGame Status: Complete\nHome Team: Tombstone\nAway Team: Face of Ac
 e\nHome Score: 0\nAway Score: 2
END:VEVENT
BEGIN:VEVENT
UID:13547408@ezleagues.ezfacility.com
DTSTAMP:20260420T190406Z
CREATED:20260420T190406Z
DTSTART:20210203T031500Z
DTEND:20210203T040500Z
LOCATION:Volleyball Court 5
CONTACT:
SUMMARY:Thank u Nets I VS. Tombstone
DESCRIPTION:League Name: Tuesday Int. VB BLACK PLUS Jan. 2021\nGame Type: R
 egular\nGame Status: Complete\nHome Team: Thank u Nets I\nAway Team: Tombs
 tone\nHome Score: 0\nAway Score: 2
END:VEVENT
BEGIN:VEVENT
UID:13547929@ezleagues.ezfacility.com
DTSTAMP:20260420T190406Z
CREATED:20260420T190406Z
DTSTART:20210209T230500Z
DTEND:20210209T235500Z
LOCATION:Volleyball Court 5
CONTACT:
SUMMARY:Tombstone VS. Will Work For Sets
DESCRIPTION:League Name: Tuesday Int. VB BLACK PLUS Jan. 2021\nGame Type: R
 egular\nGame Status: Complete\nHome Team: Tombstone\nAway Team: Will Work 
 For Sets\nHome Score: 0\nAway Score: 2
END:VEVENT
BEGIN:VEVENT
UID:13550651@ezleagues.ezfacility.com
DTSTAMP:20260420T190406Z
CREATED:20260420T190406Z
DTSTART:20210217T013500Z
DTEND:20210217T022500Z
LOCATION:Volleyball Court 5
CONTACT:
SUMMARY:Tombstone VS. HOGGIES I
DESCRIPTION:League Name: Tuesday Int. VB BLACK PLUS Jan. 2021\nGame Type: R
 egular\nGame Status: Complete\nHome Team: Tombstone\nAway Team: HOGGIES I\
 nHome Score: 0\nAway Score: 2
END:VEVENT
BEGIN:VEVENT
UID:13550662@ezleagues.ezfacility.com
DTSTAMP:20260420T190406Z
CREATED:20260420T190406Z
DTSTART:20210217T031500Z
DTEND:20210217T040500Z
LOCATION:Volleyball Court 5
CONTACT:
SUMMARY:I'd Hit That I VS. Tombstone
DESCRIPTION:League Name: Tuesday Int. VB BLACK PLUS Jan. 2021\nGame Type: R
 egular\nGame Status: Complete\nHome Team: I'd Hit That I\nAway Team: Tombs
 tone\nHome Score: 2\nAway Score: 0
END:VEVENT
BEGIN:VEVENT
UID:13550673@ezleagues.ezfacility.com
DTSTAMP:20260420T190406Z
CREATED:20260420T190406Z
DTSTART:20210223T230500Z
DTEND:20210223T235500Z
LOCATION:Volleyball Court 4
CONTACT:
SUMMARY:Tombstone VS. SMD I
DESCRIPTION:League Name: Tuesday Int. VB BLACK PLUS Jan. 2021\nGame Type: R
 egular\nGame Status: Complete\nHome Team: Tombstone\nAway Team: SMD I\nHom
 e Score: 2\nAway Score: 0
END:VEVENT
BEGIN:VEVENT
UID:13550680@ezleagues.ezfacility.com
DTSTAMP:20260420T190406Z
CREATED:20260420T190406Z
DTSTART:20210224T004500Z
DTEND:20210224T013500Z
LOCATION:Volleyball Court 1
CONTACT:
SUMMARY:Micro Sets  VS. Tombstone
DESCRIPTION:League Name: Tuesday Int. VB BLACK PLUS Jan. 2021\nGame Type: R
 egular\nGame Status: Complete\nHome Team: Micro Sets \nAway Team: Tombston
 e\nHome Score: 2\nAway Score: 1
END:VEVENT
BEGIN:VEVENT
UID:13604421@ezleagues.ezfacility.com
DTSTAMP:20260420T190406Z
CREATED:20260420T190406Z
DTSTART:20210302T230500Z
DTEND:20210302T235500Z
LOCATION:Volleyball Court 4
CONTACT:
SUMMARY:Face of Ace VS. Tombstone
DESCRIPTION:League Name: Tuesday Int. VB BLACK PLUS Jan. 2021\nGame Type: P
 ostseason\nGame Status: Pending\nHome Team: Face of Ace\nAway Team: Tombst
 one\n
END:VEVENT
END:VCALENDAR
