BEGIN:VCALENDAR
VERSION:2.0
PRODID:-//EZFacility.com, Inc.//EZL 2.5.5.28621
BEGIN:VEVENT
UID:13518488@ezleagues.ezfacility.com
DTSTAMP:20260426T035132Z
CREATED:20260426T035132Z
DTSTART:20210103T175500Z
DTEND:20210103T184500Z
LOCATION:Blue Field
CONTACT:
SUMMARY:Amherst Aftershock VS. Kenmore Blue Devils
DESCRIPTION:League Name: Winter B Soccer Session (2021) - U15/16 Boys Divis
 ion\nGame Type: Regular\nGame Status: Complete\nHome Team: Amherst Aftersh
 ock\nAway Team: Kenmore Blue Devils\nHome Score: 0\nAway Score: 2
END:VEVENT
BEGIN:VEVENT
UID:13518552@ezleagues.ezfacility.com
DTSTAMP:20260426T035132Z
CREATED:20260426T035132Z
DTSTART:20210116T014000Z
DTEND:20210116T023000Z
LOCATION:Blue Field
CONTACT:
SUMMARY:NWAA Wolves '06/'07 Black VS. Amherst Aftershock
DESCRIPTION:League Name: Winter B Soccer Session (2021) - U15/16 Boys Divis
 ion\nGame Type: Regular\nGame Status: Complete\nHome Team: NWAA Wolves '06
 /'07 Black\nAway Team: Amherst Aftershock\nHome Score: 0\nAway Score: 2
END:VEVENT
BEGIN:VEVENT
UID:13518536@ezleagues.ezfacility.com
DTSTAMP:20260426T035132Z
CREATED:20260426T035132Z
DTSTART:20210131T142500Z
DTEND:20210131T151500Z
LOCATION:Blue Field
CONTACT:
SUMMARY:NWAA Wolves '06/'07 Red VS. Amherst Aftershock
DESCRIPTION:League Name: Winter B Soccer Session (2021) - U15/16 Boys Divis
 ion\nGame Type: Regular\nGame Status: Complete\nHome Team: NWAA Wolves '06
 /'07 Red\nAway Team: Amherst Aftershock\nHome Score: 3\nAway Score: 1
END:VEVENT
BEGIN:VEVENT
UID:13518496@ezleagues.ezfacility.com
DTSTAMP:20260426T035132Z
CREATED:20260426T035132Z
DTSTART:20210215T014500Z
DTEND:20210215T023500Z
LOCATION:Red Field
CONTACT:
SUMMARY:Amherst Aftershock VS. DSC United
DESCRIPTION:League Name: Winter B Soccer Session (2021) - U15/16 Boys Divis
 ion\nGame Type: Regular\nGame Status: Complete\nHome Team: Amherst Aftersh
 ock\nAway Team: DSC United\nHome Score: 2\nAway Score: 5
END:VEVENT
BEGIN:VEVENT
UID:13518560@ezleagues.ezfacility.com
DTSTAMP:20260426T035132Z
CREATED:20260426T035132Z
DTSTART:20210227T014000Z
DTEND:20210227T023000Z
LOCATION:Blue Field
CONTACT:
SUMMARY:GI Vikings U16 - Hofmeyer VS. Amherst Aftershock
DESCRIPTION:League Name: Winter B Soccer Session (2021) - U15/16 Boys Divis
 ion\nGame Type: Regular\nGame Status: Complete\nHome Team: GI Vikings U16 
 - Hofmeyer\nAway Team: Amherst Aftershock\nHome Score: 2\nAway Score: 1
END:VEVENT
BEGIN:VEVENT
UID:13518528@ezleagues.ezfacility.com
DTSTAMP:20260426T035132Z
CREATED:20260426T035132Z
DTSTART:20210307T204500Z
DTEND:20210307T213500Z
LOCATION:Red Field
CONTACT:
SUMMARY:NPAL Revolution Red VS. Amherst Aftershock
DESCRIPTION:League Name: Winter B Soccer Session (2021) - U15/16 Boys Divis
 ion\nGame Type: Regular\nGame Status: Complete\nHome Team: NPAL Revolution
  Red\nAway Team: Amherst Aftershock\nHome Score: 2\nAway Score: 1
END:VEVENT
BEGIN:VEVENT
UID:13518544@ezleagues.ezfacility.com
DTSTAMP:20260426T035132Z
CREATED:20260426T035132Z
DTSTART:20210321T175500Z
DTEND:20210321T184500Z
LOCATION:Blue Field
CONTACT:
SUMMARY:GI Vikings U15 McMann VS. Amherst Aftershock
DESCRIPTION:League Name: Winter B Soccer Session (2021) - U15/16 Boys Divis
 ion\nGame Type: Regular\nGame Status: Complete\nHome Team: GI Vikings U15 
 McMann\nAway Team: Amherst Aftershock\nHome Score: 0\nAway Score: 2
END:VEVENT
BEGIN:VEVENT
UID:13518520@ezleagues.ezfacility.com
DTSTAMP:20260426T035132Z
CREATED:20260426T035132Z
DTSTART:20210328T214500Z
DTEND:20210328T223500Z
LOCATION:Red Field
CONTACT:
SUMMARY:Amherst Aftershock VS. NPAL Riot
DESCRIPTION:League Name: Winter B Soccer Session (2021) - U15/16 Boys Divis
 ion\nGame Type: Regular\nGame Status: Complete\nHome Team: Amherst Aftersh
 ock\nAway Team: NPAL Riot\nHome Score: 3\nAway Score: 4
END:VEVENT
BEGIN:VEVENT
UID:13518504@ezleagues.ezfacility.com
DTSTAMP:20260426T035132Z
CREATED:20260426T035132Z
DTSTART:20210411T234000Z
DTEND:20210412T003000Z
LOCATION:Blue Field
CONTACT:
SUMMARY:Amherst Aftershock VS. NPAL Revolution Black
DESCRIPTION:League Name: Winter B Soccer Session (2021) - U15/16 Boys Divis
 ion\nGame Type: Regular\nGame Status: Complete\nHome Team: Amherst Aftersh
 ock\nAway Team: NPAL Revolution Black\nHome Score: 0\nAway Score: 6
END:VEVENT
BEGIN:VEVENT
UID:13518512@ezleagues.ezfacility.com
DTSTAMP:20260426T035132Z
CREATED:20260426T035132Z
DTSTART:20210418T205500Z
DTEND:20210418T214500Z
LOCATION:Blue Field
CONTACT:
SUMMARY:Amherst Aftershock VS. Buffalo Rush 2006
DESCRIPTION:League Name: Winter B Soccer Session (2021) - U15/16 Boys Divis
 ion\nGame Type: Regular\nGame Status: Complete\nHome Team: Amherst Aftersh
 ock\nAway Team: Buffalo Rush 2006\nHome Score: 3\nAway Score: 4
END:VEVENT
BEGIN:VEVENT
UID:13626519@ezleagues.ezfacility.com
DTSTAMP:20260426T035132Z
CREATED:20260426T035132Z
DTSTART:20210502T180000Z
DTEND:20210502T185000Z
LOCATION:Red Field
CONTACT:
SUMMARY:Amherst Aftershock VS. Tonawanda Thunder
DESCRIPTION:League Name: Winter B Soccer Session (2021) - U15/16 Boys Divis
 ion\nGame Type: Postseason\nGame Status: Complete\nHome Team: Amherst Afte
 rshock\nAway Team: Tonawanda Thunder\nHome Score: 1\nAway Score: 4
END:VEVENT
BEGIN:VEVENT
UID:13626527@ezleagues.ezfacility.com
DTSTAMP:20260426T035132Z
CREATED:20260426T035132Z
DTSTART:20210509T213000Z
DTEND:20210509T222000Z
LOCATION:Blue Field
CONTACT:
SUMMARY:NWAA Wolves '06/'07 Red VS. Amherst Aftershock
DESCRIPTION:League Name: Winter B Soccer Session (2021) - U15/16 Boys Divis
 ion\nGame Type: Postseason\nGame Status: Complete\nHome Team: NWAA Wolves 
 '06/'07 Red\nAway Team: Amherst Aftershock\nHome Score: 3\nAway Score: 0
END:VEVENT
END:VCALENDAR
