BEGIN:VCALENDAR
VERSION:2.0
PRODID:-//EZFacility.com, Inc.//EZL 2.5.5.28621
BEGIN:VEVENT
UID:13542721@ezleagues.ezfacility.com
DTSTAMP:20260420T070204Z
CREATED:20260420T070204Z
DTSTART:20210130T130000Z
DTEND:20210130T140000Z
LOCATION:Northfield Half (A & B)
CONTACT:
SUMMARY:Chagrin Falls/Go2Goal VS. Solon White
DESCRIPTION:League Name: U10 Boys (2011)-Winter Session II\nGame Type: Regu
 lar\nGame Status: Complete\nHome Team: Chagrin Falls/Go2Goal\nAway Team: S
 olon White\nHome Score: 3\nAway Score: 0
END:VEVENT
BEGIN:VEVENT
UID:13542728@ezleagues.ezfacility.com
DTSTAMP:20260420T070204Z
CREATED:20260420T070204Z
DTSTART:20210206T200000Z
DTEND:20210206T210000Z
LOCATION:Northfield Half (A & B)
CONTACT:
SUMMARY:Solon White VS. ESK - Mask
DESCRIPTION:League Name: U10 Boys (2011)-Winter Session II\nGame Type: Regu
 lar\nGame Status: Complete\nHome Team: Solon White\nAway Team: ESK - Mask\
 nHome Score: 2\nAway Score: 3
END:VEVENT
BEGIN:VEVENT
UID:13542738@ezleagues.ezfacility.com
DTSTAMP:20260420T070204Z
CREATED:20260420T070204Z
DTSTART:20210207T190000Z
DTEND:20210207T200000Z
LOCATION:Richmond Back Field
CONTACT:
SUMMARY:Solon White VS. Moreland Hills Maniacs FC
DESCRIPTION:League Name: U10 Boys (2011)-Winter Session II\nGame Type: Regu
 lar\nGame Status: Complete\nHome Team: Solon White\nAway Team: Moreland Hi
 lls Maniacs FC\nHome Score: 0\nAway Score: 5
END:VEVENT
BEGIN:VEVENT
UID:13542733@ezleagues.ezfacility.com
DTSTAMP:20260420T070204Z
CREATED:20260420T070204Z
DTSTART:20210213T200000Z
DTEND:20210213T210000Z
LOCATION:Northfield Half (C & D)
CONTACT:
SUMMARY:Solon White VS. Hudson Blue (MS)
DESCRIPTION:League Name: U10 Boys (2011)-Winter Session II\nGame Type: Regu
 lar\nGame Status: Complete\nHome Team: Solon White\nAway Team: Hudson Blue
  (MS)\nHome Score: 0\nAway Score: 8
END:VEVENT
BEGIN:VEVENT
UID:13542745@ezleagues.ezfacility.com
DTSTAMP:20260420T070204Z
CREATED:20260420T070204Z
DTSTART:20210227T140000Z
DTEND:20210227T150000Z
LOCATION:Northfield Half (C & D)
CONTACT:
SUMMARY:Solon White VS. Willoughby
DESCRIPTION:League Name: U10 Boys (2011)-Winter Session II\nGame Type: Regu
 lar\nGame Status: Complete\nHome Team: Solon White\nAway Team: Willoughby\
 nHome Score: 3\nAway Score: 1
END:VEVENT
BEGIN:VEVENT
UID:13542750@ezleagues.ezfacility.com
DTSTAMP:20260420T070204Z
CREATED:20260420T070204Z
DTSTART:20210306T150000Z
DTEND:20210306T160000Z
LOCATION:Northfield Half (C & D)
CONTACT:
SUMMARY:Nordonia VS. Solon White
DESCRIPTION:League Name: U10 Boys (2011)-Winter Session II\nGame Type: Regu
 lar\nGame Status: Complete\nHome Team: Nordonia\nAway Team: Solon White\nH
 ome Score: 7\nAway Score: 1
END:VEVENT
BEGIN:VEVENT
UID:13542754@ezleagues.ezfacility.com
DTSTAMP:20260420T070204Z
CREATED:20260420T070204Z
DTSTART:20210313T130000Z
DTEND:20210313T140000Z
LOCATION:Northfield Half (C & D)
CONTACT:
SUMMARY:ESK - Mask VS. Solon White
DESCRIPTION:League Name: U10 Boys (2011)-Winter Session II\nGame Type: Regu
 lar\nGame Status: Complete\nHome Team: ESK - Mask\nAway Team: Solon White\
 nHome Score: 2\nAway Score: 2
END:VEVENT
BEGIN:VEVENT
UID:13542717@ezleagues.ezfacility.com
DTSTAMP:20260420T070204Z
CREATED:20260420T070204Z
DTSTART:20210320T150000Z
DTEND:20210320T160000Z
LOCATION:Northfield Half (A & B)
CONTACT:
SUMMARY:Twinsburg AC (JP) - Mask VS. Solon White
DESCRIPTION:League Name: U10 Boys (2011)-Winter Session II\nGame Type: Regu
 lar\nGame Status: Complete\nHome Team: Twinsburg AC (JP) - Mask\nAway Team
 : Solon White\nHome Score: 3\nAway Score: 2
END:VEVENT
END:VCALENDAR
