BEGIN:VCALENDAR
VERSION:2.0
PRODID:-//EZFacility.com, Inc.//EZL 2.5.5.28621
BEGIN:VEVENT
UID:13547606@ezleagues.ezfacility.com
DTSTAMP:20260423T103007Z
CREATED:20260423T103007Z
DTSTART:20210123T172000Z
DTEND:20210123T180200Z
LOCATION:5v5 Field #1
CONTACT:Maric (Mirko)
SUMMARY:A - DOFT VS. A - Panda Express FC
DESCRIPTION:League Name: Sparta Soccer 2020/21-Session II-Boys High School\
 nGame Type: Regular\nGame Status: Complete\nHome Team: A - DOFT\nAway Team
 : A - Panda Express FC\nHome Score: 6\nAway Score: 4
END:VEVENT
BEGIN:VEVENT
UID:13553844@ezleagues.ezfacility.com
DTSTAMP:20260423T103007Z
CREATED:20260423T103007Z
DTSTART:20210130T163000Z
DTEND:20210130T171200Z
LOCATION:5v5 Field 1A
CONTACT:Maric (Mirko)
SUMMARY:A - River Plate VS. A - DOFT
DESCRIPTION:League Name: Sparta Soccer 2020/21-Session II-Boys High School\
 nGame Type: Regular\nGame Status: Complete\nHome Team: A - River Plate\nAw
 ay Team: A - DOFT\nHome Score: 8\nAway Score: 7
END:VEVENT
BEGIN:VEVENT
UID:13572108@ezleagues.ezfacility.com
DTSTAMP:20260423T103007Z
CREATED:20260423T103007Z
DTSTART:20210206T163000Z
DTEND:20210206T171200Z
LOCATION:5v5 Field #3A
CONTACT:Maric (Mirko)
SUMMARY:A - DOFT VS. A - Panthers FC
DESCRIPTION:League Name: Sparta Soccer 2020/21-Session II-Boys High School\
 nGame Type: Regular\nGame Status: Complete\nHome Team: A - DOFT\nAway Team
 : A - Panthers FC\nHome Score: 3\nAway Score: 5
END:VEVENT
BEGIN:VEVENT
UID:13572146@ezleagues.ezfacility.com
DTSTAMP:20260423T103007Z
CREATED:20260423T103007Z
DTSTART:20210220T154000Z
DTEND:20210220T162200Z
LOCATION:5v5 Field 2A
CONTACT:Maric (Mirko)
SUMMARY:A - Borussia Duneland VS. A - DOFT
DESCRIPTION:League Name: Sparta Soccer 2020/21-Session II-Boys High School\
 nGame Type: Regular\nGame Status: Complete\nHome Team: A - Borussia Dunela
 nd\nAway Team: A - DOFT\nHome Score: 11\nAway Score: 7
END:VEVENT
BEGIN:VEVENT
UID:13573375@ezleagues.ezfacility.com
DTSTAMP:20260423T103007Z
CREATED:20260423T103007Z
DTSTART:20210220T163000Z
DTEND:20210220T171200Z
LOCATION:5v5 Field #3A
CONTACT:Maric (Mirko)
SUMMARY:A - DOFT VS. A - CP23
DESCRIPTION:League Name: Sparta Soccer 2020/21-Session II-Boys High School\
 nGame Type: Regular\nGame Status: Complete\nHome Team: A - DOFT\nAway Team
 : A - CP23\nHome Score: 3\nAway Score: 5
END:VEVENT
BEGIN:VEVENT
UID:13573394@ezleagues.ezfacility.com
DTSTAMP:20260423T103007Z
CREATED:20260423T103007Z
DTSTART:20210227T163000Z
DTEND:20210227T171200Z
LOCATION:5v5 Field #3A
CONTACT:Maric (Mirko)
SUMMARY:B - Trojans VS. A - DOFT
DESCRIPTION:League Name: Sparta Soccer 2020/21-Session II-Boys High School\
 nGame Type: Regular\nGame Status: Complete\nHome Team: B - Trojans\nAway T
 eam: A - DOFT\nHome Score: 4\nAway Score: 1
END:VEVENT
BEGIN:VEVENT
UID:13573406@ezleagues.ezfacility.com
DTSTAMP:20260423T103007Z
CREATED:20260423T103007Z
DTSTART:20210306T172000Z
DTEND:20210306T180200Z
LOCATION:5v5 Field #3A
CONTACT:Maric (Mirko)
SUMMARY:A - DOFT VS. A - River Plate
DESCRIPTION:League Name: Sparta Soccer 2020/21-Session II-Boys High School\
 nGame Type: Regular\nGame Status: Complete\nHome Team: A - DOFT\nAway Team
 : A - River Plate\nHome Score: 10\nAway Score: 2
END:VEVENT
END:VCALENDAR
