BEGIN:VCALENDAR
VERSION:2.0
PRODID:-//EZFacility.com, Inc.//EZL 2.5.5.28621
BEGIN:VEVENT
UID:13560339@ezleagues.ezfacility.com
DTSTAMP:20260419T160414Z
CREATED:20260419T160414Z
DTSTART:20210130T183000Z
DTEND:20210130T191000Z
LOCATION:SM Field 2
CONTACT:
SUMMARY:SoccerCity Yellow VS. SoccerCity Blue
DESCRIPTION:League Name: Boys U8 Recreational (4v4) (2014-2013) - Winter 2\
 nGame Type: Regular\nGame Status: Complete\nHome Team: SoccerCity Yellow\n
 Away Team: SoccerCity Blue\nHome Score: 5\nAway Score: 2
END:VEVENT
BEGIN:VEVENT
UID:13560355@ezleagues.ezfacility.com
DTSTAMP:20260419T160414Z
CREATED:20260419T160414Z
DTSTART:20210206T213000Z
DTEND:20210206T221000Z
LOCATION:SM Field 2
CONTACT:
SUMMARY:SoccerCity Yellow VS. Lil Sidekicks
DESCRIPTION:League Name: Boys U8 Recreational (4v4) (2014-2013) - Winter 2\
 nGame Type: Regular\nGame Status: Complete\nHome Team: SoccerCity Yellow\n
 Away Team: Lil Sidekicks\nHome Score: 9\nAway Score: 5
END:VEVENT
BEGIN:VEVENT
UID:13560346@ezleagues.ezfacility.com
DTSTAMP:20260419T160414Z
CREATED:20260419T160414Z
DTSTART:20210206T221500Z
DTEND:20210206T225500Z
LOCATION:SM Field 2
CONTACT:
SUMMARY:SoccerCity Yellow VS. RTBA
DESCRIPTION:League Name: Boys U8 Recreational (4v4) (2014-2013) - Winter 2\
 nGame Type: Regular\nGame Status: Complete\nHome Team: SoccerCity Yellow\n
 Away Team: RTBA\nHome Score: 3\nAway Score: 4
END:VEVENT
BEGIN:VEVENT
UID:13560364@ezleagues.ezfacility.com
DTSTAMP:20260419T160414Z
CREATED:20260419T160414Z
DTSTART:20210220T191500Z
DTEND:20210220T195500Z
LOCATION:SM Field 2
CONTACT:
SUMMARY:SoccerCity Yellow VS. SoccerCity Red
DESCRIPTION:League Name: Boys U8 Recreational (4v4) (2014-2013) - Winter 2\
 nGame Type: Regular\nGame Status: Complete\nHome Team: SoccerCity Yellow\n
 Away Team: SoccerCity Red\nHome Score: 2\nAway Score: 3
END:VEVENT
BEGIN:VEVENT
UID:13560373@ezleagues.ezfacility.com
DTSTAMP:20260419T160414Z
CREATED:20260419T160414Z
DTSTART:20210227T183000Z
DTEND:20210227T191000Z
LOCATION:SM Field 2
CONTACT:
SUMMARY:SoccerCity Green VS. SoccerCity Yellow
DESCRIPTION:League Name: Boys U8 Recreational (4v4) (2014-2013) - Winter 2\
 nGame Type: Regular\nGame Status: Complete\nHome Team: SoccerCity Green\nA
 way Team: SoccerCity Yellow\nHome Score: 2\nAway Score: 8
END:VEVENT
BEGIN:VEVENT
UID:13560381@ezleagues.ezfacility.com
DTSTAMP:20260419T160414Z
CREATED:20260419T160414Z
DTSTART:20210306T200000Z
DTEND:20210306T204000Z
LOCATION:SM Field 2
CONTACT:
SUMMARY:TSC 13 Navy VS. SoccerCity Yellow
DESCRIPTION:League Name: Boys U8 Recreational (4v4) (2014-2013) - Winter 2\
 nGame Type: Regular\nGame Status: Complete\nHome Team: TSC 13 Navy\nAway T
 eam: SoccerCity Yellow\nHome Score: 9\nAway Score: 5
END:VEVENT
BEGIN:VEVENT
UID:13560388@ezleagues.ezfacility.com
DTSTAMP:20260419T160414Z
CREATED:20260419T160414Z
DTSTART:20210313T213000Z
DTEND:20210313T221000Z
LOCATION:SM Field 2
CONTACT:
SUMMARY:SoccerCity Yellow VS. TSC 14
DESCRIPTION:League Name: Boys U8 Recreational (4v4) (2014-2013) - Winter 2\
 nGame Type: Regular\nGame Status: Complete\nHome Team: SoccerCity Yellow\n
 Away Team: TSC 14\nHome Score: 3\nAway Score: 6
END:VEVENT
BEGIN:VEVENT
UID:13560395@ezleagues.ezfacility.com
DTSTAMP:20260419T160414Z
CREATED:20260419T160414Z
DTSTART:20210320T181500Z
DTEND:20210320T185500Z
LOCATION:SM Field 2
CONTACT:
SUMMARY:SoccerCity Blue VS. SoccerCity Yellow
DESCRIPTION:League Name: Boys U8 Recreational (4v4) (2014-2013) - Winter 2\
 nGame Type: Regular\nGame Status: Complete\nHome Team: SoccerCity Blue\nAw
 ay Team: SoccerCity Yellow\nHome Score: 2\nAway Score: 1
END:VEVENT
END:VCALENDAR
